BEGIN:VCALENDAR
VERSION:2.0
PRODID:-//Lewisham Music - ECPv6.15.16//NONSGML v1.0//EN
CALSCALE:GREGORIAN
METHOD:PUBLISH
X-ORIGINAL-URL:https://lewishammusic.org
X-WR-CALDESC:Events for Lewisham Music
REFRESH-INTERVAL;VALUE=DURATION:PT1H
X-Robots-Tag:noindex
X-PUBLISHED-TTL:PT1H
BEGIN:VTIMEZONE
TZID:Europe/London
BEGIN:DAYLIGHT
TZOFFSETFROM:+0000
TZOFFSETTO:+0100
TZNAME:BST
DTSTART:20250330T010000
END:DAYLIGHT
BEGIN:STANDARD
TZOFFSETFROM:+0100
TZOFFSETTO:+0000
TZNAME:GMT
DTSTART:20251026T010000
END:STANDARD
BEGIN:DAYLIGHT
TZOFFSETFROM:+0000
TZOFFSETTO:+0100
TZNAME:BST
DTSTART:20260329T010000
END:DAYLIGHT
BEGIN:STANDARD
TZOFFSETFROM:+0100
TZOFFSETTO:+0000
TZNAME:GMT
DTSTART:20261025T010000
END:STANDARD
BEGIN:DAYLIGHT
TZOFFSETFROM:+0000
TZOFFSETTO:+0100
TZNAME:BST
DTSTART:20270328T010000
END:DAYLIGHT
BEGIN:STANDARD
TZOFFSETFROM:+0100
TZOFFSETTO:+0000
TZNAME:GMT
DTSTART:20271031T010000
END:STANDARD
END:VTIMEZONE
BEGIN:VEVENT
DTSTART;TZID=Europe/London:20260630T170000
DTEND;TZID=Europe/London:20260630T180000
DTSTAMP:20260422T221125
CREATED:20260305T213237Z
LAST-MODIFIED:20260305T213237Z
UID:16160-1782838800-1782842400@lewishammusic.org
SUMMARY:Taio's Takeover
DESCRIPTION:Music enthusiast/ creator/ producer\, Taio talks all things music\, and much more!
URL:https://lewishammusic.org/event/taios-takeover-17/
LOCATION:Radio Lewisham
CATEGORIES:Radio Lewisham schedule
END:VEVENT
BEGIN:VEVENT
DTSTART;TZID=Europe/London:20260630T190000
DTEND;TZID=Europe/London:20260630T200000
DTSTAMP:20260422T221125
CREATED:20260305T213452Z
LAST-MODIFIED:20260305T213452Z
UID:16203-1782846000-1782849600@lewishammusic.org
SUMMARY:77 WATTS
DESCRIPTION:Young emerging presenters from Midi Music Company take over the mic to discuss the things that matter to them most.
URL:https://lewishammusic.org/event/77-watts-17/
LOCATION:Radio Lewisham
CATEGORIES:Radio Lewisham schedule
END:VEVENT
BEGIN:VEVENT
DTSTART;TZID=Europe/London:20260701T120000
DTEND;TZID=Europe/London:20260701T130000
DTSTAMP:20260422T221125
CREATED:20260305T213653Z
LAST-MODIFIED:20260305T213653Z
UID:16246-1782907200-1782910800@lewishammusic.org
SUMMARY:Good Soup!
DESCRIPTION:Interviews with upcoming creatives as they are tasked to digest 3 levels of spicy Nigerian pepper soup.
URL:https://lewishammusic.org/event/good-soup-17/
LOCATION:Radio Lewisham
CATEGORIES:Radio Lewisham schedule
END:VEVENT
BEGIN:VEVENT
DTSTART;TZID=Europe/London:20260701T150000
DTEND;TZID=Europe/London:20260701T160000
DTSTAMP:20260422T221125
CREATED:20260305T213907Z
LAST-MODIFIED:20260305T213907Z
UID:16289-1782918000-1782921600@lewishammusic.org
SUMMARY:Indi’s Island Show
DESCRIPTION:Showcasing Caribbean music\, games and up to date news on the global diaspora.
URL:https://lewishammusic.org/event/indis-island-show-17/
LOCATION:Radio Lewisham
CATEGORIES:Radio Lewisham schedule
END:VEVENT
BEGIN:VEVENT
DTSTART;TZID=Europe/London:20260701T190000
DTEND;TZID=Europe/London:20260701T200000
DTSTAMP:20260422T221125
CREATED:20260305T214109Z
LAST-MODIFIED:20260305T214109Z
UID:16332-1782932400-1782936000@lewishammusic.org
SUMMARY:Lewisham Live and Local
DESCRIPTION:Your guide to the best venues\, events and emerging artists in the area.
URL:https://lewishammusic.org/event/lewisham-live-and-local-17/
LOCATION:Radio Lewisham
CATEGORIES:Radio Lewisham schedule
END:VEVENT
BEGIN:VEVENT
DTSTART;TZID=Europe/London:20260702T150000
DTEND;TZID=Europe/London:20260702T160000
DTSTAMP:20260422T221125
CREATED:20260305T214323Z
LAST-MODIFIED:20260305T214323Z
UID:16375-1783004400-1783008000@lewishammusic.org
SUMMARY:Siren Sounds
DESCRIPTION:A series of shows aiming to uplift women and gender diverse folk in music\, championing their individual contributions to the industry.
URL:https://lewishammusic.org/event/siren-sounds-17/
LOCATION:Radio Lewisham
CATEGORIES:Radio Lewisham schedule
END:VEVENT
BEGIN:VEVENT
DTSTART;TZID=Europe/London:20260702T170000
DTEND;TZID=Europe/London:20260702T180000
DTSTAMP:20260422T221125
CREATED:20260305T214536Z
LAST-MODIFIED:20260305T214536Z
UID:16418-1783011600-1783015200@lewishammusic.org
SUMMARY:Transportations w/ Daisy
DESCRIPTION:Daisy hopscotches through time\, place and genre to bring you expansive sounds from across the globe.
URL:https://lewishammusic.org/event/transportations-w-daisy-17/
LOCATION:Radio Lewisham
CATEGORIES:Radio Lewisham schedule
END:VEVENT
BEGIN:VEVENT
DTSTART;TZID=Europe/London:20260702T180000
DTEND;TZID=Europe/London:20260702T190000
DTSTAMP:20260422T221125
CREATED:20260305T214738Z
LAST-MODIFIED:20260305T214738Z
UID:16461-1783015200-1783018800@lewishammusic.org
SUMMARY:Offside! Women in sport
DESCRIPTION:A bold radio show exploring gender inequality in sport.
URL:https://lewishammusic.org/event/offside-women-in-sport-17/
LOCATION:Radio Lewisham
CATEGORIES:Radio Lewisham schedule
END:VEVENT
BEGIN:VEVENT
DTSTART;TZID=Europe/London:20260702T200000
DTEND;TZID=Europe/London:20260702T210000
DTSTAMP:20260422T221125
CREATED:20260305T214952Z
LAST-MODIFIED:20260305T214952Z
UID:16504-1783022400-1783026000@lewishammusic.org
SUMMARY:Lewisham's Schools and Youth Groups
DESCRIPTION:Join the conversation and get to know the young people of Lewisham’s diverse schools and youth groups.
URL:https://lewishammusic.org/event/lewishams-schools-and-youth-groups-17/
LOCATION:Radio Lewisham
CATEGORIES:Radio Lewisham schedule
END:VEVENT
BEGIN:VEVENT
DTSTART;TZID=Europe/London:20260703T100000
DTEND;TZID=Europe/London:20260703T110000
DTSTAMP:20260422T221125
CREATED:20260305T215207Z
LAST-MODIFIED:20260305T215207Z
UID:16548-1783072800-1783076400@lewishammusic.org
SUMMARY:CultureWave w/ Emanuel Duarte
DESCRIPTION:Through history\, language\, and food\, this show will allow you to see the world through a new lens.
URL:https://lewishammusic.org/event/culturewave-w-emanuel-duarte-18/
LOCATION:Radio Lewisham
CATEGORIES:Radio Lewisham schedule
END:VEVENT
BEGIN:VEVENT
DTSTART;TZID=Europe/London:20260703T120000
DTEND;TZID=Europe/London:20260703T130000
DTSTAMP:20260422T221125
CREATED:20260305T215409Z
LAST-MODIFIED:20260305T215409Z
UID:16592-1783080000-1783083600@lewishammusic.org
SUMMARY:Nesh and K Talks
DESCRIPTION:2 local lads share stories and give you a perspective through a Lewisham lens.
URL:https://lewishammusic.org/event/nesh-and-k-talks-18/
LOCATION:Radio Lewisham
CATEGORIES:Radio Lewisham schedule
END:VEVENT
BEGIN:VEVENT
DTSTART;TZID=Europe/London:20260703T150000
DTEND;TZID=Europe/London:20260703T160000
DTSTAMP:20260422T221125
CREATED:20260305T215624Z
LAST-MODIFIED:20260305T215624Z
UID:16636-1783090800-1783094400@lewishammusic.org
SUMMARY:Box of Niche
DESCRIPTION:Unboxing a box of…niche things.
URL:https://lewishammusic.org/event/box-of-niche-18/
LOCATION:Radio Lewisham
CATEGORIES:Radio Lewisham schedule
END:VEVENT
BEGIN:VEVENT
DTSTART;TZID=Europe/London:20260703T190000
DTEND;TZID=Europe/London:20260703T210000
DTSTAMP:20260422T221125
CREATED:20260305T215837Z
LAST-MODIFIED:20260305T215837Z
UID:16680-1783105200-1783112400@lewishammusic.org
SUMMARY:Undeniable Music Mix
DESCRIPTION:A monthly DJ mix from Lewisham’s Undeniable Records.
URL:https://lewishammusic.org/event/undeniable-music-mix-18/
LOCATION:Radio Lewisham
CATEGORIES:Radio Lewisham schedule
END:VEVENT
BEGIN:VEVENT
DTSTART;TZID=Europe/London:20260704T090000
DTEND;TZID=Europe/London:20260704T140000
DTSTAMP:20260422T221125
CREATED:20250902T161319Z
LAST-MODIFIED:20250902T161319Z
UID:14766-1783155600-1783173600@lewishammusic.org
SUMMARY:Saturday Music Centre (concert week)
DESCRIPTION:Our Saturday Music Centre is a great place for young musicians to develop their skills and explore their creativity. The centre runs during school term time and offers instrumentalists and singers at all levels (beginner to advanced) a wide range of bands\, choirs\, groups and ensembles covering a variety of genres\, as well as music theory classes and individual instrumental tuition. Head to the link below to find out more and apply.
URL:https://lewishammusic.org/event/saturday-music-centre-concert-week-5/
LOCATION:Prendergast Vale School\, Vian Street\, Lewisham\, London\, SE13 7BN\, United Kingdom
ORGANIZER;CN="Lewisham Music":MAILTO:info@lewishammusic.org
END:VEVENT
BEGIN:VEVENT
DTSTART;TZID=Europe/London:20260706T100000
DTEND;TZID=Europe/London:20260706T110000
DTSTAMP:20260422T221125
CREATED:20260219T170553Z
LAST-MODIFIED:20260305T210219Z
UID:15349-1783332000-1783335600@lewishammusic.org
SUMMARY:New Voices
DESCRIPTION:Features\, interviews\, and music from emerging Radio Lewisham presenters and producers.
URL:https://lewishammusic.org/event/new-voices-47/
LOCATION:Radio Lewisham
CATEGORIES:Radio Lewisham schedule
END:VEVENT
BEGIN:VEVENT
DTSTART;TZID=Europe/London:20260706T130000
DTEND;TZID=Europe/London:20260706T140000
DTSTAMP:20260422T221125
CREATED:20260219T174529Z
LAST-MODIFIED:20260305T210434Z
UID:15404-1783342800-1783346400@lewishammusic.org
SUMMARY:Real Talk w/ James Gava
DESCRIPTION:Spotlighting rising artists\, innovators\, and storytellers who are shaping culture from the ground up.
URL:https://lewishammusic.org/event/real-talk-w-james-gava-26/
LOCATION:Radio Lewisham
CATEGORIES:Radio Lewisham schedule
END:VEVENT
BEGIN:VEVENT
DTSTART;TZID=Europe/London:20260706T150000
DTEND;TZID=Europe/London:20260706T160000
DTSTAMP:20260422T221125
CREATED:20260305T211635Z
LAST-MODIFIED:20260305T211635Z
UID:15946-1783350000-1783353600@lewishammusic.org
SUMMARY:Sounds Foreign
DESCRIPTION:Music from outside the English-speaking world\, and an exploration of the cultures and stories behind the sounds.
URL:https://lewishammusic.org/event/sounds-foreign-18/
LOCATION:Radio Lewisham
CATEGORIES:Radio Lewisham schedule
END:VEVENT
BEGIN:VEVENT
DTSTART;TZID=Europe/London:20260706T163000
DTEND;TZID=Europe/London:20260706T173000
DTSTAMP:20260422T221125
CREATED:20260305T211849Z
LAST-MODIFIED:20260305T211849Z
UID:15989-1783355400-1783359000@lewishammusic.org
SUMMARY:Anything and Everything
DESCRIPTION:4 friends talk about anything and everything (hence the name)\, so come and join us for a yap session.
URL:https://lewishammusic.org/event/anything-and-everything-18/
LOCATION:Radio Lewisham
CATEGORIES:Radio Lewisham schedule
END:VEVENT
BEGIN:VEVENT
DTSTART;TZID=Europe/London:20260706T173000
DTEND;TZID=Europe/London:20260706T183000
DTSTAMP:20260422T221125
CREATED:20260305T212403Z
LAST-MODIFIED:20260305T212403Z
UID:16032-1783359000-1783362600@lewishammusic.org
SUMMARY:Unplugged
DESCRIPTION:From friendships and mental health\, to growth dilemmas and everyday moments\, this is a space for real conversations\, good music and feeling less alone.
URL:https://lewishammusic.org/event/unplugged-18/
LOCATION:Radio Lewisham
CATEGORIES:Radio Lewisham schedule
END:VEVENT
BEGIN:VEVENT
DTSTART;TZID=Europe/London:20260707T100000
DTEND;TZID=Europe/London:20260707T120000
DTSTAMP:20260422T221125
CREATED:20260305T212823Z
LAST-MODIFIED:20260305T212823Z
UID:16075-1783418400-1783425600@lewishammusic.org
SUMMARY:The Youth Voice Commission
DESCRIPTION:A series highlighting the authentic views\, interests and opinions of Lewisham’s young people.
URL:https://lewishammusic.org/event/the-youth-voice-commission-18/
LOCATION:Radio Lewisham
CATEGORIES:Radio Lewisham schedule
END:VEVENT
BEGIN:VEVENT
DTSTART;TZID=Europe/London:20260707T150000
DTEND;TZID=Europe/London:20260707T160000
DTSTAMP:20260422T221125
CREATED:20260305T213037Z
LAST-MODIFIED:20260305T213037Z
UID:16118-1783436400-1783440000@lewishammusic.org
SUMMARY:Really Chill w/ Jade and Ella
DESCRIPTION:2 chill girls with real opinions\, jokes that may not land and endless stories to share.
URL:https://lewishammusic.org/event/really-chill-w-jade-and-ella-18/
LOCATION:Radio Lewisham
CATEGORIES:Radio Lewisham schedule
END:VEVENT
BEGIN:VEVENT
DTSTART;TZID=Europe/London:20260707T170000
DTEND;TZID=Europe/London:20260707T180000
DTSTAMP:20260422T221125
CREATED:20260305T213238Z
LAST-MODIFIED:20260305T213238Z
UID:16161-1783443600-1783447200@lewishammusic.org
SUMMARY:Taio's Takeover
DESCRIPTION:Music enthusiast/ creator/ producer\, Taio talks all things music\, and much more!
URL:https://lewishammusic.org/event/taios-takeover-18/
LOCATION:Radio Lewisham
CATEGORIES:Radio Lewisham schedule
END:VEVENT
BEGIN:VEVENT
DTSTART;TZID=Europe/London:20260707T190000
DTEND;TZID=Europe/London:20260707T200000
DTSTAMP:20260422T221125
CREATED:20260305T213452Z
LAST-MODIFIED:20260305T213452Z
UID:16204-1783450800-1783454400@lewishammusic.org
SUMMARY:77 WATTS
DESCRIPTION:Young emerging presenters from Midi Music Company take over the mic to discuss the things that matter to them most.
URL:https://lewishammusic.org/event/77-watts-18/
LOCATION:Radio Lewisham
CATEGORIES:Radio Lewisham schedule
END:VEVENT
BEGIN:VEVENT
DTSTART;TZID=Europe/London:20260708T120000
DTEND;TZID=Europe/London:20260708T130000
DTSTAMP:20260422T221125
CREATED:20260305T213653Z
LAST-MODIFIED:20260305T213653Z
UID:16247-1783512000-1783515600@lewishammusic.org
SUMMARY:Good Soup!
DESCRIPTION:Interviews with upcoming creatives as they are tasked to digest 3 levels of spicy Nigerian pepper soup.
URL:https://lewishammusic.org/event/good-soup-18/
LOCATION:Radio Lewisham
CATEGORIES:Radio Lewisham schedule
END:VEVENT
BEGIN:VEVENT
DTSTART;TZID=Europe/London:20260708T150000
DTEND;TZID=Europe/London:20260708T160000
DTSTAMP:20260422T221125
CREATED:20260305T213907Z
LAST-MODIFIED:20260305T213907Z
UID:16290-1783522800-1783526400@lewishammusic.org
SUMMARY:Indi’s Island Show
DESCRIPTION:Showcasing Caribbean music\, games and up to date news on the global diaspora.
URL:https://lewishammusic.org/event/indis-island-show-18/
LOCATION:Radio Lewisham
CATEGORIES:Radio Lewisham schedule
END:VEVENT
BEGIN:VEVENT
DTSTART;TZID=Europe/London:20260708T190000
DTEND;TZID=Europe/London:20260708T200000
DTSTAMP:20260422T221125
CREATED:20260305T214122Z
LAST-MODIFIED:20260305T214122Z
UID:16333-1783537200-1783540800@lewishammusic.org
SUMMARY:Lewisham Live and Local
DESCRIPTION:Your guide to the best venues\, events and emerging artists in the area.
URL:https://lewishammusic.org/event/lewisham-live-and-local-18/
LOCATION:Radio Lewisham
CATEGORIES:Radio Lewisham schedule
END:VEVENT
BEGIN:VEVENT
DTSTART;TZID=Europe/London:20260709T150000
DTEND;TZID=Europe/London:20260709T160000
DTSTAMP:20260422T221125
CREATED:20260305T214323Z
LAST-MODIFIED:20260305T214323Z
UID:16376-1783609200-1783612800@lewishammusic.org
SUMMARY:Siren Sounds
DESCRIPTION:A series of shows aiming to uplift women and gender diverse folk in music\, championing their individual contributions to the industry.
URL:https://lewishammusic.org/event/siren-sounds-18/
LOCATION:Radio Lewisham
CATEGORIES:Radio Lewisham schedule
END:VEVENT
BEGIN:VEVENT
DTSTART;TZID=Europe/London:20260709T170000
DTEND;TZID=Europe/London:20260709T180000
DTSTAMP:20260422T221125
CREATED:20260305T214537Z
LAST-MODIFIED:20260305T214537Z
UID:16419-1783616400-1783620000@lewishammusic.org
SUMMARY:Transportations w/ Daisy
DESCRIPTION:Daisy hopscotches through time\, place and genre to bring you expansive sounds from across the globe.
URL:https://lewishammusic.org/event/transportations-w-daisy-18/
LOCATION:Radio Lewisham
CATEGORIES:Radio Lewisham schedule
END:VEVENT
BEGIN:VEVENT
DTSTART;TZID=Europe/London:20260709T180000
DTEND;TZID=Europe/London:20260709T190000
DTSTAMP:20260422T221125
CREATED:20260305T214738Z
LAST-MODIFIED:20260305T214738Z
UID:16462-1783620000-1783623600@lewishammusic.org
SUMMARY:Offside! Women in sport
DESCRIPTION:A bold radio show exploring gender inequality in sport.
URL:https://lewishammusic.org/event/offside-women-in-sport-18/
LOCATION:Radio Lewisham
CATEGORIES:Radio Lewisham schedule
END:VEVENT
BEGIN:VEVENT
DTSTART;TZID=Europe/London:20260709T200000
DTEND;TZID=Europe/London:20260709T210000
DTSTAMP:20260422T221125
CREATED:20260305T214952Z
LAST-MODIFIED:20260305T214952Z
UID:16505-1783627200-1783630800@lewishammusic.org
SUMMARY:Lewisham's Schools and Youth Groups
DESCRIPTION:Join the conversation and get to know the young people of Lewisham’s diverse schools and youth groups.
URL:https://lewishammusic.org/event/lewishams-schools-and-youth-groups-18/
LOCATION:Radio Lewisham
CATEGORIES:Radio Lewisham schedule
END:VEVENT
END:VCALENDAR