BEGIN:VCALENDAR
VERSION:2.0
PRODID:-//Lewisham Music - ECPv6.15.16//NONSGML v1.0//EN
CALSCALE:GREGORIAN
METHOD:PUBLISH
X-ORIGINAL-URL:https://lewishammusic.org
X-WR-CALDESC:Events for Lewisham Music
REFRESH-INTERVAL;VALUE=DURATION:PT1H
X-Robots-Tag:noindex
X-PUBLISHED-TTL:PT1H
BEGIN:VTIMEZONE
TZID:Europe/London
BEGIN:DAYLIGHT
TZOFFSETFROM:+0000
TZOFFSETTO:+0100
TZNAME:BST
DTSTART:20250330T010000
END:DAYLIGHT
BEGIN:STANDARD
TZOFFSETFROM:+0100
TZOFFSETTO:+0000
TZNAME:GMT
DTSTART:20251026T010000
END:STANDARD
BEGIN:DAYLIGHT
TZOFFSETFROM:+0000
TZOFFSETTO:+0100
TZNAME:BST
DTSTART:20260329T010000
END:DAYLIGHT
BEGIN:STANDARD
TZOFFSETFROM:+0100
TZOFFSETTO:+0000
TZNAME:GMT
DTSTART:20261025T010000
END:STANDARD
BEGIN:DAYLIGHT
TZOFFSETFROM:+0000
TZOFFSETTO:+0100
TZNAME:BST
DTSTART:20270328T010000
END:DAYLIGHT
BEGIN:STANDARD
TZOFFSETFROM:+0100
TZOFFSETTO:+0000
TZNAME:GMT
DTSTART:20271031T010000
END:STANDARD
END:VTIMEZONE
BEGIN:VEVENT
DTSTART;TZID=Europe/London:20260601T100000
DTEND;TZID=Europe/London:20260601T110000
DTSTAMP:20260422T093731
CREATED:20260219T170538Z
LAST-MODIFIED:20260305T210205Z
UID:15344-1780308000-1780311600@lewishammusic.org
SUMMARY:New Voices
DESCRIPTION:Features\, interviews\, and music from emerging Radio Lewisham presenters and producers.
URL:https://lewishammusic.org/event/new-voices-42/
LOCATION:Radio Lewisham
CATEGORIES:Radio Lewisham schedule
END:VEVENT
BEGIN:VEVENT
DTSTART;TZID=Europe/London:20260601T130000
DTEND;TZID=Europe/London:20260601T140000
DTSTAMP:20260422T093731
CREATED:20260219T174506Z
LAST-MODIFIED:20260305T210419Z
UID:15399-1780318800-1780322400@lewishammusic.org
SUMMARY:Real Talk w/ James Gava
DESCRIPTION:Spotlighting rising artists\, innovators\, and storytellers who are shaping culture from the ground up.
URL:https://lewishammusic.org/event/real-talk-w-james-gava-21/
LOCATION:Radio Lewisham
CATEGORIES:Radio Lewisham schedule
END:VEVENT
BEGIN:VEVENT
DTSTART;TZID=Europe/London:20260601T150000
DTEND;TZID=Europe/London:20260601T160000
DTSTAMP:20260422T093731
CREATED:20260305T211620Z
LAST-MODIFIED:20260305T211620Z
UID:15941-1780326000-1780329600@lewishammusic.org
SUMMARY:Sounds Foreign
DESCRIPTION:Music from outside the English-speaking world\, and an exploration of the cultures and stories behind the sounds.
URL:https://lewishammusic.org/event/sounds-foreign-13/
LOCATION:Radio Lewisham
CATEGORIES:Radio Lewisham schedule
END:VEVENT
BEGIN:VEVENT
DTSTART;TZID=Europe/London:20260601T163000
DTEND;TZID=Europe/London:20260601T173000
DTSTAMP:20260422T093731
CREATED:20260305T211834Z
LAST-MODIFIED:20260305T211834Z
UID:15984-1780331400-1780335000@lewishammusic.org
SUMMARY:Anything and Everything
DESCRIPTION:4 friends talk about anything and everything (hence the name)\, so come and join us for a yap session.
URL:https://lewishammusic.org/event/anything-and-everything-13/
LOCATION:Radio Lewisham
CATEGORIES:Radio Lewisham schedule
END:VEVENT
BEGIN:VEVENT
DTSTART;TZID=Europe/London:20260601T173000
DTEND;TZID=Europe/London:20260601T183000
DTSTAMP:20260422T093731
CREATED:20260305T212203Z
LAST-MODIFIED:20260305T212203Z
UID:16027-1780335000-1780338600@lewishammusic.org
SUMMARY:Unplugged
DESCRIPTION:From friendships and mental health\, to growth dilemmas and everyday moments\, this is a space for real conversations\, good music and feeling less alone.
URL:https://lewishammusic.org/event/unplugged-13/
LOCATION:Radio Lewisham
CATEGORIES:Radio Lewisham schedule
END:VEVENT
BEGIN:VEVENT
DTSTART;TZID=Europe/London:20260602T100000
DTEND;TZID=Europe/London:20260602T120000
DTSTAMP:20260422T093731
CREATED:20260305T212808Z
LAST-MODIFIED:20260305T212808Z
UID:16070-1780394400-1780401600@lewishammusic.org
SUMMARY:The Youth Voice Commission
DESCRIPTION:A series highlighting the authentic views\, interests and opinions of Lewisham’s young people.
URL:https://lewishammusic.org/event/the-youth-voice-commission-13/
LOCATION:Radio Lewisham
CATEGORIES:Radio Lewisham schedule
END:VEVENT
BEGIN:VEVENT
DTSTART;TZID=Europe/London:20260602T150000
DTEND;TZID=Europe/London:20260602T160000
DTSTAMP:20260422T093731
CREATED:20260305T213022Z
LAST-MODIFIED:20260305T213022Z
UID:16113-1780412400-1780416000@lewishammusic.org
SUMMARY:Really Chill w/ Jade and Ella
DESCRIPTION:2 chill girls with real opinions\, jokes that may not land and endless stories to share.
URL:https://lewishammusic.org/event/really-chill-w-jade-and-ella-13/
LOCATION:Radio Lewisham
CATEGORIES:Radio Lewisham schedule
END:VEVENT
BEGIN:VEVENT
DTSTART;TZID=Europe/London:20260602T170000
DTEND;TZID=Europe/London:20260602T180000
DTSTAMP:20260422T093731
CREATED:20260305T213223Z
LAST-MODIFIED:20260305T213223Z
UID:16156-1780419600-1780423200@lewishammusic.org
SUMMARY:Taio's Takeover
DESCRIPTION:Music enthusiast/ creator/ producer\, Taio talks all things music\, and much more!
URL:https://lewishammusic.org/event/taios-takeover-13/
LOCATION:Radio Lewisham
CATEGORIES:Radio Lewisham schedule
END:VEVENT
BEGIN:VEVENT
DTSTART;TZID=Europe/London:20260602T190000
DTEND;TZID=Europe/London:20260602T200000
DTSTAMP:20260422T093731
CREATED:20260305T213437Z
LAST-MODIFIED:20260305T213437Z
UID:16199-1780426800-1780430400@lewishammusic.org
SUMMARY:77 WATTS
DESCRIPTION:Young emerging presenters from Midi Music Company take over the mic to discuss the things that matter to them most.
URL:https://lewishammusic.org/event/77-watts-13/
LOCATION:Radio Lewisham
CATEGORIES:Radio Lewisham schedule
END:VEVENT
BEGIN:VEVENT
DTSTART;TZID=Europe/London:20260603T120000
DTEND;TZID=Europe/London:20260603T130000
DTSTAMP:20260422T093731
CREATED:20260305T213638Z
LAST-MODIFIED:20260305T213638Z
UID:16242-1780488000-1780491600@lewishammusic.org
SUMMARY:Good Soup!
DESCRIPTION:Interviews with upcoming creatives as they are tasked to digest 3 levels of spicy Nigerian pepper soup.
URL:https://lewishammusic.org/event/good-soup-13/
LOCATION:Radio Lewisham
CATEGORIES:Radio Lewisham schedule
END:VEVENT
BEGIN:VEVENT
DTSTART;TZID=Europe/London:20260603T150000
DTEND;TZID=Europe/London:20260603T160000
DTSTAMP:20260422T093731
CREATED:20260305T213852Z
LAST-MODIFIED:20260305T213852Z
UID:16285-1780498800-1780502400@lewishammusic.org
SUMMARY:Indi’s Island Show
DESCRIPTION:Showcasing Caribbean music\, games and up to date news on the global diaspora.
URL:https://lewishammusic.org/event/indis-island-show-13/
LOCATION:Radio Lewisham
CATEGORIES:Radio Lewisham schedule
END:VEVENT
BEGIN:VEVENT
DTSTART;TZID=Europe/London:20260603T190000
DTEND;TZID=Europe/London:20260603T200000
DTSTAMP:20260422T093731
CREATED:20260305T214107Z
LAST-MODIFIED:20260305T214107Z
UID:16328-1780513200-1780516800@lewishammusic.org
SUMMARY:Lewisham Live and Local
DESCRIPTION:Your guide to the best venues\, events and emerging artists in the area.
URL:https://lewishammusic.org/event/lewisham-live-and-local-13/
LOCATION:Radio Lewisham
CATEGORIES:Radio Lewisham schedule
END:VEVENT
BEGIN:VEVENT
DTSTART;TZID=Europe/London:20260604T150000
DTEND;TZID=Europe/London:20260604T160000
DTSTAMP:20260422T093731
CREATED:20260305T214308Z
LAST-MODIFIED:20260305T214308Z
UID:16371-1780585200-1780588800@lewishammusic.org
SUMMARY:Siren Sounds
DESCRIPTION:A series of shows aiming to uplift women and gender diverse folk in music\, championing their individual contributions to the industry.
URL:https://lewishammusic.org/event/siren-sounds-13/
LOCATION:Radio Lewisham
CATEGORIES:Radio Lewisham schedule
END:VEVENT
BEGIN:VEVENT
DTSTART;TZID=Europe/London:20260604T170000
DTEND;TZID=Europe/London:20260604T180000
DTSTAMP:20260422T093731
CREATED:20260305T214522Z
LAST-MODIFIED:20260305T214522Z
UID:16414-1780592400-1780596000@lewishammusic.org
SUMMARY:Transportations w/ Daisy
DESCRIPTION:Daisy hopscotches through time\, place and genre to bring you expansive sounds from across the globe.
URL:https://lewishammusic.org/event/transportations-w-daisy-13/
LOCATION:Radio Lewisham
CATEGORIES:Radio Lewisham schedule
END:VEVENT
BEGIN:VEVENT
DTSTART;TZID=Europe/London:20260604T180000
DTEND;TZID=Europe/London:20260604T190000
DTSTAMP:20260422T093731
CREATED:20260305T214723Z
LAST-MODIFIED:20260305T214723Z
UID:16457-1780596000-1780599600@lewishammusic.org
SUMMARY:Offside! Women in sport
DESCRIPTION:A bold radio show exploring gender inequality in sport.
URL:https://lewishammusic.org/event/offside-women-in-sport-13/
LOCATION:Radio Lewisham
CATEGORIES:Radio Lewisham schedule
END:VEVENT
BEGIN:VEVENT
DTSTART;TZID=Europe/London:20260604T200000
DTEND;TZID=Europe/London:20260604T210000
DTSTAMP:20260422T093731
CREATED:20260305T214937Z
LAST-MODIFIED:20260305T214937Z
UID:16500-1780603200-1780606800@lewishammusic.org
SUMMARY:Lewisham's Schools and Youth Groups
DESCRIPTION:Join the conversation and get to know the young people of Lewisham’s diverse schools and youth groups.
URL:https://lewishammusic.org/event/lewishams-schools-and-youth-groups-13/
LOCATION:Radio Lewisham
CATEGORIES:Radio Lewisham schedule
END:VEVENT
BEGIN:VEVENT
DTSTART;TZID=Europe/London:20260605T100000
DTEND;TZID=Europe/London:20260605T110000
DTSTAMP:20260422T093731
CREATED:20260305T215152Z
LAST-MODIFIED:20260305T215152Z
UID:16544-1780653600-1780657200@lewishammusic.org
SUMMARY:CultureWave w/ Emanuel Duarte
DESCRIPTION:Through history\, language\, and food\, this show will allow you to see the world through a new lens.
URL:https://lewishammusic.org/event/culturewave-w-emanuel-duarte-14/
LOCATION:Radio Lewisham
CATEGORIES:Radio Lewisham schedule
END:VEVENT
BEGIN:VEVENT
DTSTART;TZID=Europe/London:20260605T120000
DTEND;TZID=Europe/London:20260605T130000
DTSTAMP:20260422T093731
CREATED:20260305T215407Z
LAST-MODIFIED:20260305T215407Z
UID:16588-1780660800-1780664400@lewishammusic.org
SUMMARY:Nesh and K Talks
DESCRIPTION:2 local lads share stories and give you a perspective through a Lewisham lens.
URL:https://lewishammusic.org/event/nesh-and-k-talks-14/
LOCATION:Radio Lewisham
CATEGORIES:Radio Lewisham schedule
END:VEVENT
BEGIN:VEVENT
DTSTART;TZID=Europe/London:20260605T150000
DTEND;TZID=Europe/London:20260605T160000
DTSTAMP:20260422T093731
CREATED:20260305T215609Z
LAST-MODIFIED:20260305T215609Z
UID:16632-1780671600-1780675200@lewishammusic.org
SUMMARY:Box of Niche
DESCRIPTION:Unboxing a box of…niche things.
URL:https://lewishammusic.org/event/box-of-niche-14/
LOCATION:Radio Lewisham
CATEGORIES:Radio Lewisham schedule
END:VEVENT
BEGIN:VEVENT
DTSTART;TZID=Europe/London:20260605T180000
DTEND;TZID=Europe/London:20260605T193000
DTSTAMP:20260422T093731
CREATED:20250902T161404Z
LAST-MODIFIED:20250902T161404Z
UID:14772-1780682400-1780687800@lewishammusic.org
SUMMARY:Lewisham Youth Concert Band (week 6)
DESCRIPTION:If you play a brass\, woodwind or orchestral percussion instrument at Grade 3+ (or equivalent) and would like to play in a large band with other young musicians from across Lewisham then come and join Lewisham Youth Concert Band. Head to the link below to find out more and apply.
URL:https://lewishammusic.org/event/lewisham-youth-concert-band-week-6-6/
LOCATION:Prendergast Vale School\, Vian Street\, Lewisham\, London\, SE13 7BN\, United Kingdom
ORGANIZER;CN="Lewisham Music":MAILTO:info@lewishammusic.org
END:VEVENT
BEGIN:VEVENT
DTSTART;TZID=Europe/London:20260605T190000
DTEND;TZID=Europe/London:20260605T210000
DTSTAMP:20260422T093731
CREATED:20260305T215823Z
LAST-MODIFIED:20260305T215823Z
UID:16676-1780686000-1780693200@lewishammusic.org
SUMMARY:Undeniable Music Mix
DESCRIPTION:A monthly DJ mix from Lewisham’s Undeniable Records.
URL:https://lewishammusic.org/event/undeniable-music-mix-14/
LOCATION:Radio Lewisham
CATEGORIES:Radio Lewisham schedule
END:VEVENT
BEGIN:VEVENT
DTSTART;TZID=Europe/London:20260606T090000
DTEND;TZID=Europe/London:20260606T140000
DTSTAMP:20260422T093731
CREATED:20250902T161304Z
LAST-MODIFIED:20250902T161304Z
UID:14762-1780736400-1780754400@lewishammusic.org
SUMMARY:Saturday Music Centre (week 6)
DESCRIPTION:Our Saturday Music Centre is a great place for young musicians to develop their skills and explore their creativity. The centre runs during school term time and offers instrumentalists and singers at all levels (beginner to advanced) a wide range of bands\, choirs\, groups and ensembles covering a variety of genres\, as well as music theory classes and individual instrumental tuition. Head to the link below to find out more and apply.
URL:https://lewishammusic.org/event/saturday-music-centre-week-6-6/
LOCATION:Prendergast Vale School\, Vian Street\, Lewisham\, London\, SE13 7BN\, United Kingdom
ORGANIZER;CN="Lewisham Music":MAILTO:info@lewishammusic.org
END:VEVENT
BEGIN:VEVENT
DTSTART;TZID=Europe/London:20260608T100000
DTEND;TZID=Europe/London:20260608T110000
DTSTAMP:20260422T093731
CREATED:20260219T170538Z
LAST-MODIFIED:20260305T210205Z
UID:15345-1780912800-1780916400@lewishammusic.org
SUMMARY:New Voices
DESCRIPTION:Features\, interviews\, and music from emerging Radio Lewisham presenters and producers.
URL:https://lewishammusic.org/event/new-voices-43/
LOCATION:Radio Lewisham
CATEGORIES:Radio Lewisham schedule
END:VEVENT
BEGIN:VEVENT
DTSTART;TZID=Europe/London:20260608T130000
DTEND;TZID=Europe/London:20260608T140000
DTSTAMP:20260422T093731
CREATED:20260219T174507Z
LAST-MODIFIED:20260305T210419Z
UID:15400-1780923600-1780927200@lewishammusic.org
SUMMARY:Real Talk w/ James Gava
DESCRIPTION:Spotlighting rising artists\, innovators\, and storytellers who are shaping culture from the ground up.
URL:https://lewishammusic.org/event/real-talk-w-james-gava-22/
LOCATION:Radio Lewisham
CATEGORIES:Radio Lewisham schedule
END:VEVENT
BEGIN:VEVENT
DTSTART;TZID=Europe/London:20260608T150000
DTEND;TZID=Europe/London:20260608T160000
DTSTAMP:20260422T093731
CREATED:20260305T211620Z
LAST-MODIFIED:20260305T211620Z
UID:15942-1780930800-1780934400@lewishammusic.org
SUMMARY:Sounds Foreign
DESCRIPTION:Music from outside the English-speaking world\, and an exploration of the cultures and stories behind the sounds.
URL:https://lewishammusic.org/event/sounds-foreign-14/
LOCATION:Radio Lewisham
CATEGORIES:Radio Lewisham schedule
END:VEVENT
BEGIN:VEVENT
DTSTART;TZID=Europe/London:20260608T163000
DTEND;TZID=Europe/London:20260608T173000
DTSTAMP:20260422T093731
CREATED:20260305T211834Z
LAST-MODIFIED:20260305T211834Z
UID:15985-1780936200-1780939800@lewishammusic.org
SUMMARY:Anything and Everything
DESCRIPTION:4 friends talk about anything and everything (hence the name)\, so come and join us for a yap session.
URL:https://lewishammusic.org/event/anything-and-everything-14/
LOCATION:Radio Lewisham
CATEGORIES:Radio Lewisham schedule
END:VEVENT
BEGIN:VEVENT
DTSTART;TZID=Europe/London:20260608T173000
DTEND;TZID=Europe/London:20260608T183000
DTSTAMP:20260422T093731
CREATED:20260305T212400Z
LAST-MODIFIED:20260305T212400Z
UID:16028-1780939800-1780943400@lewishammusic.org
SUMMARY:Unplugged
DESCRIPTION:From friendships and mental health\, to growth dilemmas and everyday moments\, this is a space for real conversations\, good music and feeling less alone.
URL:https://lewishammusic.org/event/unplugged-14/
LOCATION:Radio Lewisham
CATEGORIES:Radio Lewisham schedule
END:VEVENT
BEGIN:VEVENT
DTSTART;TZID=Europe/London:20260609T100000
DTEND;TZID=Europe/London:20260609T120000
DTSTAMP:20260422T093731
CREATED:20260305T212808Z
LAST-MODIFIED:20260305T212808Z
UID:16071-1780999200-1781006400@lewishammusic.org
SUMMARY:The Youth Voice Commission
DESCRIPTION:A series highlighting the authentic views\, interests and opinions of Lewisham’s young people.
URL:https://lewishammusic.org/event/the-youth-voice-commission-14/
LOCATION:Radio Lewisham
CATEGORIES:Radio Lewisham schedule
END:VEVENT
BEGIN:VEVENT
DTSTART;TZID=Europe/London:20260609T150000
DTEND;TZID=Europe/London:20260609T160000
DTSTAMP:20260422T093731
CREATED:20260305T213023Z
LAST-MODIFIED:20260305T213023Z
UID:16114-1781017200-1781020800@lewishammusic.org
SUMMARY:Really Chill w/ Jade and Ella
DESCRIPTION:2 chill girls with real opinions\, jokes that may not land and endless stories to share.
URL:https://lewishammusic.org/event/really-chill-w-jade-and-ella-14/
LOCATION:Radio Lewisham
CATEGORIES:Radio Lewisham schedule
END:VEVENT
BEGIN:VEVENT
DTSTART;TZID=Europe/London:20260609T170000
DTEND;TZID=Europe/London:20260609T180000
DTSTAMP:20260422T093731
CREATED:20260305T213223Z
LAST-MODIFIED:20260305T213223Z
UID:16157-1781024400-1781028000@lewishammusic.org
SUMMARY:Taio's Takeover
DESCRIPTION:Music enthusiast/ creator/ producer\, Taio talks all things music\, and much more!
URL:https://lewishammusic.org/event/taios-takeover-14/
LOCATION:Radio Lewisham
CATEGORIES:Radio Lewisham schedule
END:VEVENT
END:VCALENDAR