BEGIN:VCALENDAR
VERSION:2.0
PRODID:-//Lewisham Music - ECPv6.15.16//NONSGML v1.0//EN
CALSCALE:GREGORIAN
METHOD:PUBLISH
X-WR-CALNAME:Lewisham Music
X-ORIGINAL-URL:https://lewishammusic.org
X-WR-CALDESC:Events for Lewisham Music
REFRESH-INTERVAL;VALUE=DURATION:PT1H
X-Robots-Tag:noindex
X-PUBLISHED-TTL:PT1H
BEGIN:VTIMEZONE
TZID:Europe/London
BEGIN:DAYLIGHT
TZOFFSETFROM:+0000
TZOFFSETTO:+0100
TZNAME:BST
DTSTART:20250330T010000
END:DAYLIGHT
BEGIN:STANDARD
TZOFFSETFROM:+0100
TZOFFSETTO:+0000
TZNAME:GMT
DTSTART:20251026T010000
END:STANDARD
BEGIN:DAYLIGHT
TZOFFSETFROM:+0000
TZOFFSETTO:+0100
TZNAME:BST
DTSTART:20260329T010000
END:DAYLIGHT
BEGIN:STANDARD
TZOFFSETFROM:+0100
TZOFFSETTO:+0000
TZNAME:GMT
DTSTART:20261025T010000
END:STANDARD
BEGIN:DAYLIGHT
TZOFFSETFROM:+0000
TZOFFSETTO:+0100
TZNAME:BST
DTSTART:20270328T010000
END:DAYLIGHT
BEGIN:STANDARD
TZOFFSETFROM:+0100
TZOFFSETTO:+0000
TZNAME:GMT
DTSTART:20271031T010000
END:STANDARD
END:VTIMEZONE
BEGIN:VEVENT
DTSTART;TZID=Europe/London:20260520T190000
DTEND;TZID=Europe/London:20260520T200000
DTSTAMP:20260422T051545
CREATED:20260305T214054Z
LAST-MODIFIED:20260305T214054Z
UID:16326-1779303600-1779307200@lewishammusic.org
SUMMARY:Lewisham Live and Local
DESCRIPTION:Your guide to the best venues\, events and emerging artists in the area.
URL:https://lewishammusic.org/event/lewisham-live-and-local-11/
LOCATION:Radio Lewisham
CATEGORIES:Radio Lewisham schedule
END:VEVENT
BEGIN:VEVENT
DTSTART;TZID=Europe/London:20260521T150000
DTEND;TZID=Europe/London:20260521T160000
DTSTAMP:20260422T051545
CREATED:20260305T214307Z
LAST-MODIFIED:20260305T214307Z
UID:16369-1779375600-1779379200@lewishammusic.org
SUMMARY:Siren Sounds
DESCRIPTION:A series of shows aiming to uplift women and gender diverse folk in music\, championing their individual contributions to the industry.
URL:https://lewishammusic.org/event/siren-sounds-11/
LOCATION:Radio Lewisham
CATEGORIES:Radio Lewisham schedule
END:VEVENT
BEGIN:VEVENT
DTSTART;TZID=Europe/London:20260521T170000
DTEND;TZID=Europe/London:20260521T180000
DTSTAMP:20260422T051545
CREATED:20260305T214509Z
LAST-MODIFIED:20260305T214509Z
UID:16412-1779382800-1779386400@lewishammusic.org
SUMMARY:Transportations w/ Daisy
DESCRIPTION:Daisy hopscotches through time\, place and genre to bring you expansive sounds from across the globe.
URL:https://lewishammusic.org/event/transportations-w-daisy-11/
LOCATION:Radio Lewisham
CATEGORIES:Radio Lewisham schedule
END:VEVENT
BEGIN:VEVENT
DTSTART;TZID=Europe/London:20260521T180000
DTEND;TZID=Europe/London:20260521T190000
DTSTAMP:20260422T051545
CREATED:20260305T214722Z
LAST-MODIFIED:20260305T214722Z
UID:16455-1779386400-1779390000@lewishammusic.org
SUMMARY:Offside! Women in sport
DESCRIPTION:A bold radio show exploring gender inequality in sport.
URL:https://lewishammusic.org/event/offside-women-in-sport-11/
LOCATION:Radio Lewisham
CATEGORIES:Radio Lewisham schedule
END:VEVENT
BEGIN:VEVENT
DTSTART;TZID=Europe/London:20260521T200000
DTEND;TZID=Europe/London:20260521T210000
DTSTAMP:20260422T051545
CREATED:20260305T214936Z
LAST-MODIFIED:20260305T214936Z
UID:16498-1779393600-1779397200@lewishammusic.org
SUMMARY:Lewisham's Schools and Youth Groups
DESCRIPTION:Join the conversation and get to know the young people of Lewisham’s diverse schools and youth groups.
URL:https://lewishammusic.org/event/lewishams-schools-and-youth-groups-11/
LOCATION:Radio Lewisham
CATEGORIES:Radio Lewisham schedule
END:VEVENT
BEGIN:VEVENT
DTSTART;TZID=Europe/London:20260522T000000
DTEND;TZID=Europe/London:20260530T000000
DTSTAMP:20260422T051545
CREATED:20250902T161303Z
LAST-MODIFIED:20250902T161303Z
UID:14760-1779408000-1780099200@lewishammusic.org
SUMMARY:Half term
DESCRIPTION:Half term break
URL:https://lewishammusic.org/event/half-term-6/
END:VEVENT
BEGIN:VEVENT
DTSTART;TZID=Europe/London:20260522T100000
DTEND;TZID=Europe/London:20260522T110000
DTSTAMP:20260422T051545
CREATED:20260305T215138Z
LAST-MODIFIED:20260305T215138Z
UID:16542-1779444000-1779447600@lewishammusic.org
SUMMARY:CultureWave w/ Emanuel Duarte
DESCRIPTION:Through history\, language\, and food\, this show will allow you to see the world through a new lens.
URL:https://lewishammusic.org/event/culturewave-w-emanuel-duarte-12/
LOCATION:Radio Lewisham
CATEGORIES:Radio Lewisham schedule
END:VEVENT
BEGIN:VEVENT
DTSTART;TZID=Europe/London:20260522T120000
DTEND;TZID=Europe/London:20260522T130000
DTSTAMP:20260422T051545
CREATED:20260305T215353Z
LAST-MODIFIED:20260305T215353Z
UID:16586-1779451200-1779454800@lewishammusic.org
SUMMARY:Nesh and K Talks
DESCRIPTION:2 local lads share stories and give you a perspective through a Lewisham lens.
URL:https://lewishammusic.org/event/nesh-and-k-talks-12/
LOCATION:Radio Lewisham
CATEGORIES:Radio Lewisham schedule
END:VEVENT
BEGIN:VEVENT
DTSTART;TZID=Europe/London:20260522T150000
DTEND;TZID=Europe/London:20260522T160000
DTSTAMP:20260422T051545
CREATED:20260305T215608Z
LAST-MODIFIED:20260305T215608Z
UID:16630-1779462000-1779465600@lewishammusic.org
SUMMARY:Box of Niche
DESCRIPTION:Unboxing a box of…niche things.
URL:https://lewishammusic.org/event/box-of-niche-12/
LOCATION:Radio Lewisham
CATEGORIES:Radio Lewisham schedule
END:VEVENT
BEGIN:VEVENT
DTSTART;TZID=Europe/London:20260522T190000
DTEND;TZID=Europe/London:20260522T210000
DTSTAMP:20260422T051545
CREATED:20260305T215822Z
LAST-MODIFIED:20260305T215822Z
UID:16674-1779476400-1779483600@lewishammusic.org
SUMMARY:Undeniable Music Mix
DESCRIPTION:A monthly DJ mix from Lewisham’s Undeniable Records.
URL:https://lewishammusic.org/event/undeniable-music-mix-12/
LOCATION:Radio Lewisham
CATEGORIES:Radio Lewisham schedule
END:VEVENT
BEGIN:VEVENT
DTSTART;TZID=Europe/London:20260525T100000
DTEND;TZID=Europe/London:20260525T110000
DTSTAMP:20260422T051545
CREATED:20260219T170526Z
LAST-MODIFIED:20260305T210204Z
UID:15343-1779703200-1779706800@lewishammusic.org
SUMMARY:New Voices
DESCRIPTION:Features\, interviews\, and music from emerging Radio Lewisham presenters and producers.
URL:https://lewishammusic.org/event/new-voices-41/
LOCATION:Radio Lewisham
CATEGORIES:Radio Lewisham schedule
END:VEVENT
BEGIN:VEVENT
DTSTART;TZID=Europe/London:20260525T130000
DTEND;TZID=Europe/London:20260525T140000
DTSTAMP:20260422T051545
CREATED:20260219T174453Z
LAST-MODIFIED:20260305T210405Z
UID:15398-1779714000-1779717600@lewishammusic.org
SUMMARY:Real Talk w/ James Gava
DESCRIPTION:Spotlighting rising artists\, innovators\, and storytellers who are shaping culture from the ground up.
URL:https://lewishammusic.org/event/real-talk-w-james-gava-20/
LOCATION:Radio Lewisham
CATEGORIES:Radio Lewisham schedule
END:VEVENT
BEGIN:VEVENT
DTSTART;TZID=Europe/London:20260525T150000
DTEND;TZID=Europe/London:20260525T160000
DTSTAMP:20260422T051545
CREATED:20260305T211619Z
LAST-MODIFIED:20260305T211619Z
UID:15940-1779721200-1779724800@lewishammusic.org
SUMMARY:Sounds Foreign
DESCRIPTION:Music from outside the English-speaking world\, and an exploration of the cultures and stories behind the sounds.
URL:https://lewishammusic.org/event/sounds-foreign-12/
LOCATION:Radio Lewisham
CATEGORIES:Radio Lewisham schedule
END:VEVENT
BEGIN:VEVENT
DTSTART;TZID=Europe/London:20260525T163000
DTEND;TZID=Europe/London:20260525T173000
DTSTAMP:20260422T051545
CREATED:20260305T211834Z
LAST-MODIFIED:20260305T211834Z
UID:15983-1779726600-1779730200@lewishammusic.org
SUMMARY:Anything and Everything
DESCRIPTION:4 friends talk about anything and everything (hence the name)\, so come and join us for a yap session.
URL:https://lewishammusic.org/event/anything-and-everything-12/
LOCATION:Radio Lewisham
CATEGORIES:Radio Lewisham schedule
END:VEVENT
BEGIN:VEVENT
DTSTART;TZID=Europe/London:20260525T173000
DTEND;TZID=Europe/London:20260525T183000
DTSTAMP:20260422T051545
CREATED:20260305T212202Z
LAST-MODIFIED:20260305T212202Z
UID:16026-1779730200-1779733800@lewishammusic.org
SUMMARY:Unplugged
DESCRIPTION:From friendships and mental health\, to growth dilemmas and everyday moments\, this is a space for real conversations\, good music and feeling less alone.
URL:https://lewishammusic.org/event/unplugged-12/
LOCATION:Radio Lewisham
CATEGORIES:Radio Lewisham schedule
END:VEVENT
BEGIN:VEVENT
DTSTART;TZID=Europe/London:20260526T100000
DTEND;TZID=Europe/London:20260526T120000
DTSTAMP:20260422T051545
CREATED:20260305T212807Z
LAST-MODIFIED:20260305T212807Z
UID:16069-1779789600-1779796800@lewishammusic.org
SUMMARY:The Youth Voice Commission
DESCRIPTION:A series highlighting the authentic views\, interests and opinions of Lewisham’s young people.
URL:https://lewishammusic.org/event/the-youth-voice-commission-12/
LOCATION:Radio Lewisham
CATEGORIES:Radio Lewisham schedule
END:VEVENT
BEGIN:VEVENT
DTSTART;TZID=Europe/London:20260526T150000
DTEND;TZID=Europe/London:20260526T160000
DTSTAMP:20260422T051545
CREATED:20260305T213010Z
LAST-MODIFIED:20260305T213010Z
UID:16112-1779807600-1779811200@lewishammusic.org
SUMMARY:Really Chill w/ Jade and Ella
DESCRIPTION:2 chill girls with real opinions\, jokes that may not land and endless stories to share.
URL:https://lewishammusic.org/event/really-chill-w-jade-and-ella-12/
LOCATION:Radio Lewisham
CATEGORIES:Radio Lewisham schedule
END:VEVENT
BEGIN:VEVENT
DTSTART;TZID=Europe/London:20260526T170000
DTEND;TZID=Europe/London:20260526T180000
DTSTAMP:20260422T051545
CREATED:20260305T213222Z
LAST-MODIFIED:20260305T213222Z
UID:16155-1779814800-1779818400@lewishammusic.org
SUMMARY:Taio's Takeover
DESCRIPTION:Music enthusiast/ creator/ producer\, Taio talks all things music\, and much more!
URL:https://lewishammusic.org/event/taios-takeover-12/
LOCATION:Radio Lewisham
CATEGORIES:Radio Lewisham schedule
END:VEVENT
BEGIN:VEVENT
DTSTART;TZID=Europe/London:20260526T190000
DTEND;TZID=Europe/London:20260526T200000
DTSTAMP:20260422T051545
CREATED:20260305T213437Z
LAST-MODIFIED:20260305T213437Z
UID:16198-1779822000-1779825600@lewishammusic.org
SUMMARY:77 WATTS
DESCRIPTION:Young emerging presenters from Midi Music Company take over the mic to discuss the things that matter to them most.
URL:https://lewishammusic.org/event/77-watts-12/
LOCATION:Radio Lewisham
CATEGORIES:Radio Lewisham schedule
END:VEVENT
BEGIN:VEVENT
DTSTART;TZID=Europe/London:20260527T120000
DTEND;TZID=Europe/London:20260527T130000
DTSTAMP:20260422T051545
CREATED:20260305T213637Z
LAST-MODIFIED:20260305T213637Z
UID:16241-1779883200-1779886800@lewishammusic.org
SUMMARY:Good Soup!
DESCRIPTION:Interviews with upcoming creatives as they are tasked to digest 3 levels of spicy Nigerian pepper soup.
URL:https://lewishammusic.org/event/good-soup-12/
LOCATION:Radio Lewisham
CATEGORIES:Radio Lewisham schedule
END:VEVENT
BEGIN:VEVENT
DTSTART;TZID=Europe/London:20260527T150000
DTEND;TZID=Europe/London:20260527T160000
DTSTAMP:20260422T051545
CREATED:20260305T213851Z
LAST-MODIFIED:20260305T213851Z
UID:16284-1779894000-1779897600@lewishammusic.org
SUMMARY:Indi’s Island Show
DESCRIPTION:Showcasing Caribbean music\, games and up to date news on the global diaspora.
URL:https://lewishammusic.org/event/indis-island-show-12/
LOCATION:Radio Lewisham
CATEGORIES:Radio Lewisham schedule
END:VEVENT
BEGIN:VEVENT
DTSTART;TZID=Europe/London:20260527T190000
DTEND;TZID=Europe/London:20260527T200000
DTSTAMP:20260422T051545
CREATED:20260305T214054Z
LAST-MODIFIED:20260305T214054Z
UID:16327-1779908400-1779912000@lewishammusic.org
SUMMARY:Lewisham Live and Local
DESCRIPTION:Your guide to the best venues\, events and emerging artists in the area.
URL:https://lewishammusic.org/event/lewisham-live-and-local-12/
LOCATION:Radio Lewisham
CATEGORIES:Radio Lewisham schedule
END:VEVENT
BEGIN:VEVENT
DTSTART;TZID=Europe/London:20260528T150000
DTEND;TZID=Europe/London:20260528T160000
DTSTAMP:20260422T051545
CREATED:20260305T214308Z
LAST-MODIFIED:20260305T214308Z
UID:16370-1779980400-1779984000@lewishammusic.org
SUMMARY:Siren Sounds
DESCRIPTION:A series of shows aiming to uplift women and gender diverse folk in music\, championing their individual contributions to the industry.
URL:https://lewishammusic.org/event/siren-sounds-12/
LOCATION:Radio Lewisham
CATEGORIES:Radio Lewisham schedule
END:VEVENT
BEGIN:VEVENT
DTSTART;TZID=Europe/London:20260528T170000
DTEND;TZID=Europe/London:20260528T180000
DTSTAMP:20260422T051545
CREATED:20260305T214522Z
LAST-MODIFIED:20260305T214522Z
UID:16413-1779987600-1779991200@lewishammusic.org
SUMMARY:Transportations w/ Daisy
DESCRIPTION:Daisy hopscotches through time\, place and genre to bring you expansive sounds from across the globe.
URL:https://lewishammusic.org/event/transportations-w-daisy-12/
LOCATION:Radio Lewisham
CATEGORIES:Radio Lewisham schedule
END:VEVENT
BEGIN:VEVENT
DTSTART;TZID=Europe/London:20260528T180000
DTEND;TZID=Europe/London:20260528T190000
DTSTAMP:20260422T051545
CREATED:20260305T214723Z
LAST-MODIFIED:20260305T214723Z
UID:16456-1779991200-1779994800@lewishammusic.org
SUMMARY:Offside! Women in sport
DESCRIPTION:A bold radio show exploring gender inequality in sport.
URL:https://lewishammusic.org/event/offside-women-in-sport-12/
LOCATION:Radio Lewisham
CATEGORIES:Radio Lewisham schedule
END:VEVENT
BEGIN:VEVENT
DTSTART;TZID=Europe/London:20260528T200000
DTEND;TZID=Europe/London:20260528T210000
DTSTAMP:20260422T051545
CREATED:20260305T214937Z
LAST-MODIFIED:20260305T214937Z
UID:16499-1779998400-1780002000@lewishammusic.org
SUMMARY:Lewisham's Schools and Youth Groups
DESCRIPTION:Join the conversation and get to know the young people of Lewisham’s diverse schools and youth groups.
URL:https://lewishammusic.org/event/lewishams-schools-and-youth-groups-12/
LOCATION:Radio Lewisham
CATEGORIES:Radio Lewisham schedule
END:VEVENT
BEGIN:VEVENT
DTSTART;TZID=Europe/London:20260529T100000
DTEND;TZID=Europe/London:20260529T110000
DTSTAMP:20260422T051545
CREATED:20260305T215152Z
LAST-MODIFIED:20260305T215152Z
UID:16543-1780048800-1780052400@lewishammusic.org
SUMMARY:CultureWave w/ Emanuel Duarte
DESCRIPTION:Through history\, language\, and food\, this show will allow you to see the world through a new lens.
URL:https://lewishammusic.org/event/culturewave-w-emanuel-duarte-13/
LOCATION:Radio Lewisham
CATEGORIES:Radio Lewisham schedule
END:VEVENT
BEGIN:VEVENT
DTSTART;TZID=Europe/London:20260529T120000
DTEND;TZID=Europe/London:20260529T130000
DTSTAMP:20260422T051545
CREATED:20260305T215353Z
LAST-MODIFIED:20260305T215353Z
UID:16587-1780056000-1780059600@lewishammusic.org
SUMMARY:Nesh and K Talks
DESCRIPTION:2 local lads share stories and give you a perspective through a Lewisham lens.
URL:https://lewishammusic.org/event/nesh-and-k-talks-13/
LOCATION:Radio Lewisham
CATEGORIES:Radio Lewisham schedule
END:VEVENT
BEGIN:VEVENT
DTSTART;TZID=Europe/London:20260529T150000
DTEND;TZID=Europe/London:20260529T160000
DTSTAMP:20260422T051545
CREATED:20260305T215609Z
LAST-MODIFIED:20260305T215609Z
UID:16631-1780066800-1780070400@lewishammusic.org
SUMMARY:Box of Niche
DESCRIPTION:Unboxing a box of…niche things.
URL:https://lewishammusic.org/event/box-of-niche-13/
LOCATION:Radio Lewisham
CATEGORIES:Radio Lewisham schedule
END:VEVENT
BEGIN:VEVENT
DTSTART;TZID=Europe/London:20260529T190000
DTEND;TZID=Europe/London:20260529T210000
DTSTAMP:20260422T051545
CREATED:20260305T215822Z
LAST-MODIFIED:20260305T215822Z
UID:16675-1780081200-1780088400@lewishammusic.org
SUMMARY:Undeniable Music Mix
DESCRIPTION:A monthly DJ mix from Lewisham’s Undeniable Records.
URL:https://lewishammusic.org/event/undeniable-music-mix-13/
LOCATION:Radio Lewisham
CATEGORIES:Radio Lewisham schedule
END:VEVENT
END:VCALENDAR