BEGIN:VCALENDAR
VERSION:2.0
PRODID:-//Lewisham Music - ECPv6.15.16//NONSGML v1.0//EN
CALSCALE:GREGORIAN
METHOD:PUBLISH
X-ORIGINAL-URL:https://lewishammusic.org
X-WR-CALDESC:Events for Lewisham Music
REFRESH-INTERVAL;VALUE=DURATION:PT1H
X-Robots-Tag:noindex
X-PUBLISHED-TTL:PT1H
BEGIN:VTIMEZONE
TZID:Europe/London
BEGIN:DAYLIGHT
TZOFFSETFROM:+0000
TZOFFSETTO:+0100
TZNAME:BST
DTSTART:20250330T010000
END:DAYLIGHT
BEGIN:STANDARD
TZOFFSETFROM:+0100
TZOFFSETTO:+0000
TZNAME:GMT
DTSTART:20251026T010000
END:STANDARD
BEGIN:DAYLIGHT
TZOFFSETFROM:+0000
TZOFFSETTO:+0100
TZNAME:BST
DTSTART:20260329T010000
END:DAYLIGHT
BEGIN:STANDARD
TZOFFSETFROM:+0100
TZOFFSETTO:+0000
TZNAME:GMT
DTSTART:20261025T010000
END:STANDARD
BEGIN:DAYLIGHT
TZOFFSETFROM:+0000
TZOFFSETTO:+0100
TZNAME:BST
DTSTART:20270328T010000
END:DAYLIGHT
BEGIN:STANDARD
TZOFFSETFROM:+0100
TZOFFSETTO:+0000
TZNAME:GMT
DTSTART:20271031T010000
END:STANDARD
END:VTIMEZONE
BEGIN:VEVENT
DTSTART;TZID=Europe/London:20260511T163000
DTEND;TZID=Europe/London:20260511T173000
DTSTAMP:20260422T010519
CREATED:20260305T211820Z
LAST-MODIFIED:20260305T211820Z
UID:15981-1778517000-1778520600@lewishammusic.org
SUMMARY:Anything and Everything
DESCRIPTION:4 friends talk about anything and everything (hence the name)\, so come and join us for a yap session.
URL:https://lewishammusic.org/event/anything-and-everything-10/
LOCATION:Radio Lewisham
CATEGORIES:Radio Lewisham schedule
END:VEVENT
BEGIN:VEVENT
DTSTART;TZID=Europe/London:20260511T173000
DTEND;TZID=Europe/London:20260511T183000
DTSTAMP:20260422T010519
CREATED:20260305T212201Z
LAST-MODIFIED:20260305T212201Z
UID:16024-1778520600-1778524200@lewishammusic.org
SUMMARY:Unplugged
DESCRIPTION:From friendships and mental health\, to growth dilemmas and everyday moments\, this is a space for real conversations\, good music and feeling less alone.
URL:https://lewishammusic.org/event/unplugged-10/
LOCATION:Radio Lewisham
CATEGORIES:Radio Lewisham schedule
END:VEVENT
BEGIN:VEVENT
DTSTART;TZID=Europe/London:20260512T100000
DTEND;TZID=Europe/London:20260512T120000
DTSTAMP:20260422T010519
CREATED:20260305T212753Z
LAST-MODIFIED:20260305T212753Z
UID:16067-1778580000-1778587200@lewishammusic.org
SUMMARY:The Youth Voice Commission
DESCRIPTION:A series highlighting the authentic views\, interests and opinions of Lewisham’s young people.
URL:https://lewishammusic.org/event/the-youth-voice-commission-10/
LOCATION:Radio Lewisham
CATEGORIES:Radio Lewisham schedule
END:VEVENT
BEGIN:VEVENT
DTSTART;TZID=Europe/London:20260512T150000
DTEND;TZID=Europe/London:20260512T160000
DTSTAMP:20260422T010519
CREATED:20260305T213008Z
LAST-MODIFIED:20260305T213008Z
UID:16110-1778598000-1778601600@lewishammusic.org
SUMMARY:Really Chill w/ Jade and Ella
DESCRIPTION:2 chill girls with real opinions\, jokes that may not land and endless stories to share.
URL:https://lewishammusic.org/event/really-chill-w-jade-and-ella-10/
LOCATION:Radio Lewisham
CATEGORIES:Radio Lewisham schedule
END:VEVENT
BEGIN:VEVENT
DTSTART;TZID=Europe/London:20260512T170000
DTEND;TZID=Europe/London:20260512T180000
DTSTAMP:20260422T010519
CREATED:20260305T213222Z
LAST-MODIFIED:20260305T213222Z
UID:16153-1778605200-1778608800@lewishammusic.org
SUMMARY:Taio's Takeover
DESCRIPTION:Music enthusiast/ creator/ producer\, Taio talks all things music\, and much more!
URL:https://lewishammusic.org/event/taios-takeover-10/
LOCATION:Radio Lewisham
CATEGORIES:Radio Lewisham schedule
END:VEVENT
BEGIN:VEVENT
DTSTART;TZID=Europe/London:20260512T190000
DTEND;TZID=Europe/London:20260512T200000
DTSTAMP:20260422T010519
CREATED:20260305T213423Z
LAST-MODIFIED:20260305T213423Z
UID:16196-1778612400-1778616000@lewishammusic.org
SUMMARY:77 WATTS
DESCRIPTION:Young emerging presenters from Midi Music Company take over the mic to discuss the things that matter to them most.
URL:https://lewishammusic.org/event/77-watts-10/
LOCATION:Radio Lewisham
CATEGORIES:Radio Lewisham schedule
END:VEVENT
BEGIN:VEVENT
DTSTART;TZID=Europe/London:20260513T120000
DTEND;TZID=Europe/London:20260513T130000
DTSTAMP:20260422T010519
CREATED:20260305T213637Z
LAST-MODIFIED:20260305T213637Z
UID:16239-1778673600-1778677200@lewishammusic.org
SUMMARY:Good Soup!
DESCRIPTION:Interviews with upcoming creatives as they are tasked to digest 3 levels of spicy Nigerian pepper soup.
URL:https://lewishammusic.org/event/good-soup-10/
LOCATION:Radio Lewisham
CATEGORIES:Radio Lewisham schedule
END:VEVENT
BEGIN:VEVENT
DTSTART;TZID=Europe/London:20260513T150000
DTEND;TZID=Europe/London:20260513T160000
DTSTAMP:20260422T010519
CREATED:20260305T213838Z
LAST-MODIFIED:20260305T213838Z
UID:16282-1778684400-1778688000@lewishammusic.org
SUMMARY:Indi’s Island Show
DESCRIPTION:Showcasing Caribbean music\, games and up to date news on the global diaspora.
URL:https://lewishammusic.org/event/indis-island-show-10/
LOCATION:Radio Lewisham
CATEGORIES:Radio Lewisham schedule
END:VEVENT
BEGIN:VEVENT
DTSTART;TZID=Europe/London:20260513T190000
DTEND;TZID=Europe/London:20260513T200000
DTSTAMP:20260422T010519
CREATED:20260305T214053Z
LAST-MODIFIED:20260305T214053Z
UID:16325-1778698800-1778702400@lewishammusic.org
SUMMARY:Lewisham Live and Local
DESCRIPTION:Your guide to the best venues\, events and emerging artists in the area.
URL:https://lewishammusic.org/event/lewisham-live-and-local-10/
LOCATION:Radio Lewisham
CATEGORIES:Radio Lewisham schedule
END:VEVENT
BEGIN:VEVENT
DTSTART;TZID=Europe/London:20260514T150000
DTEND;TZID=Europe/London:20260514T160000
DTSTAMP:20260422T010519
CREATED:20260305T214307Z
LAST-MODIFIED:20260305T214307Z
UID:16368-1778770800-1778774400@lewishammusic.org
SUMMARY:Siren Sounds
DESCRIPTION:A series of shows aiming to uplift women and gender diverse folk in music\, championing their individual contributions to the industry.
URL:https://lewishammusic.org/event/siren-sounds-10/
LOCATION:Radio Lewisham
CATEGORIES:Radio Lewisham schedule
END:VEVENT
BEGIN:VEVENT
DTSTART;TZID=Europe/London:20260514T170000
DTEND;TZID=Europe/London:20260514T180000
DTSTAMP:20260422T010519
CREATED:20260305T214509Z
LAST-MODIFIED:20260305T214509Z
UID:16411-1778778000-1778781600@lewishammusic.org
SUMMARY:Transportations w/ Daisy
DESCRIPTION:Daisy hopscotches through time\, place and genre to bring you expansive sounds from across the globe.
URL:https://lewishammusic.org/event/transportations-w-daisy-10/
LOCATION:Radio Lewisham
CATEGORIES:Radio Lewisham schedule
END:VEVENT
BEGIN:VEVENT
DTSTART;TZID=Europe/London:20260514T180000
DTEND;TZID=Europe/London:20260514T190000
DTSTAMP:20260422T010519
CREATED:20260305T214722Z
LAST-MODIFIED:20260305T214722Z
UID:16454-1778781600-1778785200@lewishammusic.org
SUMMARY:Offside! Women in sport
DESCRIPTION:A bold radio show exploring gender inequality in sport.
URL:https://lewishammusic.org/event/offside-women-in-sport-10/
LOCATION:Radio Lewisham
CATEGORIES:Radio Lewisham schedule
END:VEVENT
BEGIN:VEVENT
DTSTART;TZID=Europe/London:20260514T200000
DTEND;TZID=Europe/London:20260514T210000
DTSTAMP:20260422T010519
CREATED:20260305T214923Z
LAST-MODIFIED:20260305T214923Z
UID:16497-1778788800-1778792400@lewishammusic.org
SUMMARY:Lewisham's Schools and Youth Groups
DESCRIPTION:Join the conversation and get to know the young people of Lewisham’s diverse schools and youth groups.
URL:https://lewishammusic.org/event/lewishams-schools-and-youth-groups-10/
LOCATION:Radio Lewisham
CATEGORIES:Radio Lewisham schedule
END:VEVENT
BEGIN:VEVENT
DTSTART;TZID=Europe/London:20260515T100000
DTEND;TZID=Europe/London:20260515T110000
DTSTAMP:20260422T010519
CREATED:20260305T215137Z
LAST-MODIFIED:20260305T215137Z
UID:16541-1778839200-1778842800@lewishammusic.org
SUMMARY:CultureWave w/ Emanuel Duarte
DESCRIPTION:Through history\, language\, and food\, this show will allow you to see the world through a new lens.
URL:https://lewishammusic.org/event/culturewave-w-emanuel-duarte-11/
LOCATION:Radio Lewisham
CATEGORIES:Radio Lewisham schedule
END:VEVENT
BEGIN:VEVENT
DTSTART;TZID=Europe/London:20260515T120000
DTEND;TZID=Europe/London:20260515T130000
DTSTAMP:20260422T010519
CREATED:20260305T215352Z
LAST-MODIFIED:20260305T215352Z
UID:16585-1778846400-1778850000@lewishammusic.org
SUMMARY:Nesh and K Talks
DESCRIPTION:2 local lads share stories and give you a perspective through a Lewisham lens.
URL:https://lewishammusic.org/event/nesh-and-k-talks-11/
LOCATION:Radio Lewisham
CATEGORIES:Radio Lewisham schedule
END:VEVENT
BEGIN:VEVENT
DTSTART;TZID=Europe/London:20260515T150000
DTEND;TZID=Europe/London:20260515T160000
DTSTAMP:20260422T010519
CREATED:20260305T215607Z
LAST-MODIFIED:20260305T215607Z
UID:16629-1778857200-1778860800@lewishammusic.org
SUMMARY:Box of Niche
DESCRIPTION:Unboxing a box of…niche things.
URL:https://lewishammusic.org/event/box-of-niche-11/
LOCATION:Radio Lewisham
CATEGORIES:Radio Lewisham schedule
END:VEVENT
BEGIN:VEVENT
DTSTART;TZID=Europe/London:20260515T180000
DTEND;TZID=Europe/London:20260515T193000
DTSTAMP:20260422T010519
CREATED:20250902T161404Z
LAST-MODIFIED:20250902T161404Z
UID:14771-1778868000-1778873400@lewishammusic.org
SUMMARY:Lewisham Youth Concert Band (week 5)
DESCRIPTION:If you play a brass\, woodwind or orchestral percussion instrument at Grade 3+ (or equivalent) and would like to play in a large band with other young musicians from across Lewisham then come and join Lewisham Youth Concert Band. Head to the link below to find out more and apply.
URL:https://lewishammusic.org/event/lewisham-youth-concert-band-week-5-6/
LOCATION:Prendergast Vale School\, Vian Street\, Lewisham\, London\, SE13 7BN\, United Kingdom
ORGANIZER;CN="Lewisham Music":MAILTO:info@lewishammusic.org
END:VEVENT
BEGIN:VEVENT
DTSTART;TZID=Europe/London:20260515T190000
DTEND;TZID=Europe/London:20260515T210000
DTSTAMP:20260422T010519
CREATED:20260305T215822Z
LAST-MODIFIED:20260305T215822Z
UID:16673-1778871600-1778878800@lewishammusic.org
SUMMARY:Undeniable Music Mix
DESCRIPTION:A monthly DJ mix from Lewisham’s Undeniable Records.
URL:https://lewishammusic.org/event/undeniable-music-mix-11/
LOCATION:Radio Lewisham
CATEGORIES:Radio Lewisham schedule
END:VEVENT
BEGIN:VEVENT
DTSTART;TZID=Europe/London:20260516T090000
DTEND;TZID=Europe/London:20260516T140000
DTSTAMP:20260422T010519
CREATED:20250902T161304Z
LAST-MODIFIED:20250902T161304Z
UID:14761-1778922000-1778940000@lewishammusic.org
SUMMARY:Saturday Music Centre (week 5)
DESCRIPTION:Our Saturday Music Centre is a great place for young musicians to develop their skills and explore their creativity. The centre runs during school term time and offers instrumentalists and singers at all levels (beginner to advanced) a wide range of bands\, choirs\, groups and ensembles covering a variety of genres\, as well as music theory classes and individual instrumental tuition. Head to the link below to find out more and apply.
URL:https://lewishammusic.org/event/saturday-music-centre-week-5-6/
LOCATION:Prendergast Vale School\, Vian Street\, Lewisham\, London\, SE13 7BN\, United Kingdom
ORGANIZER;CN="Lewisham Music":MAILTO:info@lewishammusic.org
END:VEVENT
BEGIN:VEVENT
DTSTART;TZID=Europe/London:20260518T100000
DTEND;TZID=Europe/London:20260518T110000
DTSTAMP:20260422T010519
CREATED:20260219T170525Z
LAST-MODIFIED:20260305T210204Z
UID:15342-1779098400-1779102000@lewishammusic.org
SUMMARY:New Voices
DESCRIPTION:Features\, interviews\, and music from emerging Radio Lewisham presenters and producers.
URL:https://lewishammusic.org/event/new-voices-40/
LOCATION:Radio Lewisham
CATEGORIES:Radio Lewisham schedule
END:VEVENT
BEGIN:VEVENT
DTSTART;TZID=Europe/London:20260518T130000
DTEND;TZID=Europe/London:20260518T140000
DTSTAMP:20260422T010519
CREATED:20260219T174452Z
LAST-MODIFIED:20260305T210404Z
UID:15397-1779109200-1779112800@lewishammusic.org
SUMMARY:Real Talk w/ James Gava
DESCRIPTION:Spotlighting rising artists\, innovators\, and storytellers who are shaping culture from the ground up.
URL:https://lewishammusic.org/event/real-talk-w-james-gava-19/
LOCATION:Radio Lewisham
CATEGORIES:Radio Lewisham schedule
END:VEVENT
BEGIN:VEVENT
DTSTART;TZID=Europe/London:20260518T150000
DTEND;TZID=Europe/London:20260518T160000
DTSTAMP:20260422T010519
CREATED:20260305T211619Z
LAST-MODIFIED:20260305T211619Z
UID:15939-1779116400-1779120000@lewishammusic.org
SUMMARY:Sounds Foreign
DESCRIPTION:Music from outside the English-speaking world\, and an exploration of the cultures and stories behind the sounds.
URL:https://lewishammusic.org/event/sounds-foreign-11/
LOCATION:Radio Lewisham
CATEGORIES:Radio Lewisham schedule
END:VEVENT
BEGIN:VEVENT
DTSTART;TZID=Europe/London:20260518T163000
DTEND;TZID=Europe/London:20260518T173000
DTSTAMP:20260422T010519
CREATED:20260305T211820Z
LAST-MODIFIED:20260305T211820Z
UID:15982-1779121800-1779125400@lewishammusic.org
SUMMARY:Anything and Everything
DESCRIPTION:4 friends talk about anything and everything (hence the name)\, so come and join us for a yap session.
URL:https://lewishammusic.org/event/anything-and-everything-11/
LOCATION:Radio Lewisham
CATEGORIES:Radio Lewisham schedule
END:VEVENT
BEGIN:VEVENT
DTSTART;TZID=Europe/London:20260518T173000
DTEND;TZID=Europe/London:20260518T183000
DTSTAMP:20260422T010519
CREATED:20260305T212202Z
LAST-MODIFIED:20260305T212202Z
UID:16025-1779125400-1779129000@lewishammusic.org
SUMMARY:Unplugged
DESCRIPTION:From friendships and mental health\, to growth dilemmas and everyday moments\, this is a space for real conversations\, good music and feeling less alone.
URL:https://lewishammusic.org/event/unplugged-11/
LOCATION:Radio Lewisham
CATEGORIES:Radio Lewisham schedule
END:VEVENT
BEGIN:VEVENT
DTSTART;TZID=Europe/London:20260519T100000
DTEND;TZID=Europe/London:20260519T120000
DTSTAMP:20260422T010519
CREATED:20260305T212807Z
LAST-MODIFIED:20260305T212807Z
UID:16068-1779184800-1779192000@lewishammusic.org
SUMMARY:The Youth Voice Commission
DESCRIPTION:A series highlighting the authentic views\, interests and opinions of Lewisham’s young people.
URL:https://lewishammusic.org/event/the-youth-voice-commission-11/
LOCATION:Radio Lewisham
CATEGORIES:Radio Lewisham schedule
END:VEVENT
BEGIN:VEVENT
DTSTART;TZID=Europe/London:20260519T150000
DTEND;TZID=Europe/London:20260519T160000
DTSTAMP:20260422T010519
CREATED:20260305T213009Z
LAST-MODIFIED:20260305T213009Z
UID:16111-1779202800-1779206400@lewishammusic.org
SUMMARY:Really Chill w/ Jade and Ella
DESCRIPTION:2 chill girls with real opinions\, jokes that may not land and endless stories to share.
URL:https://lewishammusic.org/event/really-chill-w-jade-and-ella-11/
LOCATION:Radio Lewisham
CATEGORIES:Radio Lewisham schedule
END:VEVENT
BEGIN:VEVENT
DTSTART;TZID=Europe/London:20260519T170000
DTEND;TZID=Europe/London:20260519T180000
DTSTAMP:20260422T010519
CREATED:20260305T213222Z
LAST-MODIFIED:20260305T213222Z
UID:16154-1779210000-1779213600@lewishammusic.org
SUMMARY:Taio's Takeover
DESCRIPTION:Music enthusiast/ creator/ producer\, Taio talks all things music\, and much more!
URL:https://lewishammusic.org/event/taios-takeover-11/
LOCATION:Radio Lewisham
CATEGORIES:Radio Lewisham schedule
END:VEVENT
BEGIN:VEVENT
DTSTART;TZID=Europe/London:20260519T190000
DTEND;TZID=Europe/London:20260519T200000
DTSTAMP:20260422T010519
CREATED:20260305T213424Z
LAST-MODIFIED:20260305T213424Z
UID:16197-1779217200-1779220800@lewishammusic.org
SUMMARY:77 WATTS
DESCRIPTION:Young emerging presenters from Midi Music Company take over the mic to discuss the things that matter to them most.
URL:https://lewishammusic.org/event/77-watts-11/
LOCATION:Radio Lewisham
CATEGORIES:Radio Lewisham schedule
END:VEVENT
BEGIN:VEVENT
DTSTART;TZID=Europe/London:20260520T120000
DTEND;TZID=Europe/London:20260520T130000
DTSTAMP:20260422T010519
CREATED:20260305T213637Z
LAST-MODIFIED:20260305T213637Z
UID:16240-1779278400-1779282000@lewishammusic.org
SUMMARY:Good Soup!
DESCRIPTION:Interviews with upcoming creatives as they are tasked to digest 3 levels of spicy Nigerian pepper soup.
URL:https://lewishammusic.org/event/good-soup-11/
LOCATION:Radio Lewisham
CATEGORIES:Radio Lewisham schedule
END:VEVENT
BEGIN:VEVENT
DTSTART;TZID=Europe/London:20260520T150000
DTEND;TZID=Europe/London:20260520T160000
DTSTAMP:20260422T010519
CREATED:20260305T213851Z
LAST-MODIFIED:20260305T213851Z
UID:16283-1779289200-1779292800@lewishammusic.org
SUMMARY:Indi’s Island Show
DESCRIPTION:Showcasing Caribbean music\, games and up to date news on the global diaspora.
URL:https://lewishammusic.org/event/indis-island-show-11/
LOCATION:Radio Lewisham
CATEGORIES:Radio Lewisham schedule
END:VEVENT
END:VCALENDAR