BEGIN:VCALENDAR
VERSION:2.0
PRODID:-//Lewisham Music - ECPv6.15.16//NONSGML v1.0//EN
CALSCALE:GREGORIAN
METHOD:PUBLISH
X-WR-CALNAME:Lewisham Music
X-ORIGINAL-URL:https://lewishammusic.org
X-WR-CALDESC:Events for Lewisham Music
REFRESH-INTERVAL;VALUE=DURATION:PT1H
X-Robots-Tag:noindex
X-PUBLISHED-TTL:PT1H
BEGIN:VTIMEZONE
TZID:Europe/London
BEGIN:DAYLIGHT
TZOFFSETFROM:+0000
TZOFFSETTO:+0100
TZNAME:BST
DTSTART:20250330T010000
END:DAYLIGHT
BEGIN:STANDARD
TZOFFSETFROM:+0100
TZOFFSETTO:+0000
TZNAME:GMT
DTSTART:20251026T010000
END:STANDARD
BEGIN:DAYLIGHT
TZOFFSETFROM:+0000
TZOFFSETTO:+0100
TZNAME:BST
DTSTART:20260329T010000
END:DAYLIGHT
BEGIN:STANDARD
TZOFFSETFROM:+0100
TZOFFSETTO:+0000
TZNAME:GMT
DTSTART:20261025T010000
END:STANDARD
BEGIN:DAYLIGHT
TZOFFSETFROM:+0000
TZOFFSETTO:+0100
TZNAME:BST
DTSTART:20270328T010000
END:DAYLIGHT
BEGIN:STANDARD
TZOFFSETFROM:+0100
TZOFFSETTO:+0000
TZNAME:GMT
DTSTART:20271031T010000
END:STANDARD
END:VTIMEZONE
BEGIN:VEVENT
DTSTART;TZID=Europe/London:20261207T100000
DTEND;TZID=Europe/London:20261207T110000
DTSTAMP:20260424T104745
CREATED:20260219T170925Z
LAST-MODIFIED:20260305T210319Z
UID:15371-1796637600-1796641200@lewishammusic.org
SUMMARY:New Voices
DESCRIPTION:Features\, interviews\, and music from emerging Radio Lewisham presenters and producers.
URL:https://lewishammusic.org/event/new-voices-69/
LOCATION:Radio Lewisham
CATEGORIES:Radio Lewisham schedule
END:VEVENT
BEGIN:VEVENT
DTSTART;TZID=Europe/London:20261207T130000
DTEND;TZID=Europe/London:20261207T140000
DTSTAMP:20260424T104745
CREATED:20260219T175237Z
LAST-MODIFIED:20260305T211534Z
UID:15426-1796648400-1796652000@lewishammusic.org
SUMMARY:Real Talk w/ James Gava
DESCRIPTION:Spotlighting rising artists\, innovators\, and storytellers who are shaping culture from the ground up.
URL:https://lewishammusic.org/event/real-talk-w-james-gava-48/
LOCATION:Radio Lewisham
CATEGORIES:Radio Lewisham schedule
END:VEVENT
BEGIN:VEVENT
DTSTART;TZID=Europe/London:20261207T150000
DTEND;TZID=Europe/London:20261207T160000
DTSTAMP:20260424T104745
CREATED:20260305T211749Z
LAST-MODIFIED:20260305T211749Z
UID:15968-1796655600-1796659200@lewishammusic.org
SUMMARY:Sounds Foreign
DESCRIPTION:Music from outside the English-speaking world\, and an exploration of the cultures and stories behind the sounds.
URL:https://lewishammusic.org/event/sounds-foreign-40/
LOCATION:Radio Lewisham
CATEGORIES:Radio Lewisham schedule
END:VEVENT
BEGIN:VEVENT
DTSTART;TZID=Europe/London:20261207T163000
DTEND;TZID=Europe/London:20261207T173000
DTSTAMP:20260424T104745
CREATED:20260305T211951Z
LAST-MODIFIED:20260305T211951Z
UID:16011-1796661000-1796664600@lewishammusic.org
SUMMARY:Anything and Everything
DESCRIPTION:4 friends talk about anything and everything (hence the name)\, so come and join us for a yap session.
URL:https://lewishammusic.org/event/anything-and-everything-40/
LOCATION:Radio Lewisham
CATEGORIES:Radio Lewisham schedule
END:VEVENT
BEGIN:VEVENT
DTSTART;TZID=Europe/London:20261207T173000
DTEND;TZID=Europe/London:20261207T183000
DTSTAMP:20260424T104745
CREATED:20260305T212722Z
LAST-MODIFIED:20260305T212722Z
UID:16054-1796664600-1796668200@lewishammusic.org
SUMMARY:Unplugged
DESCRIPTION:From friendships and mental health\, to growth dilemmas and everyday moments\, this is a space for real conversations\, good music and feeling less alone.
URL:https://lewishammusic.org/event/unplugged-40/
LOCATION:Radio Lewisham
CATEGORIES:Radio Lewisham schedule
END:VEVENT
BEGIN:VEVENT
DTSTART;TZID=Europe/London:20261208T100000
DTEND;TZID=Europe/London:20261208T120000
DTSTAMP:20260424T104745
CREATED:20260305T212923Z
LAST-MODIFIED:20260305T212923Z
UID:16097-1796724000-1796731200@lewishammusic.org
SUMMARY:The Youth Voice Commission
DESCRIPTION:A series highlighting the authentic views\, interests and opinions of Lewisham’s young people.
URL:https://lewishammusic.org/event/the-youth-voice-commission-40/
LOCATION:Radio Lewisham
CATEGORIES:Radio Lewisham schedule
END:VEVENT
BEGIN:VEVENT
DTSTART;TZID=Europe/London:20261208T150000
DTEND;TZID=Europe/London:20261208T160000
DTSTAMP:20260424T104745
CREATED:20260305T213137Z
LAST-MODIFIED:20260305T213137Z
UID:16140-1796742000-1796745600@lewishammusic.org
SUMMARY:Really Chill w/ Jade and Ella
DESCRIPTION:2 chill girls with real opinions\, jokes that may not land and endless stories to share.
URL:https://lewishammusic.org/event/really-chill-w-jade-and-ella-40/
LOCATION:Radio Lewisham
CATEGORIES:Radio Lewisham schedule
END:VEVENT
BEGIN:VEVENT
DTSTART;TZID=Europe/London:20261208T170000
DTEND;TZID=Europe/London:20261208T180000
DTSTAMP:20260424T104745
CREATED:20260305T213352Z
LAST-MODIFIED:20260305T213352Z
UID:16183-1796749200-1796752800@lewishammusic.org
SUMMARY:Taio's Takeover
DESCRIPTION:Music enthusiast/ creator/ producer\, Taio talks all things music\, and much more!
URL:https://lewishammusic.org/event/taios-takeover-40/
LOCATION:Radio Lewisham
CATEGORIES:Radio Lewisham schedule
END:VEVENT
BEGIN:VEVENT
DTSTART;TZID=Europe/London:20261208T190000
DTEND;TZID=Europe/London:20261208T200000
DTSTAMP:20260424T104745
CREATED:20260305T213553Z
LAST-MODIFIED:20260305T213553Z
UID:16226-1796756400-1796760000@lewishammusic.org
SUMMARY:77 WATTS
DESCRIPTION:Young emerging presenters from Midi Music Company take over the mic to discuss the things that matter to them most.
URL:https://lewishammusic.org/event/77-watts-40/
LOCATION:Radio Lewisham
CATEGORIES:Radio Lewisham schedule
END:VEVENT
BEGIN:VEVENT
DTSTART;TZID=Europe/London:20261209T120000
DTEND;TZID=Europe/London:20261209T130000
DTSTAMP:20260424T104745
CREATED:20260305T213807Z
LAST-MODIFIED:20260305T213807Z
UID:16269-1796817600-1796821200@lewishammusic.org
SUMMARY:Good Soup!
DESCRIPTION:Interviews with upcoming creatives as they are tasked to digest 3 levels of spicy Nigerian pepper soup.
URL:https://lewishammusic.org/event/good-soup-40/
LOCATION:Radio Lewisham
CATEGORIES:Radio Lewisham schedule
END:VEVENT
BEGIN:VEVENT
DTSTART;TZID=Europe/London:20261209T150000
DTEND;TZID=Europe/London:20261209T160000
DTSTAMP:20260424T104745
CREATED:20260305T214011Z
LAST-MODIFIED:20260305T214011Z
UID:16312-1796828400-1796832000@lewishammusic.org
SUMMARY:Indi’s Island Show
DESCRIPTION:Showcasing Caribbean music\, games and up to date news on the global diaspora.
URL:https://lewishammusic.org/event/indis-island-show-40/
LOCATION:Radio Lewisham
CATEGORIES:Radio Lewisham schedule
END:VEVENT
BEGIN:VEVENT
DTSTART;TZID=Europe/London:20261209T190000
DTEND;TZID=Europe/London:20261209T200000
DTSTAMP:20260424T104745
CREATED:20260305T214222Z
LAST-MODIFIED:20260305T214222Z
UID:16355-1796842800-1796846400@lewishammusic.org
SUMMARY:Lewisham Live and Local
DESCRIPTION:Your guide to the best venues\, events and emerging artists in the area.
URL:https://lewishammusic.org/event/lewisham-live-and-local-40/
LOCATION:Radio Lewisham
CATEGORIES:Radio Lewisham schedule
END:VEVENT
BEGIN:VEVENT
DTSTART;TZID=Europe/London:20261210T150000
DTEND;TZID=Europe/London:20261210T160000
DTSTAMP:20260424T104745
CREATED:20260305T214436Z
LAST-MODIFIED:20260305T214436Z
UID:16398-1796914800-1796918400@lewishammusic.org
SUMMARY:Siren Sounds
DESCRIPTION:A series of shows aiming to uplift women and gender diverse folk in music\, championing their individual contributions to the industry.
URL:https://lewishammusic.org/event/siren-sounds-40/
LOCATION:Radio Lewisham
CATEGORIES:Radio Lewisham schedule
END:VEVENT
BEGIN:VEVENT
DTSTART;TZID=Europe/London:20261210T170000
DTEND;TZID=Europe/London:20261210T180000
DTSTAMP:20260424T104745
CREATED:20260305T214638Z
LAST-MODIFIED:20260305T214638Z
UID:16441-1796922000-1796925600@lewishammusic.org
SUMMARY:Transportations w/ Daisy
DESCRIPTION:Daisy hopscotches through time\, place and genre to bring you expansive sounds from across the globe.
URL:https://lewishammusic.org/event/transportations-w-daisy-40/
LOCATION:Radio Lewisham
CATEGORIES:Radio Lewisham schedule
END:VEVENT
BEGIN:VEVENT
DTSTART;TZID=Europe/London:20261210T180000
DTEND;TZID=Europe/London:20261210T190000
DTSTAMP:20260424T104745
CREATED:20260305T214853Z
LAST-MODIFIED:20260305T214853Z
UID:16484-1796925600-1796929200@lewishammusic.org
SUMMARY:Offside! Women in sport
DESCRIPTION:A bold radio show exploring gender inequality in sport.
URL:https://lewishammusic.org/event/offside-women-in-sport-40/
LOCATION:Radio Lewisham
CATEGORIES:Radio Lewisham schedule
END:VEVENT
BEGIN:VEVENT
DTSTART;TZID=Europe/London:20261210T200000
DTEND;TZID=Europe/London:20261210T210000
DTSTAMP:20260424T104745
CREATED:20260305T215053Z
LAST-MODIFIED:20260305T215053Z
UID:16527-1796932800-1796936400@lewishammusic.org
SUMMARY:Lewisham's Schools and Youth Groups
DESCRIPTION:Join the conversation and get to know the young people of Lewisham’s diverse schools and youth groups.
URL:https://lewishammusic.org/event/lewishams-schools-and-youth-groups-40/
LOCATION:Radio Lewisham
CATEGORIES:Radio Lewisham schedule
END:VEVENT
BEGIN:VEVENT
DTSTART;TZID=Europe/London:20261211T100000
DTEND;TZID=Europe/London:20261211T110000
DTSTAMP:20260424T104745
CREATED:20260305T215308Z
LAST-MODIFIED:20260305T215308Z
UID:16571-1796983200-1796986800@lewishammusic.org
SUMMARY:CultureWave w/ Emanuel Duarte
DESCRIPTION:Through history\, language\, and food\, this show will allow you to see the world through a new lens.
URL:https://lewishammusic.org/event/culturewave-w-emanuel-duarte-41/
LOCATION:Radio Lewisham
CATEGORIES:Radio Lewisham schedule
END:VEVENT
BEGIN:VEVENT
DTSTART;TZID=Europe/London:20261211T120000
DTEND;TZID=Europe/London:20261211T130000
DTSTAMP:20260424T104745
CREATED:20260305T215523Z
LAST-MODIFIED:20260305T215523Z
UID:16615-1796990400-1796994000@lewishammusic.org
SUMMARY:Nesh and K Talks
DESCRIPTION:2 local lads share stories and give you a perspective through a Lewisham lens.
URL:https://lewishammusic.org/event/nesh-and-k-talks-41/
LOCATION:Radio Lewisham
CATEGORIES:Radio Lewisham schedule
END:VEVENT
BEGIN:VEVENT
DTSTART;TZID=Europe/London:20261211T150000
DTEND;TZID=Europe/London:20261211T160000
DTSTAMP:20260424T104745
CREATED:20260305T215737Z
LAST-MODIFIED:20260305T215737Z
UID:16659-1797001200-1797004800@lewishammusic.org
SUMMARY:Box of Niche
DESCRIPTION:Unboxing a box of…niche things.
URL:https://lewishammusic.org/event/box-of-niche-41/
LOCATION:Radio Lewisham
CATEGORIES:Radio Lewisham schedule
END:VEVENT
BEGIN:VEVENT
DTSTART;TZID=Europe/London:20261211T190000
DTEND;TZID=Europe/London:20261211T210000
DTSTAMP:20260424T104745
CREATED:20260305T215951Z
LAST-MODIFIED:20260305T215951Z
UID:16703-1797015600-1797022800@lewishammusic.org
SUMMARY:Undeniable Music Mix
DESCRIPTION:A monthly DJ mix from Lewisham’s Undeniable Records.
URL:https://lewishammusic.org/event/undeniable-music-mix-41/
LOCATION:Radio Lewisham
CATEGORIES:Radio Lewisham schedule
END:VEVENT
BEGIN:VEVENT
DTSTART;TZID=Europe/London:20261214T100000
DTEND;TZID=Europe/London:20261214T110000
DTSTAMP:20260424T104745
CREATED:20260219T170926Z
LAST-MODIFIED:20260305T210334Z
UID:15372-1797242400-1797246000@lewishammusic.org
SUMMARY:New Voices
DESCRIPTION:Features\, interviews\, and music from emerging Radio Lewisham presenters and producers.
URL:https://lewishammusic.org/event/new-voices-70/
LOCATION:Radio Lewisham
CATEGORIES:Radio Lewisham schedule
END:VEVENT
BEGIN:VEVENT
DTSTART;TZID=Europe/London:20261214T130000
DTEND;TZID=Europe/London:20261214T140000
DTSTAMP:20260424T104745
CREATED:20260219T175237Z
LAST-MODIFIED:20260305T211534Z
UID:15427-1797253200-1797256800@lewishammusic.org
SUMMARY:Real Talk w/ James Gava
DESCRIPTION:Spotlighting rising artists\, innovators\, and storytellers who are shaping culture from the ground up.
URL:https://lewishammusic.org/event/real-talk-w-james-gava-49/
LOCATION:Radio Lewisham
CATEGORIES:Radio Lewisham schedule
END:VEVENT
BEGIN:VEVENT
DTSTART;TZID=Europe/London:20261214T150000
DTEND;TZID=Europe/London:20261214T160000
DTSTAMP:20260424T104745
CREATED:20260305T211749Z
LAST-MODIFIED:20260305T211749Z
UID:15969-1797260400-1797264000@lewishammusic.org
SUMMARY:Sounds Foreign
DESCRIPTION:Music from outside the English-speaking world\, and an exploration of the cultures and stories behind the sounds.
URL:https://lewishammusic.org/event/sounds-foreign-41/
LOCATION:Radio Lewisham
CATEGORIES:Radio Lewisham schedule
END:VEVENT
BEGIN:VEVENT
DTSTART;TZID=Europe/London:20261214T163000
DTEND;TZID=Europe/London:20261214T173000
DTSTAMP:20260424T104745
CREATED:20260305T211951Z
LAST-MODIFIED:20260305T211951Z
UID:16012-1797265800-1797269400@lewishammusic.org
SUMMARY:Anything and Everything
DESCRIPTION:4 friends talk about anything and everything (hence the name)\, so come and join us for a yap session.
URL:https://lewishammusic.org/event/anything-and-everything-41/
LOCATION:Radio Lewisham
CATEGORIES:Radio Lewisham schedule
END:VEVENT
BEGIN:VEVENT
DTSTART;TZID=Europe/London:20261214T173000
DTEND;TZID=Europe/London:20261214T183000
DTSTAMP:20260424T104745
CREATED:20260305T212723Z
LAST-MODIFIED:20260305T212723Z
UID:16055-1797269400-1797273000@lewishammusic.org
SUMMARY:Unplugged
DESCRIPTION:From friendships and mental health\, to growth dilemmas and everyday moments\, this is a space for real conversations\, good music and feeling less alone.
URL:https://lewishammusic.org/event/unplugged-41/
LOCATION:Radio Lewisham
CATEGORIES:Radio Lewisham schedule
END:VEVENT
BEGIN:VEVENT
DTSTART;TZID=Europe/London:20261215T100000
DTEND;TZID=Europe/London:20261215T120000
DTSTAMP:20260424T104745
CREATED:20260305T212937Z
LAST-MODIFIED:20260305T212937Z
UID:16098-1797328800-1797336000@lewishammusic.org
SUMMARY:The Youth Voice Commission
DESCRIPTION:A series highlighting the authentic views\, interests and opinions of Lewisham’s young people.
URL:https://lewishammusic.org/event/the-youth-voice-commission-41/
LOCATION:Radio Lewisham
CATEGORIES:Radio Lewisham schedule
END:VEVENT
BEGIN:VEVENT
DTSTART;TZID=Europe/London:20261215T150000
DTEND;TZID=Europe/London:20261215T160000
DTSTAMP:20260424T104745
CREATED:20260305T213138Z
LAST-MODIFIED:20260305T213138Z
UID:16141-1797346800-1797350400@lewishammusic.org
SUMMARY:Really Chill w/ Jade and Ella
DESCRIPTION:2 chill girls with real opinions\, jokes that may not land and endless stories to share.
URL:https://lewishammusic.org/event/really-chill-w-jade-and-ella-41/
LOCATION:Radio Lewisham
CATEGORIES:Radio Lewisham schedule
END:VEVENT
BEGIN:VEVENT
DTSTART;TZID=Europe/London:20261215T170000
DTEND;TZID=Europe/London:20261215T180000
DTSTAMP:20260424T104745
CREATED:20260305T213352Z
LAST-MODIFIED:20260305T213352Z
UID:16184-1797354000-1797357600@lewishammusic.org
SUMMARY:Taio's Takeover
DESCRIPTION:Music enthusiast/ creator/ producer\, Taio talks all things music\, and much more!
URL:https://lewishammusic.org/event/taios-takeover-41/
LOCATION:Radio Lewisham
CATEGORIES:Radio Lewisham schedule
END:VEVENT
BEGIN:VEVENT
DTSTART;TZID=Europe/London:20261215T190000
DTEND;TZID=Europe/London:20261215T200000
DTSTAMP:20260424T104745
CREATED:20260305T213554Z
LAST-MODIFIED:20260305T213554Z
UID:16227-1797361200-1797364800@lewishammusic.org
SUMMARY:77 WATTS
DESCRIPTION:Young emerging presenters from Midi Music Company take over the mic to discuss the things that matter to them most.
URL:https://lewishammusic.org/event/77-watts-41/
LOCATION:Radio Lewisham
CATEGORIES:Radio Lewisham schedule
END:VEVENT
BEGIN:VEVENT
DTSTART;TZID=Europe/London:20261216T120000
DTEND;TZID=Europe/London:20261216T130000
DTSTAMP:20260424T104745
CREATED:20260305T213808Z
LAST-MODIFIED:20260305T213808Z
UID:16270-1797422400-1797426000@lewishammusic.org
SUMMARY:Good Soup!
DESCRIPTION:Interviews with upcoming creatives as they are tasked to digest 3 levels of spicy Nigerian pepper soup.
URL:https://lewishammusic.org/event/good-soup-41/
LOCATION:Radio Lewisham
CATEGORIES:Radio Lewisham schedule
END:VEVENT
END:VCALENDAR