BEGIN:VCALENDAR
VERSION:2.0
PRODID:-//Lewisham Music - ECPv6.15.16//NONSGML v1.0//EN
CALSCALE:GREGORIAN
METHOD:PUBLISH
X-WR-CALNAME:Lewisham Music
X-ORIGINAL-URL:https://lewishammusic.org
X-WR-CALDESC:Events for Lewisham Music
REFRESH-INTERVAL;VALUE=DURATION:PT1H
X-Robots-Tag:noindex
X-PUBLISHED-TTL:PT1H
BEGIN:VTIMEZONE
TZID:Europe/London
BEGIN:DAYLIGHT
TZOFFSETFROM:+0000
TZOFFSETTO:+0100
TZNAME:BST
DTSTART:20250330T010000
END:DAYLIGHT
BEGIN:STANDARD
TZOFFSETFROM:+0100
TZOFFSETTO:+0000
TZNAME:GMT
DTSTART:20251026T010000
END:STANDARD
BEGIN:DAYLIGHT
TZOFFSETFROM:+0000
TZOFFSETTO:+0100
TZNAME:BST
DTSTART:20260329T010000
END:DAYLIGHT
BEGIN:STANDARD
TZOFFSETFROM:+0100
TZOFFSETTO:+0000
TZNAME:GMT
DTSTART:20261025T010000
END:STANDARD
BEGIN:DAYLIGHT
TZOFFSETFROM:+0000
TZOFFSETTO:+0100
TZNAME:BST
DTSTART:20270328T010000
END:DAYLIGHT
BEGIN:STANDARD
TZOFFSETFROM:+0100
TZOFFSETTO:+0000
TZNAME:GMT
DTSTART:20271031T010000
END:STANDARD
END:VTIMEZONE
BEGIN:VEVENT
DTSTART;TZID=Europe/London:20261104T150000
DTEND;TZID=Europe/London:20261104T160000
DTSTAMP:20260424T065409
CREATED:20260305T213953Z
LAST-MODIFIED:20260305T213953Z
UID:16307-1793804400-1793808000@lewishammusic.org
SUMMARY:Indi’s Island Show
DESCRIPTION:Showcasing Caribbean music\, games and up to date news on the global diaspora.
URL:https://lewishammusic.org/event/indis-island-show-35/
LOCATION:Radio Lewisham
CATEGORIES:Radio Lewisham schedule
END:VEVENT
BEGIN:VEVENT
DTSTART;TZID=Europe/London:20261104T190000
DTEND;TZID=Europe/London:20261104T200000
DTSTAMP:20260424T065409
CREATED:20260305T214207Z
LAST-MODIFIED:20260305T214207Z
UID:16350-1793818800-1793822400@lewishammusic.org
SUMMARY:Lewisham Live and Local
DESCRIPTION:Your guide to the best venues\, events and emerging artists in the area.
URL:https://lewishammusic.org/event/lewisham-live-and-local-35/
LOCATION:Radio Lewisham
CATEGORIES:Radio Lewisham schedule
END:VEVENT
BEGIN:VEVENT
DTSTART;TZID=Europe/London:20261105T150000
DTEND;TZID=Europe/London:20261105T160000
DTSTAMP:20260424T065409
CREATED:20260305T214422Z
LAST-MODIFIED:20260305T214422Z
UID:16393-1793890800-1793894400@lewishammusic.org
SUMMARY:Siren Sounds
DESCRIPTION:A series of shows aiming to uplift women and gender diverse folk in music\, championing their individual contributions to the industry.
URL:https://lewishammusic.org/event/siren-sounds-35/
LOCATION:Radio Lewisham
CATEGORIES:Radio Lewisham schedule
END:VEVENT
BEGIN:VEVENT
DTSTART;TZID=Europe/London:20261105T170000
DTEND;TZID=Europe/London:20261105T180000
DTSTAMP:20260424T065409
CREATED:20260305T214623Z
LAST-MODIFIED:20260305T214623Z
UID:16436-1793898000-1793901600@lewishammusic.org
SUMMARY:Transportations w/ Daisy
DESCRIPTION:Daisy hopscotches through time\, place and genre to bring you expansive sounds from across the globe.
URL:https://lewishammusic.org/event/transportations-w-daisy-35/
LOCATION:Radio Lewisham
CATEGORIES:Radio Lewisham schedule
END:VEVENT
BEGIN:VEVENT
DTSTART;TZID=Europe/London:20261105T180000
DTEND;TZID=Europe/London:20261105T190000
DTSTAMP:20260424T065409
CREATED:20260305T214837Z
LAST-MODIFIED:20260305T214837Z
UID:16479-1793901600-1793905200@lewishammusic.org
SUMMARY:Offside! Women in sport
DESCRIPTION:A bold radio show exploring gender inequality in sport.
URL:https://lewishammusic.org/event/offside-women-in-sport-35/
LOCATION:Radio Lewisham
CATEGORIES:Radio Lewisham schedule
END:VEVENT
BEGIN:VEVENT
DTSTART;TZID=Europe/London:20261105T200000
DTEND;TZID=Europe/London:20261105T210000
DTSTAMP:20260424T065409
CREATED:20260305T215038Z
LAST-MODIFIED:20260305T215038Z
UID:16522-1793908800-1793912400@lewishammusic.org
SUMMARY:Lewisham's Schools and Youth Groups
DESCRIPTION:Join the conversation and get to know the young people of Lewisham’s diverse schools and youth groups.
URL:https://lewishammusic.org/event/lewishams-schools-and-youth-groups-35/
LOCATION:Radio Lewisham
CATEGORIES:Radio Lewisham schedule
END:VEVENT
BEGIN:VEVENT
DTSTART;TZID=Europe/London:20261106T100000
DTEND;TZID=Europe/London:20261106T110000
DTSTAMP:20260424T065409
CREATED:20260305T215252Z
LAST-MODIFIED:20260305T215252Z
UID:16566-1793959200-1793962800@lewishammusic.org
SUMMARY:CultureWave w/ Emanuel Duarte
DESCRIPTION:Through history\, language\, and food\, this show will allow you to see the world through a new lens.
URL:https://lewishammusic.org/event/culturewave-w-emanuel-duarte-36/
LOCATION:Radio Lewisham
CATEGORIES:Radio Lewisham schedule
END:VEVENT
BEGIN:VEVENT
DTSTART;TZID=Europe/London:20261106T120000
DTEND;TZID=Europe/London:20261106T130000
DTSTAMP:20260424T065409
CREATED:20260305T215509Z
LAST-MODIFIED:20260305T215509Z
UID:16610-1793966400-1793970000@lewishammusic.org
SUMMARY:Nesh and K Talks
DESCRIPTION:2 local lads share stories and give you a perspective through a Lewisham lens.
URL:https://lewishammusic.org/event/nesh-and-k-talks-36/
LOCATION:Radio Lewisham
CATEGORIES:Radio Lewisham schedule
END:VEVENT
BEGIN:VEVENT
DTSTART;TZID=Europe/London:20261106T150000
DTEND;TZID=Europe/London:20261106T160000
DTSTAMP:20260424T065409
CREATED:20260305T215722Z
LAST-MODIFIED:20260305T215722Z
UID:16654-1793977200-1793980800@lewishammusic.org
SUMMARY:Box of Niche
DESCRIPTION:Unboxing a box of…niche things.
URL:https://lewishammusic.org/event/box-of-niche-36/
LOCATION:Radio Lewisham
CATEGORIES:Radio Lewisham schedule
END:VEVENT
BEGIN:VEVENT
DTSTART;TZID=Europe/London:20261106T190000
DTEND;TZID=Europe/London:20261106T210000
DTSTAMP:20260424T065409
CREATED:20260305T215937Z
LAST-MODIFIED:20260305T215937Z
UID:16698-1793991600-1793998800@lewishammusic.org
SUMMARY:Undeniable Music Mix
DESCRIPTION:A monthly DJ mix from Lewisham’s Undeniable Records.
URL:https://lewishammusic.org/event/undeniable-music-mix-36/
LOCATION:Radio Lewisham
CATEGORIES:Radio Lewisham schedule
END:VEVENT
BEGIN:VEVENT
DTSTART;TZID=Europe/London:20261109T100000
DTEND;TZID=Europe/London:20261109T110000
DTSTAMP:20260424T065409
CREATED:20260219T170726Z
LAST-MODIFIED:20260305T210319Z
UID:15367-1794218400-1794222000@lewishammusic.org
SUMMARY:New Voices
DESCRIPTION:Features\, interviews\, and music from emerging Radio Lewisham presenters and producers.
URL:https://lewishammusic.org/event/new-voices-65/
LOCATION:Radio Lewisham
CATEGORIES:Radio Lewisham schedule
END:VEVENT
BEGIN:VEVENT
DTSTART;TZID=Europe/London:20261109T130000
DTEND;TZID=Europe/London:20261109T140000
DTSTAMP:20260424T065409
CREATED:20260219T175131Z
LAST-MODIFIED:20260305T211519Z
UID:15422-1794229200-1794232800@lewishammusic.org
SUMMARY:Real Talk w/ James Gava
DESCRIPTION:Spotlighting rising artists\, innovators\, and storytellers who are shaping culture from the ground up.
URL:https://lewishammusic.org/event/real-talk-w-james-gava-44/
LOCATION:Radio Lewisham
CATEGORIES:Radio Lewisham schedule
END:VEVENT
BEGIN:VEVENT
DTSTART;TZID=Europe/London:20261109T150000
DTEND;TZID=Europe/London:20261109T160000
DTSTAMP:20260424T065409
CREATED:20260305T211737Z
LAST-MODIFIED:20260305T211737Z
UID:15964-1794236400-1794240000@lewishammusic.org
SUMMARY:Sounds Foreign
DESCRIPTION:Music from outside the English-speaking world\, and an exploration of the cultures and stories behind the sounds.
URL:https://lewishammusic.org/event/sounds-foreign-36/
LOCATION:Radio Lewisham
CATEGORIES:Radio Lewisham schedule
END:VEVENT
BEGIN:VEVENT
DTSTART;TZID=Europe/London:20261109T163000
DTEND;TZID=Europe/London:20261109T173000
DTSTAMP:20260424T065409
CREATED:20260305T211936Z
LAST-MODIFIED:20260305T211936Z
UID:16007-1794241800-1794245400@lewishammusic.org
SUMMARY:Anything and Everything
DESCRIPTION:4 friends talk about anything and everything (hence the name)\, so come and join us for a yap session.
URL:https://lewishammusic.org/event/anything-and-everything-36/
LOCATION:Radio Lewisham
CATEGORIES:Radio Lewisham schedule
END:VEVENT
BEGIN:VEVENT
DTSTART;TZID=Europe/London:20261109T173000
DTEND;TZID=Europe/London:20261109T183000
DTSTAMP:20260424T065409
CREATED:20260305T212708Z
LAST-MODIFIED:20260305T212708Z
UID:16050-1794245400-1794249000@lewishammusic.org
SUMMARY:Unplugged
DESCRIPTION:From friendships and mental health\, to growth dilemmas and everyday moments\, this is a space for real conversations\, good music and feeling less alone.
URL:https://lewishammusic.org/event/unplugged-36/
LOCATION:Radio Lewisham
CATEGORIES:Radio Lewisham schedule
END:VEVENT
BEGIN:VEVENT
DTSTART;TZID=Europe/London:20261110T100000
DTEND;TZID=Europe/London:20261110T120000
DTSTAMP:20260424T065409
CREATED:20260305T212921Z
LAST-MODIFIED:20260305T212921Z
UID:16093-1794304800-1794312000@lewishammusic.org
SUMMARY:The Youth Voice Commission
DESCRIPTION:A series highlighting the authentic views\, interests and opinions of Lewisham’s young people.
URL:https://lewishammusic.org/event/the-youth-voice-commission-36/
LOCATION:Radio Lewisham
CATEGORIES:Radio Lewisham schedule
END:VEVENT
BEGIN:VEVENT
DTSTART;TZID=Europe/London:20261110T150000
DTEND;TZID=Europe/London:20261110T160000
DTSTAMP:20260424T065409
CREATED:20260305T213122Z
LAST-MODIFIED:20260305T213122Z
UID:16136-1794322800-1794326400@lewishammusic.org
SUMMARY:Really Chill w/ Jade and Ella
DESCRIPTION:2 chill girls with real opinions\, jokes that may not land and endless stories to share.
URL:https://lewishammusic.org/event/really-chill-w-jade-and-ella-36/
LOCATION:Radio Lewisham
CATEGORIES:Radio Lewisham schedule
END:VEVENT
BEGIN:VEVENT
DTSTART;TZID=Europe/London:20261110T170000
DTEND;TZID=Europe/London:20261110T180000
DTSTAMP:20260424T065409
CREATED:20260305T213337Z
LAST-MODIFIED:20260305T213337Z
UID:16179-1794330000-1794333600@lewishammusic.org
SUMMARY:Taio's Takeover
DESCRIPTION:Music enthusiast/ creator/ producer\, Taio talks all things music\, and much more!
URL:https://lewishammusic.org/event/taios-takeover-36/
LOCATION:Radio Lewisham
CATEGORIES:Radio Lewisham schedule
END:VEVENT
BEGIN:VEVENT
DTSTART;TZID=Europe/London:20261110T190000
DTEND;TZID=Europe/London:20261110T200000
DTSTAMP:20260424T065409
CREATED:20260305T213538Z
LAST-MODIFIED:20260305T213538Z
UID:16222-1794337200-1794340800@lewishammusic.org
SUMMARY:77 WATTS
DESCRIPTION:Young emerging presenters from Midi Music Company take over the mic to discuss the things that matter to them most.
URL:https://lewishammusic.org/event/77-watts-36/
LOCATION:Radio Lewisham
CATEGORIES:Radio Lewisham schedule
END:VEVENT
BEGIN:VEVENT
DTSTART;TZID=Europe/London:20261111T120000
DTEND;TZID=Europe/London:20261111T130000
DTSTAMP:20260424T065409
CREATED:20260305T213752Z
LAST-MODIFIED:20260305T213752Z
UID:16265-1794398400-1794402000@lewishammusic.org
SUMMARY:Good Soup!
DESCRIPTION:Interviews with upcoming creatives as they are tasked to digest 3 levels of spicy Nigerian pepper soup.
URL:https://lewishammusic.org/event/good-soup-36/
LOCATION:Radio Lewisham
CATEGORIES:Radio Lewisham schedule
END:VEVENT
BEGIN:VEVENT
DTSTART;TZID=Europe/London:20261111T150000
DTEND;TZID=Europe/London:20261111T160000
DTSTAMP:20260424T065409
CREATED:20260305T214008Z
LAST-MODIFIED:20260305T214008Z
UID:16308-1794409200-1794412800@lewishammusic.org
SUMMARY:Indi’s Island Show
DESCRIPTION:Showcasing Caribbean music\, games and up to date news on the global diaspora.
URL:https://lewishammusic.org/event/indis-island-show-36/
LOCATION:Radio Lewisham
CATEGORIES:Radio Lewisham schedule
END:VEVENT
BEGIN:VEVENT
DTSTART;TZID=Europe/London:20261111T190000
DTEND;TZID=Europe/London:20261111T200000
DTSTAMP:20260424T065409
CREATED:20260305T214208Z
LAST-MODIFIED:20260305T214208Z
UID:16351-1794423600-1794427200@lewishammusic.org
SUMMARY:Lewisham Live and Local
DESCRIPTION:Your guide to the best venues\, events and emerging artists in the area.
URL:https://lewishammusic.org/event/lewisham-live-and-local-36/
LOCATION:Radio Lewisham
CATEGORIES:Radio Lewisham schedule
END:VEVENT
BEGIN:VEVENT
DTSTART;TZID=Europe/London:20261112T150000
DTEND;TZID=Europe/London:20261112T160000
DTSTAMP:20260424T065409
CREATED:20260305T214422Z
LAST-MODIFIED:20260305T214422Z
UID:16394-1794495600-1794499200@lewishammusic.org
SUMMARY:Siren Sounds
DESCRIPTION:A series of shows aiming to uplift women and gender diverse folk in music\, championing their individual contributions to the industry.
URL:https://lewishammusic.org/event/siren-sounds-36/
LOCATION:Radio Lewisham
CATEGORIES:Radio Lewisham schedule
END:VEVENT
BEGIN:VEVENT
DTSTART;TZID=Europe/London:20261112T170000
DTEND;TZID=Europe/London:20261112T180000
DTSTAMP:20260424T065409
CREATED:20260305T214624Z
LAST-MODIFIED:20260305T214624Z
UID:16437-1794502800-1794506400@lewishammusic.org
SUMMARY:Transportations w/ Daisy
DESCRIPTION:Daisy hopscotches through time\, place and genre to bring you expansive sounds from across the globe.
URL:https://lewishammusic.org/event/transportations-w-daisy-36/
LOCATION:Radio Lewisham
CATEGORIES:Radio Lewisham schedule
END:VEVENT
BEGIN:VEVENT
DTSTART;TZID=Europe/London:20261112T180000
DTEND;TZID=Europe/London:20261112T190000
DTSTAMP:20260424T065409
CREATED:20260305T214837Z
LAST-MODIFIED:20260305T214837Z
UID:16480-1794506400-1794510000@lewishammusic.org
SUMMARY:Offside! Women in sport
DESCRIPTION:A bold radio show exploring gender inequality in sport.
URL:https://lewishammusic.org/event/offside-women-in-sport-36/
LOCATION:Radio Lewisham
CATEGORIES:Radio Lewisham schedule
END:VEVENT
BEGIN:VEVENT
DTSTART;TZID=Europe/London:20261112T200000
DTEND;TZID=Europe/London:20261112T210000
DTSTAMP:20260424T065409
CREATED:20260305T215052Z
LAST-MODIFIED:20260305T215052Z
UID:16523-1794513600-1794517200@lewishammusic.org
SUMMARY:Lewisham's Schools and Youth Groups
DESCRIPTION:Join the conversation and get to know the young people of Lewisham’s diverse schools and youth groups.
URL:https://lewishammusic.org/event/lewishams-schools-and-youth-groups-36/
LOCATION:Radio Lewisham
CATEGORIES:Radio Lewisham schedule
END:VEVENT
BEGIN:VEVENT
DTSTART;TZID=Europe/London:20261113T100000
DTEND;TZID=Europe/London:20261113T110000
DTSTAMP:20260424T065409
CREATED:20260305T215253Z
LAST-MODIFIED:20260305T215253Z
UID:16567-1794564000-1794567600@lewishammusic.org
SUMMARY:CultureWave w/ Emanuel Duarte
DESCRIPTION:Through history\, language\, and food\, this show will allow you to see the world through a new lens.
URL:https://lewishammusic.org/event/culturewave-w-emanuel-duarte-37/
LOCATION:Radio Lewisham
CATEGORIES:Radio Lewisham schedule
END:VEVENT
BEGIN:VEVENT
DTSTART;TZID=Europe/London:20261113T120000
DTEND;TZID=Europe/London:20261113T130000
DTSTAMP:20260424T065409
CREATED:20260305T215509Z
LAST-MODIFIED:20260305T215509Z
UID:16611-1794571200-1794574800@lewishammusic.org
SUMMARY:Nesh and K Talks
DESCRIPTION:2 local lads share stories and give you a perspective through a Lewisham lens.
URL:https://lewishammusic.org/event/nesh-and-k-talks-37/
LOCATION:Radio Lewisham
CATEGORIES:Radio Lewisham schedule
END:VEVENT
BEGIN:VEVENT
DTSTART;TZID=Europe/London:20261113T150000
DTEND;TZID=Europe/London:20261113T160000
DTSTAMP:20260424T065409
CREATED:20260305T215723Z
LAST-MODIFIED:20260305T215723Z
UID:16655-1794582000-1794585600@lewishammusic.org
SUMMARY:Box of Niche
DESCRIPTION:Unboxing a box of…niche things.
URL:https://lewishammusic.org/event/box-of-niche-37/
LOCATION:Radio Lewisham
CATEGORIES:Radio Lewisham schedule
END:VEVENT
BEGIN:VEVENT
DTSTART;TZID=Europe/London:20261113T190000
DTEND;TZID=Europe/London:20261113T210000
DTSTAMP:20260424T065409
CREATED:20260305T215937Z
LAST-MODIFIED:20260305T215937Z
UID:16699-1794596400-1794603600@lewishammusic.org
SUMMARY:Undeniable Music Mix
DESCRIPTION:A monthly DJ mix from Lewisham’s Undeniable Records.
URL:https://lewishammusic.org/event/undeniable-music-mix-37/
LOCATION:Radio Lewisham
CATEGORIES:Radio Lewisham schedule
END:VEVENT
END:VCALENDAR