BEGIN:VCALENDAR
VERSION:2.0
PRODID:-//Lewisham Music - ECPv6.15.16//NONSGML v1.0//EN
CALSCALE:GREGORIAN
METHOD:PUBLISH
X-ORIGINAL-URL:https://lewishammusic.org
X-WR-CALDESC:Events for Lewisham Music
REFRESH-INTERVAL;VALUE=DURATION:PT1H
X-Robots-Tag:noindex
X-PUBLISHED-TTL:PT1H
BEGIN:VTIMEZONE
TZID:Europe/London
BEGIN:DAYLIGHT
TZOFFSETFROM:+0000
TZOFFSETTO:+0100
TZNAME:BST
DTSTART:20250330T010000
END:DAYLIGHT
BEGIN:STANDARD
TZOFFSETFROM:+0100
TZOFFSETTO:+0000
TZNAME:GMT
DTSTART:20251026T010000
END:STANDARD
BEGIN:DAYLIGHT
TZOFFSETFROM:+0000
TZOFFSETTO:+0100
TZNAME:BST
DTSTART:20260329T010000
END:DAYLIGHT
BEGIN:STANDARD
TZOFFSETFROM:+0100
TZOFFSETTO:+0000
TZNAME:GMT
DTSTART:20261025T010000
END:STANDARD
BEGIN:DAYLIGHT
TZOFFSETFROM:+0000
TZOFFSETTO:+0100
TZNAME:BST
DTSTART:20270328T010000
END:DAYLIGHT
BEGIN:STANDARD
TZOFFSETFROM:+0100
TZOFFSETTO:+0000
TZNAME:GMT
DTSTART:20271031T010000
END:STANDARD
END:VTIMEZONE
BEGIN:VEVENT
DTSTART;TZID=Europe/London:20261026T100000
DTEND;TZID=Europe/London:20261026T110000
DTSTAMP:20260424T054337
CREATED:20260219T170725Z
LAST-MODIFIED:20260305T210305Z
UID:15365-1793008800-1793012400@lewishammusic.org
SUMMARY:New Voices
DESCRIPTION:Features\, interviews\, and music from emerging Radio Lewisham presenters and producers.
URL:https://lewishammusic.org/event/new-voices-63/
LOCATION:Radio Lewisham
CATEGORIES:Radio Lewisham schedule
END:VEVENT
BEGIN:VEVENT
DTSTART;TZID=Europe/London:20261026T130000
DTEND;TZID=Europe/London:20261026T140000
DTSTAMP:20260424T054337
CREATED:20260219T175130Z
LAST-MODIFIED:20260305T211519Z
UID:15420-1793019600-1793023200@lewishammusic.org
SUMMARY:Real Talk w/ James Gava
DESCRIPTION:Spotlighting rising artists\, innovators\, and storytellers who are shaping culture from the ground up.
URL:https://lewishammusic.org/event/real-talk-w-james-gava-42/
LOCATION:Radio Lewisham
CATEGORIES:Radio Lewisham schedule
END:VEVENT
BEGIN:VEVENT
DTSTART;TZID=Europe/London:20261026T150000
DTEND;TZID=Europe/London:20261026T160000
DTSTAMP:20260424T054337
CREATED:20260305T211720Z
LAST-MODIFIED:20260305T211720Z
UID:15962-1793026800-1793030400@lewishammusic.org
SUMMARY:Sounds Foreign
DESCRIPTION:Music from outside the English-speaking world\, and an exploration of the cultures and stories behind the sounds.
URL:https://lewishammusic.org/event/sounds-foreign-34/
LOCATION:Radio Lewisham
CATEGORIES:Radio Lewisham schedule
END:VEVENT
BEGIN:VEVENT
DTSTART;TZID=Europe/London:20261026T163000
DTEND;TZID=Europe/London:20261026T173000
DTSTAMP:20260424T054337
CREATED:20260305T211935Z
LAST-MODIFIED:20260305T211935Z
UID:16005-1793032200-1793035800@lewishammusic.org
SUMMARY:Anything and Everything
DESCRIPTION:4 friends talk about anything and everything (hence the name)\, so come and join us for a yap session.
URL:https://lewishammusic.org/event/anything-and-everything-34/
LOCATION:Radio Lewisham
CATEGORIES:Radio Lewisham schedule
END:VEVENT
BEGIN:VEVENT
DTSTART;TZID=Europe/London:20261026T173000
DTEND;TZID=Europe/London:20261026T183000
DTSTAMP:20260424T054337
CREATED:20260305T212707Z
LAST-MODIFIED:20260305T212707Z
UID:16048-1793035800-1793039400@lewishammusic.org
SUMMARY:Unplugged
DESCRIPTION:From friendships and mental health\, to growth dilemmas and everyday moments\, this is a space for real conversations\, good music and feeling less alone.
URL:https://lewishammusic.org/event/unplugged-34/
LOCATION:Radio Lewisham
CATEGORIES:Radio Lewisham schedule
END:VEVENT
BEGIN:VEVENT
DTSTART;TZID=Europe/London:20261027T100000
DTEND;TZID=Europe/London:20261027T120000
DTSTAMP:20260424T054337
CREATED:20260305T212908Z
LAST-MODIFIED:20260305T212908Z
UID:16091-1793095200-1793102400@lewishammusic.org
SUMMARY:The Youth Voice Commission
DESCRIPTION:A series highlighting the authentic views\, interests and opinions of Lewisham’s young people.
URL:https://lewishammusic.org/event/the-youth-voice-commission-34/
LOCATION:Radio Lewisham
CATEGORIES:Radio Lewisham schedule
END:VEVENT
BEGIN:VEVENT
DTSTART;TZID=Europe/London:20261027T150000
DTEND;TZID=Europe/London:20261027T160000
DTSTAMP:20260424T054337
CREATED:20260305T213122Z
LAST-MODIFIED:20260305T213122Z
UID:16134-1793113200-1793116800@lewishammusic.org
SUMMARY:Really Chill w/ Jade and Ella
DESCRIPTION:2 chill girls with real opinions\, jokes that may not land and endless stories to share.
URL:https://lewishammusic.org/event/really-chill-w-jade-and-ella-34/
LOCATION:Radio Lewisham
CATEGORIES:Radio Lewisham schedule
END:VEVENT
BEGIN:VEVENT
DTSTART;TZID=Europe/London:20261027T170000
DTEND;TZID=Europe/London:20261027T180000
DTSTAMP:20260424T054337
CREATED:20260305T213323Z
LAST-MODIFIED:20260305T213323Z
UID:16177-1793120400-1793124000@lewishammusic.org
SUMMARY:Taio's Takeover
DESCRIPTION:Music enthusiast/ creator/ producer\, Taio talks all things music\, and much more!
URL:https://lewishammusic.org/event/taios-takeover-34/
LOCATION:Radio Lewisham
CATEGORIES:Radio Lewisham schedule
END:VEVENT
BEGIN:VEVENT
DTSTART;TZID=Europe/London:20261027T190000
DTEND;TZID=Europe/London:20261027T200000
DTSTAMP:20260424T054337
CREATED:20260305T213538Z
LAST-MODIFIED:20260305T213538Z
UID:16220-1793127600-1793131200@lewishammusic.org
SUMMARY:77 WATTS
DESCRIPTION:Young emerging presenters from Midi Music Company take over the mic to discuss the things that matter to them most.
URL:https://lewishammusic.org/event/77-watts-34/
LOCATION:Radio Lewisham
CATEGORIES:Radio Lewisham schedule
END:VEVENT
BEGIN:VEVENT
DTSTART;TZID=Europe/London:20261028T120000
DTEND;TZID=Europe/London:20261028T130000
DTSTAMP:20260424T054337
CREATED:20260305T213752Z
LAST-MODIFIED:20260305T213752Z
UID:16263-1793188800-1793192400@lewishammusic.org
SUMMARY:Good Soup!
DESCRIPTION:Interviews with upcoming creatives as they are tasked to digest 3 levels of spicy Nigerian pepper soup.
URL:https://lewishammusic.org/event/good-soup-34/
LOCATION:Radio Lewisham
CATEGORIES:Radio Lewisham schedule
END:VEVENT
BEGIN:VEVENT
DTSTART;TZID=Europe/London:20261028T150000
DTEND;TZID=Europe/London:20261028T160000
DTSTAMP:20260424T054337
CREATED:20260305T213953Z
LAST-MODIFIED:20260305T213953Z
UID:16306-1793199600-1793203200@lewishammusic.org
SUMMARY:Indi’s Island Show
DESCRIPTION:Showcasing Caribbean music\, games and up to date news on the global diaspora.
URL:https://lewishammusic.org/event/indis-island-show-34/
LOCATION:Radio Lewisham
CATEGORIES:Radio Lewisham schedule
END:VEVENT
BEGIN:VEVENT
DTSTART;TZID=Europe/London:20261028T190000
DTEND;TZID=Europe/London:20261028T200000
DTSTAMP:20260424T054337
CREATED:20260305T214207Z
LAST-MODIFIED:20260305T214207Z
UID:16349-1793214000-1793217600@lewishammusic.org
SUMMARY:Lewisham Live and Local
DESCRIPTION:Your guide to the best venues\, events and emerging artists in the area.
URL:https://lewishammusic.org/event/lewisham-live-and-local-34/
LOCATION:Radio Lewisham
CATEGORIES:Radio Lewisham schedule
END:VEVENT
BEGIN:VEVENT
DTSTART;TZID=Europe/London:20261029T150000
DTEND;TZID=Europe/London:20261029T160000
DTSTAMP:20260424T054337
CREATED:20260305T214408Z
LAST-MODIFIED:20260305T214408Z
UID:16392-1793286000-1793289600@lewishammusic.org
SUMMARY:Siren Sounds
DESCRIPTION:A series of shows aiming to uplift women and gender diverse folk in music\, championing their individual contributions to the industry.
URL:https://lewishammusic.org/event/siren-sounds-34/
LOCATION:Radio Lewisham
CATEGORIES:Radio Lewisham schedule
END:VEVENT
BEGIN:VEVENT
DTSTART;TZID=Europe/London:20261029T170000
DTEND;TZID=Europe/London:20261029T180000
DTSTAMP:20260424T054337
CREATED:20260305T214623Z
LAST-MODIFIED:20260305T214623Z
UID:16435-1793293200-1793296800@lewishammusic.org
SUMMARY:Transportations w/ Daisy
DESCRIPTION:Daisy hopscotches through time\, place and genre to bring you expansive sounds from across the globe.
URL:https://lewishammusic.org/event/transportations-w-daisy-34/
LOCATION:Radio Lewisham
CATEGORIES:Radio Lewisham schedule
END:VEVENT
BEGIN:VEVENT
DTSTART;TZID=Europe/London:20261029T180000
DTEND;TZID=Europe/London:20261029T190000
DTSTAMP:20260424T054337
CREATED:20260305T214837Z
LAST-MODIFIED:20260305T214837Z
UID:16478-1793296800-1793300400@lewishammusic.org
SUMMARY:Offside! Women in sport
DESCRIPTION:A bold radio show exploring gender inequality in sport.
URL:https://lewishammusic.org/event/offside-women-in-sport-34/
LOCATION:Radio Lewisham
CATEGORIES:Radio Lewisham schedule
END:VEVENT
BEGIN:VEVENT
DTSTART;TZID=Europe/London:20261029T200000
DTEND;TZID=Europe/London:20261029T210000
DTSTAMP:20260424T054337
CREATED:20260305T215038Z
LAST-MODIFIED:20260305T215038Z
UID:16521-1793304000-1793307600@lewishammusic.org
SUMMARY:Lewisham's Schools and Youth Groups
DESCRIPTION:Join the conversation and get to know the young people of Lewisham’s diverse schools and youth groups.
URL:https://lewishammusic.org/event/lewishams-schools-and-youth-groups-34/
LOCATION:Radio Lewisham
CATEGORIES:Radio Lewisham schedule
END:VEVENT
BEGIN:VEVENT
DTSTART;TZID=Europe/London:20261030T100000
DTEND;TZID=Europe/London:20261030T110000
DTSTAMP:20260424T054337
CREATED:20260305T215252Z
LAST-MODIFIED:20260305T215252Z
UID:16565-1793354400-1793358000@lewishammusic.org
SUMMARY:CultureWave w/ Emanuel Duarte
DESCRIPTION:Through history\, language\, and food\, this show will allow you to see the world through a new lens.
URL:https://lewishammusic.org/event/culturewave-w-emanuel-duarte-35/
LOCATION:Radio Lewisham
CATEGORIES:Radio Lewisham schedule
END:VEVENT
BEGIN:VEVENT
DTSTART;TZID=Europe/London:20261030T120000
DTEND;TZID=Europe/London:20261030T130000
DTSTAMP:20260424T054337
CREATED:20260305T215508Z
LAST-MODIFIED:20260305T215508Z
UID:16609-1793361600-1793365200@lewishammusic.org
SUMMARY:Nesh and K Talks
DESCRIPTION:2 local lads share stories and give you a perspective through a Lewisham lens.
URL:https://lewishammusic.org/event/nesh-and-k-talks-35/
LOCATION:Radio Lewisham
CATEGORIES:Radio Lewisham schedule
END:VEVENT
BEGIN:VEVENT
DTSTART;TZID=Europe/London:20261030T150000
DTEND;TZID=Europe/London:20261030T160000
DTSTAMP:20260424T054337
CREATED:20260305T215722Z
LAST-MODIFIED:20260305T215722Z
UID:16653-1793372400-1793376000@lewishammusic.org
SUMMARY:Box of Niche
DESCRIPTION:Unboxing a box of…niche things.
URL:https://lewishammusic.org/event/box-of-niche-35/
LOCATION:Radio Lewisham
CATEGORIES:Radio Lewisham schedule
END:VEVENT
BEGIN:VEVENT
DTSTART;TZID=Europe/London:20261030T190000
DTEND;TZID=Europe/London:20261030T210000
DTSTAMP:20260424T054337
CREATED:20260305T215924Z
LAST-MODIFIED:20260305T215924Z
UID:16697-1793386800-1793394000@lewishammusic.org
SUMMARY:Undeniable Music Mix
DESCRIPTION:A monthly DJ mix from Lewisham’s Undeniable Records.
URL:https://lewishammusic.org/event/undeniable-music-mix-35/
LOCATION:Radio Lewisham
CATEGORIES:Radio Lewisham schedule
END:VEVENT
BEGIN:VEVENT
DTSTART;TZID=Europe/London:20261102T100000
DTEND;TZID=Europe/London:20261102T110000
DTSTAMP:20260424T054337
CREATED:20260219T170726Z
LAST-MODIFIED:20260305T210305Z
UID:15366-1793613600-1793617200@lewishammusic.org
SUMMARY:New Voices
DESCRIPTION:Features\, interviews\, and music from emerging Radio Lewisham presenters and producers.
URL:https://lewishammusic.org/event/new-voices-64/
LOCATION:Radio Lewisham
CATEGORIES:Radio Lewisham schedule
END:VEVENT
BEGIN:VEVENT
DTSTART;TZID=Europe/London:20261102T130000
DTEND;TZID=Europe/London:20261102T140000
DTSTAMP:20260424T054337
CREATED:20260219T175130Z
LAST-MODIFIED:20260305T211519Z
UID:15421-1793624400-1793628000@lewishammusic.org
SUMMARY:Real Talk w/ James Gava
DESCRIPTION:Spotlighting rising artists\, innovators\, and storytellers who are shaping culture from the ground up.
URL:https://lewishammusic.org/event/real-talk-w-james-gava-43/
LOCATION:Radio Lewisham
CATEGORIES:Radio Lewisham schedule
END:VEVENT
BEGIN:VEVENT
DTSTART;TZID=Europe/London:20261102T150000
DTEND;TZID=Europe/London:20261102T160000
DTSTAMP:20260424T054337
CREATED:20260305T211737Z
LAST-MODIFIED:20260305T211737Z
UID:15963-1793631600-1793635200@lewishammusic.org
SUMMARY:Sounds Foreign
DESCRIPTION:Music from outside the English-speaking world\, and an exploration of the cultures and stories behind the sounds.
URL:https://lewishammusic.org/event/sounds-foreign-35/
LOCATION:Radio Lewisham
CATEGORIES:Radio Lewisham schedule
END:VEVENT
BEGIN:VEVENT
DTSTART;TZID=Europe/London:20261102T163000
DTEND;TZID=Europe/London:20261102T173000
DTSTAMP:20260424T054337
CREATED:20260305T211935Z
LAST-MODIFIED:20260305T211935Z
UID:16006-1793637000-1793640600@lewishammusic.org
SUMMARY:Anything and Everything
DESCRIPTION:4 friends talk about anything and everything (hence the name)\, so come and join us for a yap session.
URL:https://lewishammusic.org/event/anything-and-everything-35/
LOCATION:Radio Lewisham
CATEGORIES:Radio Lewisham schedule
END:VEVENT
BEGIN:VEVENT
DTSTART;TZID=Europe/London:20261102T173000
DTEND;TZID=Europe/London:20261102T183000
DTSTAMP:20260424T054337
CREATED:20260305T212707Z
LAST-MODIFIED:20260305T212707Z
UID:16049-1793640600-1793644200@lewishammusic.org
SUMMARY:Unplugged
DESCRIPTION:From friendships and mental health\, to growth dilemmas and everyday moments\, this is a space for real conversations\, good music and feeling less alone.
URL:https://lewishammusic.org/event/unplugged-35/
LOCATION:Radio Lewisham
CATEGORIES:Radio Lewisham schedule
END:VEVENT
BEGIN:VEVENT
DTSTART;TZID=Europe/London:20261103T100000
DTEND;TZID=Europe/London:20261103T120000
DTSTAMP:20260424T054337
CREATED:20260305T212908Z
LAST-MODIFIED:20260305T212908Z
UID:16092-1793700000-1793707200@lewishammusic.org
SUMMARY:The Youth Voice Commission
DESCRIPTION:A series highlighting the authentic views\, interests and opinions of Lewisham’s young people.
URL:https://lewishammusic.org/event/the-youth-voice-commission-35/
LOCATION:Radio Lewisham
CATEGORIES:Radio Lewisham schedule
END:VEVENT
BEGIN:VEVENT
DTSTART;TZID=Europe/London:20261103T150000
DTEND;TZID=Europe/London:20261103T160000
DTSTAMP:20260424T054337
CREATED:20260305T213122Z
LAST-MODIFIED:20260305T213122Z
UID:16135-1793718000-1793721600@lewishammusic.org
SUMMARY:Really Chill w/ Jade and Ella
DESCRIPTION:2 chill girls with real opinions\, jokes that may not land and endless stories to share.
URL:https://lewishammusic.org/event/really-chill-w-jade-and-ella-35/
LOCATION:Radio Lewisham
CATEGORIES:Radio Lewisham schedule
END:VEVENT
BEGIN:VEVENT
DTSTART;TZID=Europe/London:20261103T170000
DTEND;TZID=Europe/London:20261103T180000
DTSTAMP:20260424T054337
CREATED:20260305T213337Z
LAST-MODIFIED:20260305T213337Z
UID:16178-1793725200-1793728800@lewishammusic.org
SUMMARY:Taio's Takeover
DESCRIPTION:Music enthusiast/ creator/ producer\, Taio talks all things music\, and much more!
URL:https://lewishammusic.org/event/taios-takeover-35/
LOCATION:Radio Lewisham
CATEGORIES:Radio Lewisham schedule
END:VEVENT
BEGIN:VEVENT
DTSTART;TZID=Europe/London:20261103T190000
DTEND;TZID=Europe/London:20261103T200000
DTSTAMP:20260424T054337
CREATED:20260305T213538Z
LAST-MODIFIED:20260305T213538Z
UID:16221-1793732400-1793736000@lewishammusic.org
SUMMARY:77 WATTS
DESCRIPTION:Young emerging presenters from Midi Music Company take over the mic to discuss the things that matter to them most.
URL:https://lewishammusic.org/event/77-watts-35/
LOCATION:Radio Lewisham
CATEGORIES:Radio Lewisham schedule
END:VEVENT
BEGIN:VEVENT
DTSTART;TZID=Europe/London:20261104T120000
DTEND;TZID=Europe/London:20261104T130000
DTSTAMP:20260424T054337
CREATED:20260305T213752Z
LAST-MODIFIED:20260305T213752Z
UID:16264-1793793600-1793797200@lewishammusic.org
SUMMARY:Good Soup!
DESCRIPTION:Interviews with upcoming creatives as they are tasked to digest 3 levels of spicy Nigerian pepper soup.
URL:https://lewishammusic.org/event/good-soup-35/
LOCATION:Radio Lewisham
CATEGORIES:Radio Lewisham schedule
END:VEVENT
END:VCALENDAR