BEGIN:VCALENDAR
VERSION:2.0
PRODID:-//Lewisham Music - ECPv6.15.16//NONSGML v1.0//EN
CALSCALE:GREGORIAN
METHOD:PUBLISH
X-WR-CALNAME:Lewisham Music
X-ORIGINAL-URL:https://lewishammusic.org
X-WR-CALDESC:Events for Lewisham Music
REFRESH-INTERVAL;VALUE=DURATION:PT1H
X-Robots-Tag:noindex
X-PUBLISHED-TTL:PT1H
BEGIN:VTIMEZONE
TZID:Europe/London
BEGIN:DAYLIGHT
TZOFFSETFROM:+0000
TZOFFSETTO:+0100
TZNAME:BST
DTSTART:20250330T010000
END:DAYLIGHT
BEGIN:STANDARD
TZOFFSETFROM:+0100
TZOFFSETTO:+0000
TZNAME:GMT
DTSTART:20251026T010000
END:STANDARD
BEGIN:DAYLIGHT
TZOFFSETFROM:+0000
TZOFFSETTO:+0100
TZNAME:BST
DTSTART:20260329T010000
END:DAYLIGHT
BEGIN:STANDARD
TZOFFSETFROM:+0100
TZOFFSETTO:+0000
TZNAME:GMT
DTSTART:20261025T010000
END:STANDARD
BEGIN:DAYLIGHT
TZOFFSETFROM:+0000
TZOFFSETTO:+0100
TZNAME:BST
DTSTART:20270328T010000
END:DAYLIGHT
BEGIN:STANDARD
TZOFFSETFROM:+0100
TZOFFSETTO:+0000
TZNAME:GMT
DTSTART:20271031T010000
END:STANDARD
END:VTIMEZONE
BEGIN:VEVENT
DTSTART;TZID=Europe/London:20261014T150000
DTEND;TZID=Europe/London:20261014T160000
DTSTAMP:20260424T042410
CREATED:20260305T213952Z
LAST-MODIFIED:20260305T213952Z
UID:16304-1791990000-1791993600@lewishammusic.org
SUMMARY:Indi’s Island Show
DESCRIPTION:Showcasing Caribbean music\, games and up to date news on the global diaspora.
URL:https://lewishammusic.org/event/indis-island-show-32/
LOCATION:Radio Lewisham
CATEGORIES:Radio Lewisham schedule
END:VEVENT
BEGIN:VEVENT
DTSTART;TZID=Europe/London:20261014T190000
DTEND;TZID=Europe/London:20261014T200000
DTSTAMP:20260424T042410
CREATED:20260305T214153Z
LAST-MODIFIED:20260305T214153Z
UID:16347-1792004400-1792008000@lewishammusic.org
SUMMARY:Lewisham Live and Local
DESCRIPTION:Your guide to the best venues\, events and emerging artists in the area.
URL:https://lewishammusic.org/event/lewisham-live-and-local-32/
LOCATION:Radio Lewisham
CATEGORIES:Radio Lewisham schedule
END:VEVENT
BEGIN:VEVENT
DTSTART;TZID=Europe/London:20261015T150000
DTEND;TZID=Europe/London:20261015T160000
DTSTAMP:20260424T042410
CREATED:20260305T214408Z
LAST-MODIFIED:20260305T214408Z
UID:16390-1792076400-1792080000@lewishammusic.org
SUMMARY:Siren Sounds
DESCRIPTION:A series of shows aiming to uplift women and gender diverse folk in music\, championing their individual contributions to the industry.
URL:https://lewishammusic.org/event/siren-sounds-32/
LOCATION:Radio Lewisham
CATEGORIES:Radio Lewisham schedule
END:VEVENT
BEGIN:VEVENT
DTSTART;TZID=Europe/London:20261015T170000
DTEND;TZID=Europe/London:20261015T180000
DTSTAMP:20260424T042410
CREATED:20260305T214622Z
LAST-MODIFIED:20260305T214622Z
UID:16433-1792083600-1792087200@lewishammusic.org
SUMMARY:Transportations w/ Daisy
DESCRIPTION:Daisy hopscotches through time\, place and genre to bring you expansive sounds from across the globe.
URL:https://lewishammusic.org/event/transportations-w-daisy-32/
LOCATION:Radio Lewisham
CATEGORIES:Radio Lewisham schedule
END:VEVENT
BEGIN:VEVENT
DTSTART;TZID=Europe/London:20261015T180000
DTEND;TZID=Europe/London:20261015T190000
DTSTAMP:20260424T042410
CREATED:20260305T214823Z
LAST-MODIFIED:20260305T214823Z
UID:16476-1792087200-1792090800@lewishammusic.org
SUMMARY:Offside! Women in sport
DESCRIPTION:A bold radio show exploring gender inequality in sport.
URL:https://lewishammusic.org/event/offside-women-in-sport-32/
LOCATION:Radio Lewisham
CATEGORIES:Radio Lewisham schedule
END:VEVENT
BEGIN:VEVENT
DTSTART;TZID=Europe/London:20261015T200000
DTEND;TZID=Europe/London:20261015T210000
DTSTAMP:20260424T042410
CREATED:20260305T215037Z
LAST-MODIFIED:20260305T215037Z
UID:16519-1792094400-1792098000@lewishammusic.org
SUMMARY:Lewisham's Schools and Youth Groups
DESCRIPTION:Join the conversation and get to know the young people of Lewisham’s diverse schools and youth groups.
URL:https://lewishammusic.org/event/lewishams-schools-and-youth-groups-32/
LOCATION:Radio Lewisham
CATEGORIES:Radio Lewisham schedule
END:VEVENT
BEGIN:VEVENT
DTSTART;TZID=Europe/London:20261016T100000
DTEND;TZID=Europe/London:20261016T110000
DTSTAMP:20260424T042410
CREATED:20260305T215251Z
LAST-MODIFIED:20260305T215251Z
UID:16563-1792144800-1792148400@lewishammusic.org
SUMMARY:CultureWave w/ Emanuel Duarte
DESCRIPTION:Through history\, language\, and food\, this show will allow you to see the world through a new lens.
URL:https://lewishammusic.org/event/culturewave-w-emanuel-duarte-33/
LOCATION:Radio Lewisham
CATEGORIES:Radio Lewisham schedule
END:VEVENT
BEGIN:VEVENT
DTSTART;TZID=Europe/London:20261016T120000
DTEND;TZID=Europe/London:20261016T130000
DTSTAMP:20260424T042410
CREATED:20260305T215453Z
LAST-MODIFIED:20260305T215453Z
UID:16607-1792152000-1792155600@lewishammusic.org
SUMMARY:Nesh and K Talks
DESCRIPTION:2 local lads share stories and give you a perspective through a Lewisham lens.
URL:https://lewishammusic.org/event/nesh-and-k-talks-33/
LOCATION:Radio Lewisham
CATEGORIES:Radio Lewisham schedule
END:VEVENT
BEGIN:VEVENT
DTSTART;TZID=Europe/London:20261016T150000
DTEND;TZID=Europe/London:20261016T160000
DTSTAMP:20260424T042410
CREATED:20260305T215708Z
LAST-MODIFIED:20260305T215708Z
UID:16651-1792162800-1792166400@lewishammusic.org
SUMMARY:Box of Niche
DESCRIPTION:Unboxing a box of…niche things.
URL:https://lewishammusic.org/event/box-of-niche-33/
LOCATION:Radio Lewisham
CATEGORIES:Radio Lewisham schedule
END:VEVENT
BEGIN:VEVENT
DTSTART;TZID=Europe/London:20261016T190000
DTEND;TZID=Europe/London:20261016T210000
DTSTAMP:20260424T042410
CREATED:20260305T215923Z
LAST-MODIFIED:20260305T215923Z
UID:16695-1792177200-1792184400@lewishammusic.org
SUMMARY:Undeniable Music Mix
DESCRIPTION:A monthly DJ mix from Lewisham’s Undeniable Records.
URL:https://lewishammusic.org/event/undeniable-music-mix-33/
LOCATION:Radio Lewisham
CATEGORIES:Radio Lewisham schedule
END:VEVENT
BEGIN:VEVENT
DTSTART;TZID=Europe/London:20261019T100000
DTEND;TZID=Europe/London:20261019T110000
DTSTAMP:20260424T042410
CREATED:20260219T170724Z
LAST-MODIFIED:20260305T210304Z
UID:15364-1792404000-1792407600@lewishammusic.org
SUMMARY:New Voices
DESCRIPTION:Features\, interviews\, and music from emerging Radio Lewisham presenters and producers.
URL:https://lewishammusic.org/event/new-voices-62/
LOCATION:Radio Lewisham
CATEGORIES:Radio Lewisham schedule
END:VEVENT
BEGIN:VEVENT
DTSTART;TZID=Europe/London:20261019T130000
DTEND;TZID=Europe/London:20261019T140000
DTSTAMP:20260424T042410
CREATED:20260219T175129Z
LAST-MODIFIED:20260305T211519Z
UID:15419-1792414800-1792418400@lewishammusic.org
SUMMARY:Real Talk w/ James Gava
DESCRIPTION:Spotlighting rising artists\, innovators\, and storytellers who are shaping culture from the ground up.
URL:https://lewishammusic.org/event/real-talk-w-james-gava-41/
LOCATION:Radio Lewisham
CATEGORIES:Radio Lewisham schedule
END:VEVENT
BEGIN:VEVENT
DTSTART;TZID=Europe/London:20261019T150000
DTEND;TZID=Europe/London:20261019T160000
DTSTAMP:20260424T042410
CREATED:20260305T211720Z
LAST-MODIFIED:20260305T211720Z
UID:15961-1792422000-1792425600@lewishammusic.org
SUMMARY:Sounds Foreign
DESCRIPTION:Music from outside the English-speaking world\, and an exploration of the cultures and stories behind the sounds.
URL:https://lewishammusic.org/event/sounds-foreign-33/
LOCATION:Radio Lewisham
CATEGORIES:Radio Lewisham schedule
END:VEVENT
BEGIN:VEVENT
DTSTART;TZID=Europe/London:20261019T163000
DTEND;TZID=Europe/London:20261019T173000
DTSTAMP:20260424T042410
CREATED:20260305T211934Z
LAST-MODIFIED:20260305T211934Z
UID:16004-1792427400-1792431000@lewishammusic.org
SUMMARY:Anything and Everything
DESCRIPTION:4 friends talk about anything and everything (hence the name)\, so come and join us for a yap session.
URL:https://lewishammusic.org/event/anything-and-everything-33/
LOCATION:Radio Lewisham
CATEGORIES:Radio Lewisham schedule
END:VEVENT
BEGIN:VEVENT
DTSTART;TZID=Europe/London:20261019T173000
DTEND;TZID=Europe/London:20261019T183000
DTSTAMP:20260424T042410
CREATED:20260305T212653Z
LAST-MODIFIED:20260305T212653Z
UID:16047-1792431000-1792434600@lewishammusic.org
SUMMARY:Unplugged
DESCRIPTION:From friendships and mental health\, to growth dilemmas and everyday moments\, this is a space for real conversations\, good music and feeling less alone.
URL:https://lewishammusic.org/event/unplugged-33/
LOCATION:Radio Lewisham
CATEGORIES:Radio Lewisham schedule
END:VEVENT
BEGIN:VEVENT
DTSTART;TZID=Europe/London:20261020T100000
DTEND;TZID=Europe/London:20261020T120000
DTSTAMP:20260424T042410
CREATED:20260305T212907Z
LAST-MODIFIED:20260305T212907Z
UID:16090-1792490400-1792497600@lewishammusic.org
SUMMARY:The Youth Voice Commission
DESCRIPTION:A series highlighting the authentic views\, interests and opinions of Lewisham’s young people.
URL:https://lewishammusic.org/event/the-youth-voice-commission-33/
LOCATION:Radio Lewisham
CATEGORIES:Radio Lewisham schedule
END:VEVENT
BEGIN:VEVENT
DTSTART;TZID=Europe/London:20261020T150000
DTEND;TZID=Europe/London:20261020T160000
DTSTAMP:20260424T042410
CREATED:20260305T213121Z
LAST-MODIFIED:20260305T213121Z
UID:16133-1792508400-1792512000@lewishammusic.org
SUMMARY:Really Chill w/ Jade and Ella
DESCRIPTION:2 chill girls with real opinions\, jokes that may not land and endless stories to share.
URL:https://lewishammusic.org/event/really-chill-w-jade-and-ella-33/
LOCATION:Radio Lewisham
CATEGORIES:Radio Lewisham schedule
END:VEVENT
BEGIN:VEVENT
DTSTART;TZID=Europe/London:20261020T170000
DTEND;TZID=Europe/London:20261020T180000
DTSTAMP:20260424T042410
CREATED:20260305T213323Z
LAST-MODIFIED:20260305T213323Z
UID:16176-1792515600-1792519200@lewishammusic.org
SUMMARY:Taio's Takeover
DESCRIPTION:Music enthusiast/ creator/ producer\, Taio talks all things music\, and much more!
URL:https://lewishammusic.org/event/taios-takeover-33/
LOCATION:Radio Lewisham
CATEGORIES:Radio Lewisham schedule
END:VEVENT
BEGIN:VEVENT
DTSTART;TZID=Europe/London:20261020T190000
DTEND;TZID=Europe/London:20261020T200000
DTSTAMP:20260424T042410
CREATED:20260305T213537Z
LAST-MODIFIED:20260305T213537Z
UID:16219-1792522800-1792526400@lewishammusic.org
SUMMARY:77 WATTS
DESCRIPTION:Young emerging presenters from Midi Music Company take over the mic to discuss the things that matter to them most.
URL:https://lewishammusic.org/event/77-watts-33/
LOCATION:Radio Lewisham
CATEGORIES:Radio Lewisham schedule
END:VEVENT
BEGIN:VEVENT
DTSTART;TZID=Europe/London:20261021T120000
DTEND;TZID=Europe/London:20261021T130000
DTSTAMP:20260424T042410
CREATED:20260305T213738Z
LAST-MODIFIED:20260305T213738Z
UID:16262-1792584000-1792587600@lewishammusic.org
SUMMARY:Good Soup!
DESCRIPTION:Interviews with upcoming creatives as they are tasked to digest 3 levels of spicy Nigerian pepper soup.
URL:https://lewishammusic.org/event/good-soup-33/
LOCATION:Radio Lewisham
CATEGORIES:Radio Lewisham schedule
END:VEVENT
BEGIN:VEVENT
DTSTART;TZID=Europe/London:20261021T150000
DTEND;TZID=Europe/London:20261021T160000
DTSTAMP:20260424T042410
CREATED:20260305T213952Z
LAST-MODIFIED:20260305T213952Z
UID:16305-1792594800-1792598400@lewishammusic.org
SUMMARY:Indi’s Island Show
DESCRIPTION:Showcasing Caribbean music\, games and up to date news on the global diaspora.
URL:https://lewishammusic.org/event/indis-island-show-33/
LOCATION:Radio Lewisham
CATEGORIES:Radio Lewisham schedule
END:VEVENT
BEGIN:VEVENT
DTSTART;TZID=Europe/London:20261021T190000
DTEND;TZID=Europe/London:20261021T200000
DTSTAMP:20260424T042410
CREATED:20260305T214207Z
LAST-MODIFIED:20260305T214207Z
UID:16348-1792609200-1792612800@lewishammusic.org
SUMMARY:Lewisham Live and Local
DESCRIPTION:Your guide to the best venues\, events and emerging artists in the area.
URL:https://lewishammusic.org/event/lewisham-live-and-local-33/
LOCATION:Radio Lewisham
CATEGORIES:Radio Lewisham schedule
END:VEVENT
BEGIN:VEVENT
DTSTART;TZID=Europe/London:20261022T150000
DTEND;TZID=Europe/London:20261022T160000
DTSTAMP:20260424T042410
CREATED:20260305T214408Z
LAST-MODIFIED:20260305T214408Z
UID:16391-1792681200-1792684800@lewishammusic.org
SUMMARY:Siren Sounds
DESCRIPTION:A series of shows aiming to uplift women and gender diverse folk in music\, championing their individual contributions to the industry.
URL:https://lewishammusic.org/event/siren-sounds-33/
LOCATION:Radio Lewisham
CATEGORIES:Radio Lewisham schedule
END:VEVENT
BEGIN:VEVENT
DTSTART;TZID=Europe/London:20261022T170000
DTEND;TZID=Europe/London:20261022T180000
DTSTAMP:20260424T042410
CREATED:20260305T214622Z
LAST-MODIFIED:20260305T214622Z
UID:16434-1792688400-1792692000@lewishammusic.org
SUMMARY:Transportations w/ Daisy
DESCRIPTION:Daisy hopscotches through time\, place and genre to bring you expansive sounds from across the globe.
URL:https://lewishammusic.org/event/transportations-w-daisy-33/
LOCATION:Radio Lewisham
CATEGORIES:Radio Lewisham schedule
END:VEVENT
BEGIN:VEVENT
DTSTART;TZID=Europe/London:20261022T180000
DTEND;TZID=Europe/London:20261022T190000
DTSTAMP:20260424T042410
CREATED:20260305T214824Z
LAST-MODIFIED:20260305T214824Z
UID:16477-1792692000-1792695600@lewishammusic.org
SUMMARY:Offside! Women in sport
DESCRIPTION:A bold radio show exploring gender inequality in sport.
URL:https://lewishammusic.org/event/offside-women-in-sport-33/
LOCATION:Radio Lewisham
CATEGORIES:Radio Lewisham schedule
END:VEVENT
BEGIN:VEVENT
DTSTART;TZID=Europe/London:20261022T200000
DTEND;TZID=Europe/London:20261022T210000
DTSTAMP:20260424T042410
CREATED:20260305T215037Z
LAST-MODIFIED:20260305T215037Z
UID:16520-1792699200-1792702800@lewishammusic.org
SUMMARY:Lewisham's Schools and Youth Groups
DESCRIPTION:Join the conversation and get to know the young people of Lewisham’s diverse schools and youth groups.
URL:https://lewishammusic.org/event/lewishams-schools-and-youth-groups-33/
LOCATION:Radio Lewisham
CATEGORIES:Radio Lewisham schedule
END:VEVENT
BEGIN:VEVENT
DTSTART;TZID=Europe/London:20261023T100000
DTEND;TZID=Europe/London:20261023T110000
DTSTAMP:20260424T042410
CREATED:20260305T215252Z
LAST-MODIFIED:20260305T215252Z
UID:16564-1792749600-1792753200@lewishammusic.org
SUMMARY:CultureWave w/ Emanuel Duarte
DESCRIPTION:Through history\, language\, and food\, this show will allow you to see the world through a new lens.
URL:https://lewishammusic.org/event/culturewave-w-emanuel-duarte-34/
LOCATION:Radio Lewisham
CATEGORIES:Radio Lewisham schedule
END:VEVENT
BEGIN:VEVENT
DTSTART;TZID=Europe/London:20261023T120000
DTEND;TZID=Europe/London:20261023T130000
DTSTAMP:20260424T042410
CREATED:20260305T215507Z
LAST-MODIFIED:20260305T215507Z
UID:16608-1792756800-1792760400@lewishammusic.org
SUMMARY:Nesh and K Talks
DESCRIPTION:2 local lads share stories and give you a perspective through a Lewisham lens.
URL:https://lewishammusic.org/event/nesh-and-k-talks-34/
LOCATION:Radio Lewisham
CATEGORIES:Radio Lewisham schedule
END:VEVENT
BEGIN:VEVENT
DTSTART;TZID=Europe/London:20261023T150000
DTEND;TZID=Europe/London:20261023T160000
DTSTAMP:20260424T042410
CREATED:20260305T215708Z
LAST-MODIFIED:20260305T215708Z
UID:16652-1792767600-1792771200@lewishammusic.org
SUMMARY:Box of Niche
DESCRIPTION:Unboxing a box of…niche things.
URL:https://lewishammusic.org/event/box-of-niche-34/
LOCATION:Radio Lewisham
CATEGORIES:Radio Lewisham schedule
END:VEVENT
BEGIN:VEVENT
DTSTART;TZID=Europe/London:20261023T190000
DTEND;TZID=Europe/London:20261023T210000
DTSTAMP:20260424T042410
CREATED:20260305T215923Z
LAST-MODIFIED:20260305T215923Z
UID:16696-1792782000-1792789200@lewishammusic.org
SUMMARY:Undeniable Music Mix
DESCRIPTION:A monthly DJ mix from Lewisham’s Undeniable Records.
URL:https://lewishammusic.org/event/undeniable-music-mix-34/
LOCATION:Radio Lewisham
CATEGORIES:Radio Lewisham schedule
END:VEVENT
END:VCALENDAR