BEGIN:VCALENDAR
VERSION:2.0
PRODID:-//Lewisham Music - ECPv6.15.16//NONSGML v1.0//EN
CALSCALE:GREGORIAN
METHOD:PUBLISH
X-WR-CALNAME:Lewisham Music
X-ORIGINAL-URL:https://lewishammusic.org
X-WR-CALDESC:Events for Lewisham Music
REFRESH-INTERVAL;VALUE=DURATION:PT1H
X-Robots-Tag:noindex
X-PUBLISHED-TTL:PT1H
BEGIN:VTIMEZONE
TZID:Europe/London
BEGIN:DAYLIGHT
TZOFFSETFROM:+0000
TZOFFSETTO:+0100
TZNAME:BST
DTSTART:20250330T010000
END:DAYLIGHT
BEGIN:STANDARD
TZOFFSETFROM:+0100
TZOFFSETTO:+0000
TZNAME:GMT
DTSTART:20251026T010000
END:STANDARD
BEGIN:DAYLIGHT
TZOFFSETFROM:+0000
TZOFFSETTO:+0100
TZNAME:BST
DTSTART:20260329T010000
END:DAYLIGHT
BEGIN:STANDARD
TZOFFSETFROM:+0100
TZOFFSETTO:+0000
TZNAME:GMT
DTSTART:20261025T010000
END:STANDARD
BEGIN:DAYLIGHT
TZOFFSETFROM:+0000
TZOFFSETTO:+0100
TZNAME:BST
DTSTART:20270328T010000
END:DAYLIGHT
BEGIN:STANDARD
TZOFFSETFROM:+0100
TZOFFSETTO:+0000
TZNAME:GMT
DTSTART:20271031T010000
END:STANDARD
END:VTIMEZONE
BEGIN:VEVENT
DTSTART;TZID=Europe/London:20260914T100000
DTEND;TZID=Europe/London:20260914T110000
DTSTAMP:20260423T233921
CREATED:20260219T170623Z
LAST-MODIFIED:20260305T210249Z
UID:15359-1789380000-1789383600@lewishammusic.org
SUMMARY:New Voices
DESCRIPTION:Features\, interviews\, and music from emerging Radio Lewisham presenters and producers.
URL:https://lewishammusic.org/event/new-voices-57/
LOCATION:Radio Lewisham
CATEGORIES:Radio Lewisham schedule
END:VEVENT
BEGIN:VEVENT
DTSTART;TZID=Europe/London:20260914T130000
DTEND;TZID=Europe/London:20260914T140000
DTSTAMP:20260423T233921
CREATED:20260219T174929Z
LAST-MODIFIED:20260305T211505Z
UID:15414-1789390800-1789394400@lewishammusic.org
SUMMARY:Real Talk w/ James Gava
DESCRIPTION:Spotlighting rising artists\, innovators\, and storytellers who are shaping culture from the ground up.
URL:https://lewishammusic.org/event/real-talk-w-james-gava-36/
LOCATION:Radio Lewisham
CATEGORIES:Radio Lewisham schedule
END:VEVENT
BEGIN:VEVENT
DTSTART;TZID=Europe/London:20260914T150000
DTEND;TZID=Europe/London:20260914T160000
DTSTAMP:20260423T233921
CREATED:20260305T211705Z
LAST-MODIFIED:20260305T211705Z
UID:15956-1789398000-1789401600@lewishammusic.org
SUMMARY:Sounds Foreign
DESCRIPTION:Music from outside the English-speaking world\, and an exploration of the cultures and stories behind the sounds.
URL:https://lewishammusic.org/event/sounds-foreign-28/
LOCATION:Radio Lewisham
CATEGORIES:Radio Lewisham schedule
END:VEVENT
BEGIN:VEVENT
DTSTART;TZID=Europe/London:20260914T163000
DTEND;TZID=Europe/London:20260914T173000
DTSTAMP:20260423T233921
CREATED:20260305T211919Z
LAST-MODIFIED:20260305T211919Z
UID:15999-1789403400-1789407000@lewishammusic.org
SUMMARY:Anything and Everything
DESCRIPTION:4 friends talk about anything and everything (hence the name)\, so come and join us for a yap session.
URL:https://lewishammusic.org/event/anything-and-everything-28/
LOCATION:Radio Lewisham
CATEGORIES:Radio Lewisham schedule
END:VEVENT
BEGIN:VEVENT
DTSTART;TZID=Europe/London:20260914T173000
DTEND;TZID=Europe/London:20260914T183000
DTSTAMP:20260423T233921
CREATED:20260305T212453Z
LAST-MODIFIED:20260305T212453Z
UID:16042-1789407000-1789410600@lewishammusic.org
SUMMARY:Unplugged
DESCRIPTION:From friendships and mental health\, to growth dilemmas and everyday moments\, this is a space for real conversations\, good music and feeling less alone.
URL:https://lewishammusic.org/event/unplugged-28/
LOCATION:Radio Lewisham
CATEGORIES:Radio Lewisham schedule
END:VEVENT
BEGIN:VEVENT
DTSTART;TZID=Europe/London:20260915T100000
DTEND;TZID=Europe/London:20260915T120000
DTSTAMP:20260423T233921
CREATED:20260305T212853Z
LAST-MODIFIED:20260305T212853Z
UID:16085-1789466400-1789473600@lewishammusic.org
SUMMARY:The Youth Voice Commission
DESCRIPTION:A series highlighting the authentic views\, interests and opinions of Lewisham’s young people.
URL:https://lewishammusic.org/event/the-youth-voice-commission-28/
LOCATION:Radio Lewisham
CATEGORIES:Radio Lewisham schedule
END:VEVENT
BEGIN:VEVENT
DTSTART;TZID=Europe/London:20260915T150000
DTEND;TZID=Europe/London:20260915T160000
DTSTAMP:20260423T233921
CREATED:20260305T213107Z
LAST-MODIFIED:20260305T213107Z
UID:16128-1789484400-1789488000@lewishammusic.org
SUMMARY:Really Chill w/ Jade and Ella
DESCRIPTION:2 chill girls with real opinions\, jokes that may not land and endless stories to share.
URL:https://lewishammusic.org/event/really-chill-w-jade-and-ella-28/
LOCATION:Radio Lewisham
CATEGORIES:Radio Lewisham schedule
END:VEVENT
BEGIN:VEVENT
DTSTART;TZID=Europe/London:20260915T170000
DTEND;TZID=Europe/London:20260915T180000
DTSTAMP:20260423T233921
CREATED:20260305T213308Z
LAST-MODIFIED:20260305T213308Z
UID:16171-1789491600-1789495200@lewishammusic.org
SUMMARY:Taio's Takeover
DESCRIPTION:Music enthusiast/ creator/ producer\, Taio talks all things music\, and much more!
URL:https://lewishammusic.org/event/taios-takeover-28/
LOCATION:Radio Lewisham
CATEGORIES:Radio Lewisham schedule
END:VEVENT
BEGIN:VEVENT
DTSTART;TZID=Europe/London:20260915T190000
DTEND;TZID=Europe/London:20260915T200000
DTSTAMP:20260423T233921
CREATED:20260305T213523Z
LAST-MODIFIED:20260305T213523Z
UID:16214-1789498800-1789502400@lewishammusic.org
SUMMARY:77 WATTS
DESCRIPTION:Young emerging presenters from Midi Music Company take over the mic to discuss the things that matter to them most.
URL:https://lewishammusic.org/event/77-watts-28/
LOCATION:Radio Lewisham
CATEGORIES:Radio Lewisham schedule
END:VEVENT
BEGIN:VEVENT
DTSTART;TZID=Europe/London:20260916T120000
DTEND;TZID=Europe/London:20260916T130000
DTSTAMP:20260423T233921
CREATED:20260305T213723Z
LAST-MODIFIED:20260305T213723Z
UID:16257-1789560000-1789563600@lewishammusic.org
SUMMARY:Good Soup!
DESCRIPTION:Interviews with upcoming creatives as they are tasked to digest 3 levels of spicy Nigerian pepper soup.
URL:https://lewishammusic.org/event/good-soup-28/
LOCATION:Radio Lewisham
CATEGORIES:Radio Lewisham schedule
END:VEVENT
BEGIN:VEVENT
DTSTART;TZID=Europe/London:20260916T150000
DTEND;TZID=Europe/London:20260916T160000
DTSTAMP:20260423T233921
CREATED:20260305T213937Z
LAST-MODIFIED:20260305T213937Z
UID:16300-1789570800-1789574400@lewishammusic.org
SUMMARY:Indi’s Island Show
DESCRIPTION:Showcasing Caribbean music\, games and up to date news on the global diaspora.
URL:https://lewishammusic.org/event/indis-island-show-28/
LOCATION:Radio Lewisham
CATEGORIES:Radio Lewisham schedule
END:VEVENT
BEGIN:VEVENT
DTSTART;TZID=Europe/London:20260916T190000
DTEND;TZID=Europe/London:20260916T200000
DTSTAMP:20260423T233921
CREATED:20260305T214151Z
LAST-MODIFIED:20260305T214151Z
UID:16343-1789585200-1789588800@lewishammusic.org
SUMMARY:Lewisham Live and Local
DESCRIPTION:Your guide to the best venues\, events and emerging artists in the area.
URL:https://lewishammusic.org/event/lewisham-live-and-local-28/
LOCATION:Radio Lewisham
CATEGORIES:Radio Lewisham schedule
END:VEVENT
BEGIN:VEVENT
DTSTART;TZID=Europe/London:20260917T150000
DTEND;TZID=Europe/London:20260917T160000
DTSTAMP:20260423T233921
CREATED:20260305T214353Z
LAST-MODIFIED:20260305T214353Z
UID:16386-1789657200-1789660800@lewishammusic.org
SUMMARY:Siren Sounds
DESCRIPTION:A series of shows aiming to uplift women and gender diverse folk in music\, championing their individual contributions to the industry.
URL:https://lewishammusic.org/event/siren-sounds-28/
LOCATION:Radio Lewisham
CATEGORIES:Radio Lewisham schedule
END:VEVENT
BEGIN:VEVENT
DTSTART;TZID=Europe/London:20260917T170000
DTEND;TZID=Europe/London:20260917T180000
DTSTAMP:20260423T233921
CREATED:20260305T214608Z
LAST-MODIFIED:20260305T214608Z
UID:16429-1789664400-1789668000@lewishammusic.org
SUMMARY:Transportations w/ Daisy
DESCRIPTION:Daisy hopscotches through time\, place and genre to bring you expansive sounds from across the globe.
URL:https://lewishammusic.org/event/transportations-w-daisy-28/
LOCATION:Radio Lewisham
CATEGORIES:Radio Lewisham schedule
END:VEVENT
BEGIN:VEVENT
DTSTART;TZID=Europe/London:20260917T180000
DTEND;TZID=Europe/London:20260917T190000
DTSTAMP:20260423T233921
CREATED:20260305T214809Z
LAST-MODIFIED:20260305T214809Z
UID:16472-1789668000-1789671600@lewishammusic.org
SUMMARY:Offside! Women in sport
DESCRIPTION:A bold radio show exploring gender inequality in sport.
URL:https://lewishammusic.org/event/offside-women-in-sport-28/
LOCATION:Radio Lewisham
CATEGORIES:Radio Lewisham schedule
END:VEVENT
BEGIN:VEVENT
DTSTART;TZID=Europe/London:20260917T200000
DTEND;TZID=Europe/London:20260917T210000
DTSTAMP:20260423T233921
CREATED:20260305T215023Z
LAST-MODIFIED:20260305T215023Z
UID:16515-1789675200-1789678800@lewishammusic.org
SUMMARY:Lewisham's Schools and Youth Groups
DESCRIPTION:Join the conversation and get to know the young people of Lewisham’s diverse schools and youth groups.
URL:https://lewishammusic.org/event/lewishams-schools-and-youth-groups-28/
LOCATION:Radio Lewisham
CATEGORIES:Radio Lewisham schedule
END:VEVENT
BEGIN:VEVENT
DTSTART;TZID=Europe/London:20260918T100000
DTEND;TZID=Europe/London:20260918T110000
DTSTAMP:20260423T233922
CREATED:20260305T215237Z
LAST-MODIFIED:20260305T215237Z
UID:16559-1789725600-1789729200@lewishammusic.org
SUMMARY:CultureWave w/ Emanuel Duarte
DESCRIPTION:Through history\, language\, and food\, this show will allow you to see the world through a new lens.
URL:https://lewishammusic.org/event/culturewave-w-emanuel-duarte-29/
LOCATION:Radio Lewisham
CATEGORIES:Radio Lewisham schedule
END:VEVENT
BEGIN:VEVENT
DTSTART;TZID=Europe/London:20260918T120000
DTEND;TZID=Europe/London:20260918T130000
DTSTAMP:20260423T233922
CREATED:20260305T215452Z
LAST-MODIFIED:20260305T215452Z
UID:16603-1789732800-1789736400@lewishammusic.org
SUMMARY:Nesh and K Talks
DESCRIPTION:2 local lads share stories and give you a perspective through a Lewisham lens.
URL:https://lewishammusic.org/event/nesh-and-k-talks-29/
LOCATION:Radio Lewisham
CATEGORIES:Radio Lewisham schedule
END:VEVENT
BEGIN:VEVENT
DTSTART;TZID=Europe/London:20260918T150000
DTEND;TZID=Europe/London:20260918T160000
DTSTAMP:20260423T233922
CREATED:20260305T215654Z
LAST-MODIFIED:20260305T215654Z
UID:16647-1789743600-1789747200@lewishammusic.org
SUMMARY:Box of Niche
DESCRIPTION:Unboxing a box of…niche things.
URL:https://lewishammusic.org/event/box-of-niche-29/
LOCATION:Radio Lewisham
CATEGORIES:Radio Lewisham schedule
END:VEVENT
BEGIN:VEVENT
DTSTART;TZID=Europe/London:20260918T190000
DTEND;TZID=Europe/London:20260918T210000
DTSTAMP:20260423T233922
CREATED:20260305T215908Z
LAST-MODIFIED:20260305T215908Z
UID:16691-1789758000-1789765200@lewishammusic.org
SUMMARY:Undeniable Music Mix
DESCRIPTION:A monthly DJ mix from Lewisham’s Undeniable Records.
URL:https://lewishammusic.org/event/undeniable-music-mix-29/
LOCATION:Radio Lewisham
CATEGORIES:Radio Lewisham schedule
END:VEVENT
BEGIN:VEVENT
DTSTART;TZID=Europe/London:20260921T100000
DTEND;TZID=Europe/London:20260921T110000
DTSTAMP:20260423T233922
CREATED:20260219T170623Z
LAST-MODIFIED:20260305T210249Z
UID:15360-1789984800-1789988400@lewishammusic.org
SUMMARY:New Voices
DESCRIPTION:Features\, interviews\, and music from emerging Radio Lewisham presenters and producers.
URL:https://lewishammusic.org/event/new-voices-58/
LOCATION:Radio Lewisham
CATEGORIES:Radio Lewisham schedule
END:VEVENT
BEGIN:VEVENT
DTSTART;TZID=Europe/London:20260921T130000
DTEND;TZID=Europe/London:20260921T140000
DTSTAMP:20260423T233922
CREATED:20260219T174929Z
LAST-MODIFIED:20260305T211505Z
UID:15415-1789995600-1789999200@lewishammusic.org
SUMMARY:Real Talk w/ James Gava
DESCRIPTION:Spotlighting rising artists\, innovators\, and storytellers who are shaping culture from the ground up.
URL:https://lewishammusic.org/event/real-talk-w-james-gava-37/
LOCATION:Radio Lewisham
CATEGORIES:Radio Lewisham schedule
END:VEVENT
BEGIN:VEVENT
DTSTART;TZID=Europe/London:20260921T150000
DTEND;TZID=Europe/London:20260921T160000
DTSTAMP:20260423T233922
CREATED:20260305T211706Z
LAST-MODIFIED:20260305T211706Z
UID:15957-1790002800-1790006400@lewishammusic.org
SUMMARY:Sounds Foreign
DESCRIPTION:Music from outside the English-speaking world\, and an exploration of the cultures and stories behind the sounds.
URL:https://lewishammusic.org/event/sounds-foreign-29/
LOCATION:Radio Lewisham
CATEGORIES:Radio Lewisham schedule
END:VEVENT
BEGIN:VEVENT
DTSTART;TZID=Europe/London:20260921T163000
DTEND;TZID=Europe/London:20260921T173000
DTSTAMP:20260423T233922
CREATED:20260305T211919Z
LAST-MODIFIED:20260305T211919Z
UID:16000-1790008200-1790011800@lewishammusic.org
SUMMARY:Anything and Everything
DESCRIPTION:4 friends talk about anything and everything (hence the name)\, so come and join us for a yap session.
URL:https://lewishammusic.org/event/anything-and-everything-29/
LOCATION:Radio Lewisham
CATEGORIES:Radio Lewisham schedule
END:VEVENT
BEGIN:VEVENT
DTSTART;TZID=Europe/London:20260921T173000
DTEND;TZID=Europe/London:20260921T183000
DTSTAMP:20260423T233922
CREATED:20260305T212652Z
LAST-MODIFIED:20260305T212652Z
UID:16043-1790011800-1790015400@lewishammusic.org
SUMMARY:Unplugged
DESCRIPTION:From friendships and mental health\, to growth dilemmas and everyday moments\, this is a space for real conversations\, good music and feeling less alone.
URL:https://lewishammusic.org/event/unplugged-29/
LOCATION:Radio Lewisham
CATEGORIES:Radio Lewisham schedule
END:VEVENT
BEGIN:VEVENT
DTSTART;TZID=Europe/London:20260922T100000
DTEND;TZID=Europe/London:20260922T120000
DTSTAMP:20260423T233922
CREATED:20260305T212853Z
LAST-MODIFIED:20260305T212853Z
UID:16086-1790071200-1790078400@lewishammusic.org
SUMMARY:The Youth Voice Commission
DESCRIPTION:A series highlighting the authentic views\, interests and opinions of Lewisham’s young people.
URL:https://lewishammusic.org/event/the-youth-voice-commission-29/
LOCATION:Radio Lewisham
CATEGORIES:Radio Lewisham schedule
END:VEVENT
BEGIN:VEVENT
DTSTART;TZID=Europe/London:20260922T150000
DTEND;TZID=Europe/London:20260922T160000
DTSTAMP:20260423T233922
CREATED:20260305T213107Z
LAST-MODIFIED:20260305T213107Z
UID:16129-1790089200-1790092800@lewishammusic.org
SUMMARY:Really Chill w/ Jade and Ella
DESCRIPTION:2 chill girls with real opinions\, jokes that may not land and endless stories to share.
URL:https://lewishammusic.org/event/really-chill-w-jade-and-ella-29/
LOCATION:Radio Lewisham
CATEGORIES:Radio Lewisham schedule
END:VEVENT
BEGIN:VEVENT
DTSTART;TZID=Europe/London:20260922T170000
DTEND;TZID=Europe/London:20260922T180000
DTSTAMP:20260423T233922
CREATED:20260305T213308Z
LAST-MODIFIED:20260305T213308Z
UID:16172-1790096400-1790100000@lewishammusic.org
SUMMARY:Taio's Takeover
DESCRIPTION:Music enthusiast/ creator/ producer\, Taio talks all things music\, and much more!
URL:https://lewishammusic.org/event/taios-takeover-29/
LOCATION:Radio Lewisham
CATEGORIES:Radio Lewisham schedule
END:VEVENT
BEGIN:VEVENT
DTSTART;TZID=Europe/London:20260922T190000
DTEND;TZID=Europe/London:20260922T200000
DTSTAMP:20260423T233922
CREATED:20260305T213523Z
LAST-MODIFIED:20260305T213523Z
UID:16215-1790103600-1790107200@lewishammusic.org
SUMMARY:77 WATTS
DESCRIPTION:Young emerging presenters from Midi Music Company take over the mic to discuss the things that matter to them most.
URL:https://lewishammusic.org/event/77-watts-29/
LOCATION:Radio Lewisham
CATEGORIES:Radio Lewisham schedule
END:VEVENT
BEGIN:VEVENT
DTSTART;TZID=Europe/London:20260923T120000
DTEND;TZID=Europe/London:20260923T130000
DTSTAMP:20260423T233922
CREATED:20260305T213737Z
LAST-MODIFIED:20260305T213737Z
UID:16258-1790164800-1790168400@lewishammusic.org
SUMMARY:Good Soup!
DESCRIPTION:Interviews with upcoming creatives as they are tasked to digest 3 levels of spicy Nigerian pepper soup.
URL:https://lewishammusic.org/event/good-soup-29/
LOCATION:Radio Lewisham
CATEGORIES:Radio Lewisham schedule
END:VEVENT
END:VCALENDAR