BEGIN:VCALENDAR
VERSION:2.0
PRODID:-//Lewisham Music - ECPv6.15.16//NONSGML v1.0//EN
CALSCALE:GREGORIAN
METHOD:PUBLISH
X-ORIGINAL-URL:https://lewishammusic.org
X-WR-CALDESC:Events for Lewisham Music
REFRESH-INTERVAL;VALUE=DURATION:PT1H
X-Robots-Tag:noindex
X-PUBLISHED-TTL:PT1H
BEGIN:VTIMEZONE
TZID:Europe/London
BEGIN:DAYLIGHT
TZOFFSETFROM:+0000
TZOFFSETTO:+0100
TZNAME:BST
DTSTART:20250330T010000
END:DAYLIGHT
BEGIN:STANDARD
TZOFFSETFROM:+0100
TZOFFSETTO:+0000
TZNAME:GMT
DTSTART:20251026T010000
END:STANDARD
BEGIN:DAYLIGHT
TZOFFSETFROM:+0000
TZOFFSETTO:+0100
TZNAME:BST
DTSTART:20260329T010000
END:DAYLIGHT
BEGIN:STANDARD
TZOFFSETFROM:+0100
TZOFFSETTO:+0000
TZNAME:GMT
DTSTART:20261025T010000
END:STANDARD
BEGIN:DAYLIGHT
TZOFFSETFROM:+0000
TZOFFSETTO:+0100
TZNAME:BST
DTSTART:20270328T010000
END:DAYLIGHT
BEGIN:STANDARD
TZOFFSETFROM:+0100
TZOFFSETTO:+0000
TZNAME:GMT
DTSTART:20271031T010000
END:STANDARD
END:VTIMEZONE
BEGIN:VEVENT
DTSTART;TZID=Europe/London:20260721T150000
DTEND;TZID=Europe/London:20260721T160000
DTSTAMP:20260423T055800
CREATED:20260305T213038Z
LAST-MODIFIED:20260305T213038Z
UID:16120-1784646000-1784649600@lewishammusic.org
SUMMARY:Really Chill w/ Jade and Ella
DESCRIPTION:2 chill girls with real opinions\, jokes that may not land and endless stories to share.
URL:https://lewishammusic.org/event/really-chill-w-jade-and-ella-20/
LOCATION:Radio Lewisham
CATEGORIES:Radio Lewisham schedule
END:VEVENT
BEGIN:VEVENT
DTSTART;TZID=Europe/London:20260721T170000
DTEND;TZID=Europe/London:20260721T180000
DTSTAMP:20260423T055800
CREATED:20260305T213252Z
LAST-MODIFIED:20260305T213252Z
UID:16163-1784653200-1784656800@lewishammusic.org
SUMMARY:Taio's Takeover
DESCRIPTION:Music enthusiast/ creator/ producer\, Taio talks all things music\, and much more!
URL:https://lewishammusic.org/event/taios-takeover-20/
LOCATION:Radio Lewisham
CATEGORIES:Radio Lewisham schedule
END:VEVENT
BEGIN:VEVENT
DTSTART;TZID=Europe/London:20260721T190000
DTEND;TZID=Europe/London:20260721T200000
DTSTAMP:20260423T055800
CREATED:20260305T213453Z
LAST-MODIFIED:20260305T213453Z
UID:16206-1784660400-1784664000@lewishammusic.org
SUMMARY:77 WATTS
DESCRIPTION:Young emerging presenters from Midi Music Company take over the mic to discuss the things that matter to them most.
URL:https://lewishammusic.org/event/77-watts-20/
LOCATION:Radio Lewisham
CATEGORIES:Radio Lewisham schedule
END:VEVENT
BEGIN:VEVENT
DTSTART;TZID=Europe/London:20260722T120000
DTEND;TZID=Europe/London:20260722T130000
DTSTAMP:20260423T055800
CREATED:20260305T213707Z
LAST-MODIFIED:20260305T213707Z
UID:16249-1784721600-1784725200@lewishammusic.org
SUMMARY:Good Soup!
DESCRIPTION:Interviews with upcoming creatives as they are tasked to digest 3 levels of spicy Nigerian pepper soup.
URL:https://lewishammusic.org/event/good-soup-20/
LOCATION:Radio Lewisham
CATEGORIES:Radio Lewisham schedule
END:VEVENT
BEGIN:VEVENT
DTSTART;TZID=Europe/London:20260722T150000
DTEND;TZID=Europe/London:20260722T160000
DTSTAMP:20260423T055800
CREATED:20260305T213908Z
LAST-MODIFIED:20260305T213908Z
UID:16292-1784732400-1784736000@lewishammusic.org
SUMMARY:Indi’s Island Show
DESCRIPTION:Showcasing Caribbean music\, games and up to date news on the global diaspora.
URL:https://lewishammusic.org/event/indis-island-show-20/
LOCATION:Radio Lewisham
CATEGORIES:Radio Lewisham schedule
END:VEVENT
BEGIN:VEVENT
DTSTART;TZID=Europe/London:20260722T190000
DTEND;TZID=Europe/London:20260722T200000
DTSTAMP:20260423T055800
CREATED:20260305T214123Z
LAST-MODIFIED:20260305T214123Z
UID:16335-1784746800-1784750400@lewishammusic.org
SUMMARY:Lewisham Live and Local
DESCRIPTION:Your guide to the best venues\, events and emerging artists in the area.
URL:https://lewishammusic.org/event/lewisham-live-and-local-20/
LOCATION:Radio Lewisham
CATEGORIES:Radio Lewisham schedule
END:VEVENT
BEGIN:VEVENT
DTSTART;TZID=Europe/London:20260723T150000
DTEND;TZID=Europe/London:20260723T160000
DTSTAMP:20260423T055800
CREATED:20260305T214337Z
LAST-MODIFIED:20260305T214337Z
UID:16378-1784818800-1784822400@lewishammusic.org
SUMMARY:Siren Sounds
DESCRIPTION:A series of shows aiming to uplift women and gender diverse folk in music\, championing their individual contributions to the industry.
URL:https://lewishammusic.org/event/siren-sounds-20/
LOCATION:Radio Lewisham
CATEGORIES:Radio Lewisham schedule
END:VEVENT
BEGIN:VEVENT
DTSTART;TZID=Europe/London:20260723T170000
DTEND;TZID=Europe/London:20260723T180000
DTSTAMP:20260423T055800
CREATED:20260305T214538Z
LAST-MODIFIED:20260305T214538Z
UID:16421-1784826000-1784829600@lewishammusic.org
SUMMARY:Transportations w/ Daisy
DESCRIPTION:Daisy hopscotches through time\, place and genre to bring you expansive sounds from across the globe.
URL:https://lewishammusic.org/event/transportations-w-daisy-20/
LOCATION:Radio Lewisham
CATEGORIES:Radio Lewisham schedule
END:VEVENT
BEGIN:VEVENT
DTSTART;TZID=Europe/London:20260723T180000
DTEND;TZID=Europe/London:20260723T190000
DTSTAMP:20260423T055800
CREATED:20260305T214752Z
LAST-MODIFIED:20260305T214752Z
UID:16464-1784829600-1784833200@lewishammusic.org
SUMMARY:Offside! Women in sport
DESCRIPTION:A bold radio show exploring gender inequality in sport.
URL:https://lewishammusic.org/event/offside-women-in-sport-20/
LOCATION:Radio Lewisham
CATEGORIES:Radio Lewisham schedule
END:VEVENT
BEGIN:VEVENT
DTSTART;TZID=Europe/London:20260723T200000
DTEND;TZID=Europe/London:20260723T210000
DTSTAMP:20260423T055800
CREATED:20260305T214953Z
LAST-MODIFIED:20260305T214953Z
UID:16507-1784836800-1784840400@lewishammusic.org
SUMMARY:Lewisham's Schools and Youth Groups
DESCRIPTION:Join the conversation and get to know the young people of Lewisham’s diverse schools and youth groups.
URL:https://lewishammusic.org/event/lewishams-schools-and-youth-groups-20/
LOCATION:Radio Lewisham
CATEGORIES:Radio Lewisham schedule
END:VEVENT
BEGIN:VEVENT
DTSTART;TZID=Europe/London:20260724T100000
DTEND;TZID=Europe/London:20260724T110000
DTSTAMP:20260423T055800
CREATED:20260305T215208Z
LAST-MODIFIED:20260305T215208Z
UID:16551-1784887200-1784890800@lewishammusic.org
SUMMARY:CultureWave w/ Emanuel Duarte
DESCRIPTION:Through history\, language\, and food\, this show will allow you to see the world through a new lens.
URL:https://lewishammusic.org/event/culturewave-w-emanuel-duarte-21/
LOCATION:Radio Lewisham
CATEGORIES:Radio Lewisham schedule
END:VEVENT
BEGIN:VEVENT
DTSTART;TZID=Europe/London:20260724T120000
DTEND;TZID=Europe/London:20260724T130000
DTSTAMP:20260423T055800
CREATED:20260305T215423Z
LAST-MODIFIED:20260305T215423Z
UID:16595-1784894400-1784898000@lewishammusic.org
SUMMARY:Nesh and K Talks
DESCRIPTION:2 local lads share stories and give you a perspective through a Lewisham lens.
URL:https://lewishammusic.org/event/nesh-and-k-talks-21/
LOCATION:Radio Lewisham
CATEGORIES:Radio Lewisham schedule
END:VEVENT
BEGIN:VEVENT
DTSTART;TZID=Europe/London:20260724T150000
DTEND;TZID=Europe/London:20260724T160000
DTSTAMP:20260423T055800
CREATED:20260305T215637Z
LAST-MODIFIED:20260305T215637Z
UID:16639-1784905200-1784908800@lewishammusic.org
SUMMARY:Box of Niche
DESCRIPTION:Unboxing a box of…niche things.
URL:https://lewishammusic.org/event/box-of-niche-21/
LOCATION:Radio Lewisham
CATEGORIES:Radio Lewisham schedule
END:VEVENT
BEGIN:VEVENT
DTSTART;TZID=Europe/London:20260724T190000
DTEND;TZID=Europe/London:20260724T210000
DTSTAMP:20260423T055800
CREATED:20260305T215852Z
LAST-MODIFIED:20260305T215852Z
UID:16683-1784919600-1784926800@lewishammusic.org
SUMMARY:Undeniable Music Mix
DESCRIPTION:A monthly DJ mix from Lewisham’s Undeniable Records.
URL:https://lewishammusic.org/event/undeniable-music-mix-21/
LOCATION:Radio Lewisham
CATEGORIES:Radio Lewisham schedule
END:VEVENT
BEGIN:VEVENT
DTSTART;TZID=Europe/London:20260727T100000
DTEND;TZID=Europe/London:20260727T110000
DTSTAMP:20260423T055800
CREATED:20260219T170554Z
LAST-MODIFIED:20260305T210234Z
UID:15352-1785146400-1785150000@lewishammusic.org
SUMMARY:New Voices
DESCRIPTION:Features\, interviews\, and music from emerging Radio Lewisham presenters and producers.
URL:https://lewishammusic.org/event/new-voices-50/
LOCATION:Radio Lewisham
CATEGORIES:Radio Lewisham schedule
END:VEVENT
BEGIN:VEVENT
DTSTART;TZID=Europe/London:20260727T130000
DTEND;TZID=Europe/London:20260727T140000
DTSTAMP:20260423T055800
CREATED:20260219T174530Z
LAST-MODIFIED:20260305T210434Z
UID:15407-1785157200-1785160800@lewishammusic.org
SUMMARY:Real Talk w/ James Gava
DESCRIPTION:Spotlighting rising artists\, innovators\, and storytellers who are shaping culture from the ground up.
URL:https://lewishammusic.org/event/real-talk-w-james-gava-29/
LOCATION:Radio Lewisham
CATEGORIES:Radio Lewisham schedule
END:VEVENT
BEGIN:VEVENT
DTSTART;TZID=Europe/London:20260727T150000
DTEND;TZID=Europe/London:20260727T160000
DTSTAMP:20260423T055800
CREATED:20260305T211649Z
LAST-MODIFIED:20260305T211649Z
UID:15949-1785164400-1785168000@lewishammusic.org
SUMMARY:Sounds Foreign
DESCRIPTION:Music from outside the English-speaking world\, and an exploration of the cultures and stories behind the sounds.
URL:https://lewishammusic.org/event/sounds-foreign-21/
LOCATION:Radio Lewisham
CATEGORIES:Radio Lewisham schedule
END:VEVENT
BEGIN:VEVENT
DTSTART;TZID=Europe/London:20260727T163000
DTEND;TZID=Europe/London:20260727T173000
DTSTAMP:20260423T055800
CREATED:20260305T211850Z
LAST-MODIFIED:20260305T211850Z
UID:15992-1785169800-1785173400@lewishammusic.org
SUMMARY:Anything and Everything
DESCRIPTION:4 friends talk about anything and everything (hence the name)\, so come and join us for a yap session.
URL:https://lewishammusic.org/event/anything-and-everything-21/
LOCATION:Radio Lewisham
CATEGORIES:Radio Lewisham schedule
END:VEVENT
BEGIN:VEVENT
DTSTART;TZID=Europe/London:20260727T173000
DTEND;TZID=Europe/London:20260727T183000
DTSTAMP:20260423T055800
CREATED:20260305T212437Z
LAST-MODIFIED:20260305T212437Z
UID:16035-1785173400-1785177000@lewishammusic.org
SUMMARY:Unplugged
DESCRIPTION:From friendships and mental health\, to growth dilemmas and everyday moments\, this is a space for real conversations\, good music and feeling less alone.
URL:https://lewishammusic.org/event/unplugged-21/
LOCATION:Radio Lewisham
CATEGORIES:Radio Lewisham schedule
END:VEVENT
BEGIN:VEVENT
DTSTART;TZID=Europe/London:20260728T100000
DTEND;TZID=Europe/London:20260728T120000
DTSTAMP:20260423T055800
CREATED:20260305T212837Z
LAST-MODIFIED:20260305T212837Z
UID:16078-1785232800-1785240000@lewishammusic.org
SUMMARY:The Youth Voice Commission
DESCRIPTION:A series highlighting the authentic views\, interests and opinions of Lewisham’s young people.
URL:https://lewishammusic.org/event/the-youth-voice-commission-21/
LOCATION:Radio Lewisham
CATEGORIES:Radio Lewisham schedule
END:VEVENT
BEGIN:VEVENT
DTSTART;TZID=Europe/London:20260728T150000
DTEND;TZID=Europe/London:20260728T160000
DTSTAMP:20260423T055800
CREATED:20260305T213038Z
LAST-MODIFIED:20260305T213038Z
UID:16121-1785250800-1785254400@lewishammusic.org
SUMMARY:Really Chill w/ Jade and Ella
DESCRIPTION:2 chill girls with real opinions\, jokes that may not land and endless stories to share.
URL:https://lewishammusic.org/event/really-chill-w-jade-and-ella-21/
LOCATION:Radio Lewisham
CATEGORIES:Radio Lewisham schedule
END:VEVENT
BEGIN:VEVENT
DTSTART;TZID=Europe/London:20260728T170000
DTEND;TZID=Europe/London:20260728T180000
DTSTAMP:20260423T055800
CREATED:20260305T213252Z
LAST-MODIFIED:20260305T213252Z
UID:16164-1785258000-1785261600@lewishammusic.org
SUMMARY:Taio's Takeover
DESCRIPTION:Music enthusiast/ creator/ producer\, Taio talks all things music\, and much more!
URL:https://lewishammusic.org/event/taios-takeover-21/
LOCATION:Radio Lewisham
CATEGORIES:Radio Lewisham schedule
END:VEVENT
BEGIN:VEVENT
DTSTART;TZID=Europe/London:20260728T190000
DTEND;TZID=Europe/London:20260728T200000
DTSTAMP:20260423T055800
CREATED:20260305T213453Z
LAST-MODIFIED:20260305T213453Z
UID:16207-1785265200-1785268800@lewishammusic.org
SUMMARY:77 WATTS
DESCRIPTION:Young emerging presenters from Midi Music Company take over the mic to discuss the things that matter to them most.
URL:https://lewishammusic.org/event/77-watts-21/
LOCATION:Radio Lewisham
CATEGORIES:Radio Lewisham schedule
END:VEVENT
BEGIN:VEVENT
DTSTART;TZID=Europe/London:20260729T120000
DTEND;TZID=Europe/London:20260729T130000
DTSTAMP:20260423T055800
CREATED:20260305T213707Z
LAST-MODIFIED:20260305T213707Z
UID:16250-1785326400-1785330000@lewishammusic.org
SUMMARY:Good Soup!
DESCRIPTION:Interviews with upcoming creatives as they are tasked to digest 3 levels of spicy Nigerian pepper soup.
URL:https://lewishammusic.org/event/good-soup-21/
LOCATION:Radio Lewisham
CATEGORIES:Radio Lewisham schedule
END:VEVENT
BEGIN:VEVENT
DTSTART;TZID=Europe/London:20260729T150000
DTEND;TZID=Europe/London:20260729T160000
DTSTAMP:20260423T055800
CREATED:20260305T213921Z
LAST-MODIFIED:20260305T213921Z
UID:16293-1785337200-1785340800@lewishammusic.org
SUMMARY:Indi’s Island Show
DESCRIPTION:Showcasing Caribbean music\, games and up to date news on the global diaspora.
URL:https://lewishammusic.org/event/indis-island-show-21/
LOCATION:Radio Lewisham
CATEGORIES:Radio Lewisham schedule
END:VEVENT
BEGIN:VEVENT
DTSTART;TZID=Europe/London:20260729T190000
DTEND;TZID=Europe/London:20260729T200000
DTSTAMP:20260423T055800
CREATED:20260305T214123Z
LAST-MODIFIED:20260305T214123Z
UID:16336-1785351600-1785355200@lewishammusic.org
SUMMARY:Lewisham Live and Local
DESCRIPTION:Your guide to the best venues\, events and emerging artists in the area.
URL:https://lewishammusic.org/event/lewisham-live-and-local-21/
LOCATION:Radio Lewisham
CATEGORIES:Radio Lewisham schedule
END:VEVENT
BEGIN:VEVENT
DTSTART;TZID=Europe/London:20260730T150000
DTEND;TZID=Europe/London:20260730T160000
DTSTAMP:20260423T055800
CREATED:20260305T214337Z
LAST-MODIFIED:20260305T214337Z
UID:16379-1785423600-1785427200@lewishammusic.org
SUMMARY:Siren Sounds
DESCRIPTION:A series of shows aiming to uplift women and gender diverse folk in music\, championing their individual contributions to the industry.
URL:https://lewishammusic.org/event/siren-sounds-21/
LOCATION:Radio Lewisham
CATEGORIES:Radio Lewisham schedule
END:VEVENT
BEGIN:VEVENT
DTSTART;TZID=Europe/London:20260730T170000
DTEND;TZID=Europe/London:20260730T180000
DTSTAMP:20260423T055800
CREATED:20260305T214538Z
LAST-MODIFIED:20260305T214538Z
UID:16422-1785430800-1785434400@lewishammusic.org
SUMMARY:Transportations w/ Daisy
DESCRIPTION:Daisy hopscotches through time\, place and genre to bring you expansive sounds from across the globe.
URL:https://lewishammusic.org/event/transportations-w-daisy-21/
LOCATION:Radio Lewisham
CATEGORIES:Radio Lewisham schedule
END:VEVENT
BEGIN:VEVENT
DTSTART;TZID=Europe/London:20260730T180000
DTEND;TZID=Europe/London:20260730T190000
DTSTAMP:20260423T055800
CREATED:20260305T214752Z
LAST-MODIFIED:20260305T214752Z
UID:16465-1785434400-1785438000@lewishammusic.org
SUMMARY:Offside! Women in sport
DESCRIPTION:A bold radio show exploring gender inequality in sport.
URL:https://lewishammusic.org/event/offside-women-in-sport-21/
LOCATION:Radio Lewisham
CATEGORIES:Radio Lewisham schedule
END:VEVENT
BEGIN:VEVENT
DTSTART;TZID=Europe/London:20260730T200000
DTEND;TZID=Europe/London:20260730T210000
DTSTAMP:20260423T055800
CREATED:20260305T215007Z
LAST-MODIFIED:20260305T215007Z
UID:16508-1785441600-1785445200@lewishammusic.org
SUMMARY:Lewisham's Schools and Youth Groups
DESCRIPTION:Join the conversation and get to know the young people of Lewisham’s diverse schools and youth groups.
URL:https://lewishammusic.org/event/lewishams-schools-and-youth-groups-21/
LOCATION:Radio Lewisham
CATEGORIES:Radio Lewisham schedule
END:VEVENT
END:VCALENDAR